BEGIN:VCALENDAR
VERSION:2.0
PRODID:-//DRK-Ortsverein Bissendorf e.V. - ECPv6.15.20//NONSGML v1.0//EN
CALSCALE:GREGORIAN
METHOD:PUBLISH
X-ORIGINAL-URL:https://dev.wp.drk-bissendorf.de
X-WR-CALDESC:Veranstaltungen für DRK-Ortsverein Bissendorf e.V.
REFRESH-INTERVAL;VALUE=DURATION:PT1H
X-Robots-Tag:noindex
X-PUBLISHED-TTL:PT1H
BEGIN:VTIMEZONE
TZID:Europe/Berlin
BEGIN:DAYLIGHT
TZOFFSETFROM:+0100
TZOFFSETTO:+0200
TZNAME:CEST
DTSTART:20270328T010000
END:DAYLIGHT
BEGIN:STANDARD
TZOFFSETFROM:+0200
TZOFFSETTO:+0100
TZNAME:CET
DTSTART:20271031T010000
END:STANDARD
BEGIN:DAYLIGHT
TZOFFSETFROM:+0100
TZOFFSETTO:+0200
TZNAME:CEST
DTSTART:20280326T010000
END:DAYLIGHT
BEGIN:STANDARD
TZOFFSETFROM:+0200
TZOFFSETTO:+0100
TZNAME:CET
DTSTART:20281029T010000
END:STANDARD
BEGIN:DAYLIGHT
TZOFFSETFROM:+0100
TZOFFSETTO:+0200
TZNAME:CEST
DTSTART:20290325T010000
END:DAYLIGHT
BEGIN:STANDARD
TZOFFSETFROM:+0200
TZOFFSETTO:+0100
TZNAME:CET
DTSTART:20291028T010000
END:STANDARD
END:VTIMEZONE
BEGIN:VEVENT
DTSTART;TZID=Europe/Berlin:20281016T100000
DTEND;TZID=Europe/Berlin:20281016T120000
DTSTAMP:20260424T020849
CREATED:20260317T223922Z
LAST-MODIFIED:20260317T225729Z
UID:10001227-1855303200-1855310400@dev.wp.drk-bissendorf.de
SUMMARY:Einkaufsfahrten zu Verbrauchermärkten
DESCRIPTION:Wir holen Sie an der Haustür ab und bringen Sie mit Ihren Einkäufen wieder nach Hause. Kostenfrei. \nAnmeldung unter mobil@drk-bissendorf.de oder 05402 965 01-02
URL:https://dev.wp.drk-bissendorf.de/event/einkaufsfahrten-zu-verbrauchermaerkten/2028-10-16/
CATEGORIES:Fahrdienst
ATTACH;FMTTYPE=image/jpeg:https://dev.wp.drk-bissendorf.de/wp-content/uploads/2026/03/Einkauf-mit-Mobil-scaled.jpg
ORGANIZER;CN="DRK-Ortsverein Bissendorf e.V.":MAILTO:anmeldung@drk-bissendorf.de
END:VEVENT
BEGIN:VEVENT
DTSTART;TZID=Europe/Berlin:20281019T150000
DTEND;TZID=Europe/Berlin:20281019T170000
DTSTAMP:20260424T020849
CREATED:20260317T225314Z
LAST-MODIFIED:20260317T225314Z
UID:10000824-1855580400-1855587600@dev.wp.drk-bissendorf.de
SUMMARY:Boule Gruppe I
DESCRIPTION:Jeden 1. und 3. Donnerstag im Monat.
URL:https://dev.wp.drk-bissendorf.de/event/boule-gruppe-i/2028-10-19/
LOCATION:Dorfgemeinschaftszentrum Jeggener Knütten\, Pfingstweg 112\, Bissendorf\, 49143\, Deutschland
CATEGORIES:Boule
ATTACH;FMTTYPE=image/jpeg:https://dev.wp.drk-bissendorf.de/wp-content/uploads/2026/03/semevent-boule-2458585_1920.jpg
ORGANIZER;CN="DRK-Ortsverein Bissendorf e.V.":MAILTO:anmeldung@drk-bissendorf.de
END:VEVENT
BEGIN:VEVENT
DTSTART;TZID=Europe/Berlin:20281023T100000
DTEND;TZID=Europe/Berlin:20281023T120000
DTSTAMP:20260424T020849
CREATED:20260317T223922Z
LAST-MODIFIED:20260317T225729Z
UID:10001228-1855908000-1855915200@dev.wp.drk-bissendorf.de
SUMMARY:Einkaufsfahrten zu Verbrauchermärkten
DESCRIPTION:Wir holen Sie an der Haustür ab und bringen Sie mit Ihren Einkäufen wieder nach Hause. Kostenfrei. \nAnmeldung unter mobil@drk-bissendorf.de oder 05402 965 01-02
URL:https://dev.wp.drk-bissendorf.de/event/einkaufsfahrten-zu-verbrauchermaerkten/2028-10-23/
CATEGORIES:Fahrdienst
ATTACH;FMTTYPE=image/jpeg:https://dev.wp.drk-bissendorf.de/wp-content/uploads/2026/03/Einkauf-mit-Mobil-scaled.jpg
ORGANIZER;CN="DRK-Ortsverein Bissendorf e.V.":MAILTO:anmeldung@drk-bissendorf.de
END:VEVENT
BEGIN:VEVENT
DTSTART;TZID=Europe/Berlin:20281025T100000
DTEND;TZID=Europe/Berlin:20281025T120000
DTSTAMP:20260424T020849
CREATED:20260317T222550Z
LAST-MODIFIED:20260407T193341Z
UID:10000352-1856080800-1856088000@dev.wp.drk-bissendorf.de
SUMMARY:Seniorensprechstunde in Bissendorf
DESCRIPTION:bei Heiko Grube\, Seniorenansprechpartner in der Gemeinde Bissendorf
URL:https://dev.wp.drk-bissendorf.de/event/seniorensprechstunde/2028-10-25/
LOCATION:Haus Bissendorf\, Kirchplatz 3\, Bissendorf\, 49143\, Germany
CATEGORIES:Beratung
ATTACH;FMTTYPE=image/jpeg:https://dev.wp.drk-bissendorf.de/wp-content/uploads/2026/03/resize_1596x1080.jpg
ORGANIZER;CN="DRK-Ortsverein Bissendorf e.V.":MAILTO:anmeldung@drk-bissendorf.de
END:VEVENT
BEGIN:VEVENT
DTSTART;TZID=Europe/Berlin:20281026T150000
DTEND;TZID=Europe/Berlin:20281026T170000
DTSTAMP:20260424T020849
CREATED:20260317T225519Z
LAST-MODIFIED:20260317T225641Z
UID:10001064-1856185200-1856192400@dev.wp.drk-bissendorf.de
SUMMARY:Boule Gruppe II
DESCRIPTION:Jeden 4. Donnerstag im Monat.
URL:https://dev.wp.drk-bissendorf.de/event/boule-gruppe-ii/2028-10-26/
LOCATION:Dorfgemeinschaftszentrum Jeggener Knütten\, Pfingstweg 112\, Bissendorf\, 49143\, Deutschland
CATEGORIES:Boule
ATTACH;FMTTYPE=image/jpeg:https://dev.wp.drk-bissendorf.de/wp-content/uploads/2026/03/semevent-boule-2458585_1920.jpg
ORGANIZER;CN="DRK-Ortsverein Bissendorf e.V.":MAILTO:anmeldung@drk-bissendorf.de
END:VEVENT
BEGIN:VEVENT
DTSTART;TZID=Europe/Berlin:20281027T100000
DTEND;TZID=Europe/Berlin:20281027T113000
DTSTAMP:20260424T020849
CREATED:20260317T223006Z
LAST-MODIFIED:20260407T193331Z
UID:10000472-1856253600-1856259000@dev.wp.drk-bissendorf.de
SUMMARY:Seniorensprechstunde in Schledehausen
DESCRIPTION:bei Heiko Grube\, Seniorenansprechpartner in der Gemeinde Bissendorf
URL:https://dev.wp.drk-bissendorf.de/event/seniorensprechstunde-2/2028-10-27/
LOCATION:Bürgerbüro Schledehausen\, Bergstr. 19\, Bissendorf\, 49143\, Germany
CATEGORIES:Beratung
ATTACH;FMTTYPE=image/jpeg:https://dev.wp.drk-bissendorf.de/wp-content/uploads/2026/03/resize_1596x1080.jpg
ORGANIZER;CN="DRK-Ortsverein Bissendorf e.V.":MAILTO:anmeldung@drk-bissendorf.de
END:VEVENT
BEGIN:VEVENT
DTSTART;TZID=Europe/Berlin:20281030T100000
DTEND;TZID=Europe/Berlin:20281030T120000
DTSTAMP:20260424T020849
CREATED:20260317T223922Z
LAST-MODIFIED:20260317T225729Z
UID:10001229-1856512800-1856520000@dev.wp.drk-bissendorf.de
SUMMARY:Einkaufsfahrten zu Verbrauchermärkten
DESCRIPTION:Wir holen Sie an der Haustür ab und bringen Sie mit Ihren Einkäufen wieder nach Hause. Kostenfrei. \nAnmeldung unter mobil@drk-bissendorf.de oder 05402 965 01-02
URL:https://dev.wp.drk-bissendorf.de/event/einkaufsfahrten-zu-verbrauchermaerkten/2028-10-30/
CATEGORIES:Fahrdienst
ATTACH;FMTTYPE=image/jpeg:https://dev.wp.drk-bissendorf.de/wp-content/uploads/2026/03/Einkauf-mit-Mobil-scaled.jpg
ORGANIZER;CN="DRK-Ortsverein Bissendorf e.V.":MAILTO:anmeldung@drk-bissendorf.de
END:VEVENT
BEGIN:VEVENT
DTSTART;TZID=Europe/Berlin:20281030T143000
DTEND;TZID=Europe/Berlin:20281030T160000
DTSTAMP:20260424T020849
CREATED:20230522T190953Z
LAST-MODIFIED:20260318T121905Z
UID:10000195-1856529000-1856534400@dev.wp.drk-bissendorf.de
SUMMARY:Demenzberatung
DESCRIPTION:In Zusammenarbeit mit der Alzheimer-Gesellschaft Melle e.V.. Richtet sich besonders an pflegende Partner\, Familie und Freunde. Aus persönlichen Erfahrungen werden Informationen zur Krankheit und den Umgang mit Erkrankten gegeben \nAnmeldung unter 05402 965 01-01 oder anmeldung@drk-bissendorf.de
URL:https://dev.wp.drk-bissendorf.de/event/demenzberatung-3/2028-10-30/
LOCATION:Dorfgemeinschaftszentrum Jeggener Knütten\, Pfingstweg 112\, Bissendorf\, 49143\, Deutschland
CATEGORIES:Beratung
ORGANIZER;CN="DRK-Ortsverein Bissendorf e.V.":MAILTO:anmeldung@drk-bissendorf.de
END:VEVENT
BEGIN:VEVENT
DTSTART;TZID=Europe/Berlin:20281102T150000
DTEND;TZID=Europe/Berlin:20281102T170000
DTSTAMP:20260424T020849
CREATED:20260317T225350Z
LAST-MODIFIED:20260317T225350Z
UID:10000944-1856790000-1856797200@dev.wp.drk-bissendorf.de
SUMMARY:Boule Gruppe I
DESCRIPTION:Jeden 1. und 3. Donnerstag im Monat.
URL:https://dev.wp.drk-bissendorf.de/event/boule-gruppe-i-2/2028-11-02/
LOCATION:Dorfgemeinschaftszentrum Jeggener Knütten\, Pfingstweg 112\, Bissendorf\, 49143\, Deutschland
CATEGORIES:Boule
ATTACH;FMTTYPE=image/jpeg:https://dev.wp.drk-bissendorf.de/wp-content/uploads/2026/03/semevent-boule-2458585_1920.jpg
ORGANIZER;CN="DRK-Ortsverein Bissendorf e.V.":MAILTO:anmeldung@drk-bissendorf.de
END:VEVENT
BEGIN:VEVENT
DTSTART;TZID=Europe/Berlin:20281102T153000
DTEND;TZID=Europe/Berlin:20281102T170000
DTSTAMP:20260424T020849
CREATED:20230830T103930Z
LAST-MODIFIED:20260407T194729Z
UID:10000254-1856791800-1856797200@dev.wp.drk-bissendorf.de
SUMMARY:Medien- und Techniklotsen/innen
DESCRIPTION:Die digitale Welt wird täglich größer und verändert sich rasant. Schnell verliert man da den Überblick! Die Medien- und Techniklotsen/innen versuchen Sie zu unterstützen und möchten Ihnen Mut machen mit digitalen Medien Ihren Alltag zu erleichtern
URL:https://dev.wp.drk-bissendorf.de/event/mut-medien-und-techniklotsen-innen-bissendorf/2028-11-02/
LOCATION:Dorfgemeinschaftszentrum Jeggener Knütten\, Pfingstweg 112\, Bissendorf\, 49143\, Deutschland
CATEGORIES:Beratung,Gesundheit & Soziales
ORGANIZER;CN="DRK-Ortsverein Bissendorf e.V.":MAILTO:anmeldung@drk-bissendorf.de
END:VEVENT
BEGIN:VEVENT
DTSTART;TZID=Europe/Berlin:20281106T100000
DTEND;TZID=Europe/Berlin:20281106T120000
DTSTAMP:20260424T020849
CREATED:20260317T223922Z
LAST-MODIFIED:20260317T225729Z
UID:10001230-1857117600-1857124800@dev.wp.drk-bissendorf.de
SUMMARY:Einkaufsfahrten zu Verbrauchermärkten
DESCRIPTION:Wir holen Sie an der Haustür ab und bringen Sie mit Ihren Einkäufen wieder nach Hause. Kostenfrei. \nAnmeldung unter mobil@drk-bissendorf.de oder 05402 965 01-02
URL:https://dev.wp.drk-bissendorf.de/event/einkaufsfahrten-zu-verbrauchermaerkten/2028-11-06/
CATEGORIES:Fahrdienst
ATTACH;FMTTYPE=image/jpeg:https://dev.wp.drk-bissendorf.de/wp-content/uploads/2026/03/Einkauf-mit-Mobil-scaled.jpg
ORGANIZER;CN="DRK-Ortsverein Bissendorf e.V.":MAILTO:anmeldung@drk-bissendorf.de
END:VEVENT
BEGIN:VEVENT
DTSTART;TZID=Europe/Berlin:20281109T150000
DTEND;TZID=Europe/Berlin:20281109T173000
DTSTAMP:20260424T020849
CREATED:20230522T183036Z
LAST-MODIFIED:20240308T074535Z
UID:10000315-1857394800-1857403800@dev.wp.drk-bissendorf.de
SUMMARY:Spielenachmittag
DESCRIPTION:
URL:https://dev.wp.drk-bissendorf.de/event/spielenachmittag-5/2028-11-09/
LOCATION:Dorfgemeinschaftszentrum Jeggener Knütten\, Pfingstweg 112\, Bissendorf\, 49143\, Deutschland
CATEGORIES:Spielenachmittag
ATTACH;FMTTYPE=image/jpeg:https://dev.wp.drk-bissendorf.de/wp-content/uploads/2023/05/thomas-buchholz-0n7_eiAQZwA-unsplash-2.jpg
ORGANIZER;CN="DRK-Ortsverein Bissendorf e.V.":MAILTO:anmeldung@drk-bissendorf.de
END:VEVENT
BEGIN:VEVENT
DTSTART;TZID=Europe/Berlin:20281113T100000
DTEND;TZID=Europe/Berlin:20281113T120000
DTSTAMP:20260424T020849
CREATED:20260317T223922Z
LAST-MODIFIED:20260317T225729Z
UID:10001231-1857722400-1857729600@dev.wp.drk-bissendorf.de
SUMMARY:Einkaufsfahrten zu Verbrauchermärkten
DESCRIPTION:Wir holen Sie an der Haustür ab und bringen Sie mit Ihren Einkäufen wieder nach Hause. Kostenfrei. \nAnmeldung unter mobil@drk-bissendorf.de oder 05402 965 01-02
URL:https://dev.wp.drk-bissendorf.de/event/einkaufsfahrten-zu-verbrauchermaerkten/2028-11-13/
CATEGORIES:Fahrdienst
ATTACH;FMTTYPE=image/jpeg:https://dev.wp.drk-bissendorf.de/wp-content/uploads/2026/03/Einkauf-mit-Mobil-scaled.jpg
ORGANIZER;CN="DRK-Ortsverein Bissendorf e.V.":MAILTO:anmeldung@drk-bissendorf.de
END:VEVENT
BEGIN:VEVENT
DTSTART;TZID=Europe/Berlin:20281115T093000
DTEND;TZID=Europe/Berlin:20281115T120000
DTSTAMP:20260424T020849
CREATED:20260317T224546Z
LAST-MODIFIED:20260317T224546Z
UID:10000779-1857893400-1857902400@dev.wp.drk-bissendorf.de
SUMMARY:Seniorenfrühstück
DESCRIPTION:Anmeldung jeweils zwischen dem 1. und 10. des jeweiligen Monats unter anmeldung@drk-bissendorf.de oder 05402 965 01-01.
URL:https://dev.wp.drk-bissendorf.de/event/seniorenfruehstueck-4/2028-11-15/
LOCATION:Dorfgemeinschaftszentrum Jeggener Knütten\, Pfingstweg 112\, Bissendorf\, 49143\, Deutschland
ORGANIZER;CN="DRK-Ortsverein Bissendorf e.V.":MAILTO:anmeldung@drk-bissendorf.de
END:VEVENT
BEGIN:VEVENT
DTSTART;TZID=Europe/Berlin:20281116T150000
DTEND;TZID=Europe/Berlin:20281116T170000
DTSTAMP:20260424T020849
CREATED:20260317T225314Z
LAST-MODIFIED:20260317T225314Z
UID:10000825-1857999600-1858006800@dev.wp.drk-bissendorf.de
SUMMARY:Boule Gruppe I
DESCRIPTION:Jeden 1. und 3. Donnerstag im Monat.
URL:https://dev.wp.drk-bissendorf.de/event/boule-gruppe-i/2028-11-16/
LOCATION:Dorfgemeinschaftszentrum Jeggener Knütten\, Pfingstweg 112\, Bissendorf\, 49143\, Deutschland
CATEGORIES:Boule
ATTACH;FMTTYPE=image/jpeg:https://dev.wp.drk-bissendorf.de/wp-content/uploads/2026/03/semevent-boule-2458585_1920.jpg
ORGANIZER;CN="DRK-Ortsverein Bissendorf e.V.":MAILTO:anmeldung@drk-bissendorf.de
END:VEVENT
BEGIN:VEVENT
DTSTART;TZID=Europe/Berlin:20281120T100000
DTEND;TZID=Europe/Berlin:20281120T120000
DTSTAMP:20260424T020849
CREATED:20260317T223922Z
LAST-MODIFIED:20260317T225729Z
UID:10001232-1858327200-1858334400@dev.wp.drk-bissendorf.de
SUMMARY:Einkaufsfahrten zu Verbrauchermärkten
DESCRIPTION:Wir holen Sie an der Haustür ab und bringen Sie mit Ihren Einkäufen wieder nach Hause. Kostenfrei. \nAnmeldung unter mobil@drk-bissendorf.de oder 05402 965 01-02
URL:https://dev.wp.drk-bissendorf.de/event/einkaufsfahrten-zu-verbrauchermaerkten/2028-11-20/
CATEGORIES:Fahrdienst
ATTACH;FMTTYPE=image/jpeg:https://dev.wp.drk-bissendorf.de/wp-content/uploads/2026/03/Einkauf-mit-Mobil-scaled.jpg
ORGANIZER;CN="DRK-Ortsverein Bissendorf e.V.":MAILTO:anmeldung@drk-bissendorf.de
END:VEVENT
BEGIN:VEVENT
DTSTART;TZID=Europe/Berlin:20281122T100000
DTEND;TZID=Europe/Berlin:20281122T120000
DTSTAMP:20260424T020849
CREATED:20260317T222550Z
LAST-MODIFIED:20260407T193341Z
UID:10000353-1858500000-1858507200@dev.wp.drk-bissendorf.de
SUMMARY:Seniorensprechstunde in Bissendorf
DESCRIPTION:bei Heiko Grube\, Seniorenansprechpartner in der Gemeinde Bissendorf
URL:https://dev.wp.drk-bissendorf.de/event/seniorensprechstunde/2028-11-22/
LOCATION:Haus Bissendorf\, Kirchplatz 3\, Bissendorf\, 49143\, Germany
CATEGORIES:Beratung
ATTACH;FMTTYPE=image/jpeg:https://dev.wp.drk-bissendorf.de/wp-content/uploads/2026/03/resize_1596x1080.jpg
ORGANIZER;CN="DRK-Ortsverein Bissendorf e.V.":MAILTO:anmeldung@drk-bissendorf.de
END:VEVENT
BEGIN:VEVENT
DTSTART;TZID=Europe/Berlin:20281123T150000
DTEND;TZID=Europe/Berlin:20281123T170000
DTSTAMP:20260424T020849
CREATED:20260317T225519Z
LAST-MODIFIED:20260317T225641Z
UID:10001065-1858604400-1858611600@dev.wp.drk-bissendorf.de
SUMMARY:Boule Gruppe II
DESCRIPTION:Jeden 4. Donnerstag im Monat.
URL:https://dev.wp.drk-bissendorf.de/event/boule-gruppe-ii/2028-11-23/
LOCATION:Dorfgemeinschaftszentrum Jeggener Knütten\, Pfingstweg 112\, Bissendorf\, 49143\, Deutschland
CATEGORIES:Boule
ATTACH;FMTTYPE=image/jpeg:https://dev.wp.drk-bissendorf.de/wp-content/uploads/2026/03/semevent-boule-2458585_1920.jpg
ORGANIZER;CN="DRK-Ortsverein Bissendorf e.V.":MAILTO:anmeldung@drk-bissendorf.de
END:VEVENT
BEGIN:VEVENT
DTSTART;TZID=Europe/Berlin:20281124T100000
DTEND;TZID=Europe/Berlin:20281124T113000
DTSTAMP:20260424T020849
CREATED:20260317T223006Z
LAST-MODIFIED:20260407T193331Z
UID:10000473-1858672800-1858678200@dev.wp.drk-bissendorf.de
SUMMARY:Seniorensprechstunde in Schledehausen
DESCRIPTION:bei Heiko Grube\, Seniorenansprechpartner in der Gemeinde Bissendorf
URL:https://dev.wp.drk-bissendorf.de/event/seniorensprechstunde-2/2028-11-24/
LOCATION:Bürgerbüro Schledehausen\, Bergstr. 19\, Bissendorf\, 49143\, Germany
CATEGORIES:Beratung
ATTACH;FMTTYPE=image/jpeg:https://dev.wp.drk-bissendorf.de/wp-content/uploads/2026/03/resize_1596x1080.jpg
ORGANIZER;CN="DRK-Ortsverein Bissendorf e.V.":MAILTO:anmeldung@drk-bissendorf.de
END:VEVENT
BEGIN:VEVENT
DTSTART;TZID=Europe/Berlin:20281127T100000
DTEND;TZID=Europe/Berlin:20281127T120000
DTSTAMP:20260424T020849
CREATED:20260317T223922Z
LAST-MODIFIED:20260317T225729Z
UID:10001233-1858932000-1858939200@dev.wp.drk-bissendorf.de
SUMMARY:Einkaufsfahrten zu Verbrauchermärkten
DESCRIPTION:Wir holen Sie an der Haustür ab und bringen Sie mit Ihren Einkäufen wieder nach Hause. Kostenfrei. \nAnmeldung unter mobil@drk-bissendorf.de oder 05402 965 01-02
URL:https://dev.wp.drk-bissendorf.de/event/einkaufsfahrten-zu-verbrauchermaerkten/2028-11-27/
CATEGORIES:Fahrdienst
ATTACH;FMTTYPE=image/jpeg:https://dev.wp.drk-bissendorf.de/wp-content/uploads/2026/03/Einkauf-mit-Mobil-scaled.jpg
ORGANIZER;CN="DRK-Ortsverein Bissendorf e.V.":MAILTO:anmeldung@drk-bissendorf.de
END:VEVENT
BEGIN:VEVENT
DTSTART;TZID=Europe/Berlin:20281127T143000
DTEND;TZID=Europe/Berlin:20281127T160000
DTSTAMP:20260424T020849
CREATED:20230522T190953Z
LAST-MODIFIED:20260318T121905Z
UID:10001567-1858948200-1858953600@dev.wp.drk-bissendorf.de
SUMMARY:Demenzberatung
DESCRIPTION:In Zusammenarbeit mit der Alzheimer-Gesellschaft Melle e.V.. Richtet sich besonders an pflegende Partner\, Familie und Freunde. Aus persönlichen Erfahrungen werden Informationen zur Krankheit und den Umgang mit Erkrankten gegeben \nAnmeldung unter 05402 965 01-01 oder anmeldung@drk-bissendorf.de
URL:https://dev.wp.drk-bissendorf.de/event/demenzberatung-3/2028-11-27/
LOCATION:Dorfgemeinschaftszentrum Jeggener Knütten\, Pfingstweg 112\, Bissendorf\, 49143\, Deutschland
CATEGORIES:Beratung
ORGANIZER;CN="DRK-Ortsverein Bissendorf e.V.":MAILTO:anmeldung@drk-bissendorf.de
END:VEVENT
BEGIN:VEVENT
DTSTART;TZID=Europe/Berlin:20281204T100000
DTEND;TZID=Europe/Berlin:20281204T120000
DTSTAMP:20260424T020849
CREATED:20260317T223922Z
LAST-MODIFIED:20260317T225729Z
UID:10001234-1859536800-1859544000@dev.wp.drk-bissendorf.de
SUMMARY:Einkaufsfahrten zu Verbrauchermärkten
DESCRIPTION:Wir holen Sie an der Haustür ab und bringen Sie mit Ihren Einkäufen wieder nach Hause. Kostenfrei. \nAnmeldung unter mobil@drk-bissendorf.de oder 05402 965 01-02
URL:https://dev.wp.drk-bissendorf.de/event/einkaufsfahrten-zu-verbrauchermaerkten/2028-12-04/
CATEGORIES:Fahrdienst
ATTACH;FMTTYPE=image/jpeg:https://dev.wp.drk-bissendorf.de/wp-content/uploads/2026/03/Einkauf-mit-Mobil-scaled.jpg
ORGANIZER;CN="DRK-Ortsverein Bissendorf e.V.":MAILTO:anmeldung@drk-bissendorf.de
END:VEVENT
BEGIN:VEVENT
DTSTART;TZID=Europe/Berlin:20281207T150000
DTEND;TZID=Europe/Berlin:20281207T170000
DTSTAMP:20260424T020849
CREATED:20260317T225350Z
LAST-MODIFIED:20260317T225350Z
UID:10000945-1859814000-1859821200@dev.wp.drk-bissendorf.de
SUMMARY:Boule Gruppe I
DESCRIPTION:Jeden 1. und 3. Donnerstag im Monat.
URL:https://dev.wp.drk-bissendorf.de/event/boule-gruppe-i-2/2028-12-07/
LOCATION:Dorfgemeinschaftszentrum Jeggener Knütten\, Pfingstweg 112\, Bissendorf\, 49143\, Deutschland
CATEGORIES:Boule
ATTACH;FMTTYPE=image/jpeg:https://dev.wp.drk-bissendorf.de/wp-content/uploads/2026/03/semevent-boule-2458585_1920.jpg
ORGANIZER;CN="DRK-Ortsverein Bissendorf e.V.":MAILTO:anmeldung@drk-bissendorf.de
END:VEVENT
BEGIN:VEVENT
DTSTART;TZID=Europe/Berlin:20281207T153000
DTEND;TZID=Europe/Berlin:20281207T170000
DTSTAMP:20260424T020849
CREATED:20230830T103930Z
LAST-MODIFIED:20260407T194729Z
UID:10001622-1859815800-1859821200@dev.wp.drk-bissendorf.de
SUMMARY:Medien- und Techniklotsen/innen
DESCRIPTION:Die digitale Welt wird täglich größer und verändert sich rasant. Schnell verliert man da den Überblick! Die Medien- und Techniklotsen/innen versuchen Sie zu unterstützen und möchten Ihnen Mut machen mit digitalen Medien Ihren Alltag zu erleichtern
URL:https://dev.wp.drk-bissendorf.de/event/mut-medien-und-techniklotsen-innen-bissendorf/2028-12-07/
LOCATION:Dorfgemeinschaftszentrum Jeggener Knütten\, Pfingstweg 112\, Bissendorf\, 49143\, Deutschland
CATEGORIES:Beratung,Gesundheit & Soziales
ORGANIZER;CN="DRK-Ortsverein Bissendorf e.V.":MAILTO:anmeldung@drk-bissendorf.de
END:VEVENT
BEGIN:VEVENT
DTSTART;TZID=Europe/Berlin:20281211T100000
DTEND;TZID=Europe/Berlin:20281211T120000
DTSTAMP:20260424T020849
CREATED:20260317T223922Z
LAST-MODIFIED:20260317T225729Z
UID:10001235-1860141600-1860148800@dev.wp.drk-bissendorf.de
SUMMARY:Einkaufsfahrten zu Verbrauchermärkten
DESCRIPTION:Wir holen Sie an der Haustür ab und bringen Sie mit Ihren Einkäufen wieder nach Hause. Kostenfrei. \nAnmeldung unter mobil@drk-bissendorf.de oder 05402 965 01-02
URL:https://dev.wp.drk-bissendorf.de/event/einkaufsfahrten-zu-verbrauchermaerkten/2028-12-11/
CATEGORIES:Fahrdienst
ATTACH;FMTTYPE=image/jpeg:https://dev.wp.drk-bissendorf.de/wp-content/uploads/2026/03/Einkauf-mit-Mobil-scaled.jpg
ORGANIZER;CN="DRK-Ortsverein Bissendorf e.V.":MAILTO:anmeldung@drk-bissendorf.de
END:VEVENT
BEGIN:VEVENT
DTSTART;TZID=Europe/Berlin:20281214T150000
DTEND;TZID=Europe/Berlin:20281214T173000
DTSTAMP:20260424T020849
CREATED:20230522T183036Z
LAST-MODIFIED:20240308T074535Z
UID:10000317-1860418800-1860427800@dev.wp.drk-bissendorf.de
SUMMARY:Spielenachmittag
DESCRIPTION:
URL:https://dev.wp.drk-bissendorf.de/event/spielenachmittag-5/2028-12-14/
LOCATION:Dorfgemeinschaftszentrum Jeggener Knütten\, Pfingstweg 112\, Bissendorf\, 49143\, Deutschland
CATEGORIES:Spielenachmittag
ATTACH;FMTTYPE=image/jpeg:https://dev.wp.drk-bissendorf.de/wp-content/uploads/2023/05/thomas-buchholz-0n7_eiAQZwA-unsplash-2.jpg
ORGANIZER;CN="DRK-Ortsverein Bissendorf e.V.":MAILTO:anmeldung@drk-bissendorf.de
END:VEVENT
BEGIN:VEVENT
DTSTART;TZID=Europe/Berlin:20281218T100000
DTEND;TZID=Europe/Berlin:20281218T120000
DTSTAMP:20260424T020849
CREATED:20260317T223922Z
LAST-MODIFIED:20260317T225729Z
UID:10001236-1860746400-1860753600@dev.wp.drk-bissendorf.de
SUMMARY:Einkaufsfahrten zu Verbrauchermärkten
DESCRIPTION:Wir holen Sie an der Haustür ab und bringen Sie mit Ihren Einkäufen wieder nach Hause. Kostenfrei. \nAnmeldung unter mobil@drk-bissendorf.de oder 05402 965 01-02
URL:https://dev.wp.drk-bissendorf.de/event/einkaufsfahrten-zu-verbrauchermaerkten/2028-12-18/
CATEGORIES:Fahrdienst
ATTACH;FMTTYPE=image/jpeg:https://dev.wp.drk-bissendorf.de/wp-content/uploads/2026/03/Einkauf-mit-Mobil-scaled.jpg
ORGANIZER;CN="DRK-Ortsverein Bissendorf e.V.":MAILTO:anmeldung@drk-bissendorf.de
END:VEVENT
BEGIN:VEVENT
DTSTART;TZID=Europe/Berlin:20281221T150000
DTEND;TZID=Europe/Berlin:20281221T170000
DTSTAMP:20260424T020849
CREATED:20260317T225314Z
LAST-MODIFIED:20260317T225314Z
UID:10000826-1861023600-1861030800@dev.wp.drk-bissendorf.de
SUMMARY:Boule Gruppe I
DESCRIPTION:Jeden 1. und 3. Donnerstag im Monat.
URL:https://dev.wp.drk-bissendorf.de/event/boule-gruppe-i/2028-12-21/
LOCATION:Dorfgemeinschaftszentrum Jeggener Knütten\, Pfingstweg 112\, Bissendorf\, 49143\, Deutschland
CATEGORIES:Boule
ATTACH;FMTTYPE=image/jpeg:https://dev.wp.drk-bissendorf.de/wp-content/uploads/2026/03/semevent-boule-2458585_1920.jpg
ORGANIZER;CN="DRK-Ortsverein Bissendorf e.V.":MAILTO:anmeldung@drk-bissendorf.de
END:VEVENT
BEGIN:VEVENT
DTSTART;TZID=Europe/Berlin:20281222T100000
DTEND;TZID=Europe/Berlin:20281222T113000
DTSTAMP:20260424T020849
CREATED:20260317T223006Z
LAST-MODIFIED:20260407T193331Z
UID:10001610-1861092000-1861097400@dev.wp.drk-bissendorf.de
SUMMARY:Seniorensprechstunde in Schledehausen
DESCRIPTION:bei Heiko Grube\, Seniorenansprechpartner in der Gemeinde Bissendorf
URL:https://dev.wp.drk-bissendorf.de/event/seniorensprechstunde-2/2028-12-22/
LOCATION:Bürgerbüro Schledehausen\, Bergstr. 19\, Bissendorf\, 49143\, Germany
CATEGORIES:Beratung
ATTACH;FMTTYPE=image/jpeg:https://dev.wp.drk-bissendorf.de/wp-content/uploads/2026/03/resize_1596x1080.jpg
ORGANIZER;CN="DRK-Ortsverein Bissendorf e.V.":MAILTO:anmeldung@drk-bissendorf.de
END:VEVENT
BEGIN:VEVENT
DTSTART;TZID=Europe/Berlin:20281225T100000
DTEND;TZID=Europe/Berlin:20281225T120000
DTSTAMP:20260424T020849
CREATED:20260317T223922Z
LAST-MODIFIED:20260317T225729Z
UID:10001237-1861351200-1861358400@dev.wp.drk-bissendorf.de
SUMMARY:Einkaufsfahrten zu Verbrauchermärkten
DESCRIPTION:Wir holen Sie an der Haustür ab und bringen Sie mit Ihren Einkäufen wieder nach Hause. Kostenfrei. \nAnmeldung unter mobil@drk-bissendorf.de oder 05402 965 01-02
URL:https://dev.wp.drk-bissendorf.de/event/einkaufsfahrten-zu-verbrauchermaerkten/2028-12-25/
CATEGORIES:Fahrdienst
ATTACH;FMTTYPE=image/jpeg:https://dev.wp.drk-bissendorf.de/wp-content/uploads/2026/03/Einkauf-mit-Mobil-scaled.jpg
ORGANIZER;CN="DRK-Ortsverein Bissendorf e.V.":MAILTO:anmeldung@drk-bissendorf.de
END:VEVENT
END:VCALENDAR