BEGIN:VCALENDAR
VERSION:2.0
PRODID:-//DRK-Ortsverein Bissendorf e.V. - ECPv6.15.20//NONSGML v1.0//EN
CALSCALE:GREGORIAN
METHOD:PUBLISH
X-WR-CALNAME:DRK-Ortsverein Bissendorf e.V.
X-ORIGINAL-URL:https://dev.wp.drk-bissendorf.de
X-WR-CALDESC:Veranstaltungen für DRK-Ortsverein Bissendorf e.V.
REFRESH-INTERVAL;VALUE=DURATION:PT1H
X-Robots-Tag:noindex
X-PUBLISHED-TTL:PT1H
BEGIN:VTIMEZONE
TZID:Europe/Berlin
BEGIN:DAYLIGHT
TZOFFSETFROM:+0100
TZOFFSETTO:+0200
TZNAME:CEST
DTSTART:20280326T010000
END:DAYLIGHT
BEGIN:STANDARD
TZOFFSETFROM:+0200
TZOFFSETTO:+0100
TZNAME:CET
DTSTART:20281029T010000
END:STANDARD
BEGIN:DAYLIGHT
TZOFFSETFROM:+0100
TZOFFSETTO:+0200
TZNAME:CEST
DTSTART:20290325T010000
END:DAYLIGHT
BEGIN:STANDARD
TZOFFSETFROM:+0200
TZOFFSETTO:+0100
TZNAME:CET
DTSTART:20291028T010000
END:STANDARD
BEGIN:DAYLIGHT
TZOFFSETFROM:+0100
TZOFFSETTO:+0200
TZNAME:CEST
DTSTART:20300331T010000
END:DAYLIGHT
BEGIN:STANDARD
TZOFFSETFROM:+0200
TZOFFSETTO:+0100
TZNAME:CET
DTSTART:20301027T010000
END:STANDARD
END:VTIMEZONE
BEGIN:VEVENT
DTSTART;TZID=Europe/Berlin:20290409T100000
DTEND;TZID=Europe/Berlin:20290409T120000
DTSTAMP:20260424T083234
CREATED:20260317T223922Z
LAST-MODIFIED:20260317T225729Z
UID:10001252-1870423200-1870430400@dev.wp.drk-bissendorf.de
SUMMARY:Einkaufsfahrten zu Verbrauchermärkten
DESCRIPTION:Wir holen Sie an der Haustür ab und bringen Sie mit Ihren Einkäufen wieder nach Hause. Kostenfrei. \nAnmeldung unter mobil@drk-bissendorf.de oder 05402 965 01-02
URL:https://dev.wp.drk-bissendorf.de/event/einkaufsfahrten-zu-verbrauchermaerkten/2029-04-09/
CATEGORIES:Fahrdienst
ATTACH;FMTTYPE=image/jpeg:https://dev.wp.drk-bissendorf.de/wp-content/uploads/2026/03/Einkauf-mit-Mobil-scaled.jpg
ORGANIZER;CN="DRK-Ortsverein Bissendorf e.V.":MAILTO:anmeldung@drk-bissendorf.de
END:VEVENT
BEGIN:VEVENT
DTSTART;TZID=Europe/Berlin:20290412T150000
DTEND;TZID=Europe/Berlin:20290412T173000
DTSTAMP:20260424T083234
CREATED:20230522T183036Z
LAST-MODIFIED:20240308T074535Z
UID:10001354-1870700400-1870709400@dev.wp.drk-bissendorf.de
SUMMARY:Spielenachmittag
DESCRIPTION:
URL:https://dev.wp.drk-bissendorf.de/event/spielenachmittag-5/2029-04-12/
LOCATION:Dorfgemeinschaftszentrum Jeggener Knütten\, Pfingstweg 112\, Bissendorf\, 49143\, Deutschland
CATEGORIES:Spielenachmittag
ATTACH;FMTTYPE=image/jpeg:https://dev.wp.drk-bissendorf.de/wp-content/uploads/2023/05/thomas-buchholz-0n7_eiAQZwA-unsplash-2.jpg
ORGANIZER;CN="DRK-Ortsverein Bissendorf e.V.":MAILTO:anmeldung@drk-bissendorf.de
END:VEVENT
BEGIN:VEVENT
DTSTART;TZID=Europe/Berlin:20290416T100000
DTEND;TZID=Europe/Berlin:20290416T120000
DTSTAMP:20260424T083234
CREATED:20260317T223922Z
LAST-MODIFIED:20260317T225729Z
UID:10001253-1871028000-1871035200@dev.wp.drk-bissendorf.de
SUMMARY:Einkaufsfahrten zu Verbrauchermärkten
DESCRIPTION:Wir holen Sie an der Haustür ab und bringen Sie mit Ihren Einkäufen wieder nach Hause. Kostenfrei. \nAnmeldung unter mobil@drk-bissendorf.de oder 05402 965 01-02
URL:https://dev.wp.drk-bissendorf.de/event/einkaufsfahrten-zu-verbrauchermaerkten/2029-04-16/
CATEGORIES:Fahrdienst
ATTACH;FMTTYPE=image/jpeg:https://dev.wp.drk-bissendorf.de/wp-content/uploads/2026/03/Einkauf-mit-Mobil-scaled.jpg
ORGANIZER;CN="DRK-Ortsverein Bissendorf e.V.":MAILTO:anmeldung@drk-bissendorf.de
END:VEVENT
BEGIN:VEVENT
DTSTART;TZID=Europe/Berlin:20290419T150000
DTEND;TZID=Europe/Berlin:20290419T170000
DTSTAMP:20260424T083234
CREATED:20260317T225314Z
LAST-MODIFIED:20260317T225314Z
UID:10000830-1871305200-1871312400@dev.wp.drk-bissendorf.de
SUMMARY:Boule Gruppe I
DESCRIPTION:Jeden 1. und 3. Donnerstag im Monat.
URL:https://dev.wp.drk-bissendorf.de/event/boule-gruppe-i/2029-04-19/
LOCATION:Dorfgemeinschaftszentrum Jeggener Knütten\, Pfingstweg 112\, Bissendorf\, 49143\, Deutschland
CATEGORIES:Boule
ATTACH;FMTTYPE=image/jpeg:https://dev.wp.drk-bissendorf.de/wp-content/uploads/2026/03/semevent-boule-2458585_1920.jpg
ORGANIZER;CN="DRK-Ortsverein Bissendorf e.V.":MAILTO:anmeldung@drk-bissendorf.de
END:VEVENT
BEGIN:VEVENT
DTSTART;TZID=Europe/Berlin:20290423T100000
DTEND;TZID=Europe/Berlin:20290423T120000
DTSTAMP:20260424T083234
CREATED:20260317T223922Z
LAST-MODIFIED:20260317T225729Z
UID:10001254-1871632800-1871640000@dev.wp.drk-bissendorf.de
SUMMARY:Einkaufsfahrten zu Verbrauchermärkten
DESCRIPTION:Wir holen Sie an der Haustür ab und bringen Sie mit Ihren Einkäufen wieder nach Hause. Kostenfrei. \nAnmeldung unter mobil@drk-bissendorf.de oder 05402 965 01-02
URL:https://dev.wp.drk-bissendorf.de/event/einkaufsfahrten-zu-verbrauchermaerkten/2029-04-23/
CATEGORIES:Fahrdienst
ATTACH;FMTTYPE=image/jpeg:https://dev.wp.drk-bissendorf.de/wp-content/uploads/2026/03/Einkauf-mit-Mobil-scaled.jpg
ORGANIZER;CN="DRK-Ortsverein Bissendorf e.V.":MAILTO:anmeldung@drk-bissendorf.de
END:VEVENT
BEGIN:VEVENT
DTSTART;TZID=Europe/Berlin:20290425T100000
DTEND;TZID=Europe/Berlin:20290425T120000
DTSTAMP:20260424T083234
CREATED:20260317T222550Z
LAST-MODIFIED:20260407T193341Z
UID:10000358-1871805600-1871812800@dev.wp.drk-bissendorf.de
SUMMARY:Seniorensprechstunde in Bissendorf
DESCRIPTION:bei Heiko Grube\, Seniorenansprechpartner in der Gemeinde Bissendorf
URL:https://dev.wp.drk-bissendorf.de/event/seniorensprechstunde/2029-04-25/
LOCATION:Haus Bissendorf\, Kirchplatz 3\, Bissendorf\, 49143\, Germany
CATEGORIES:Beratung
ATTACH;FMTTYPE=image/jpeg:https://dev.wp.drk-bissendorf.de/wp-content/uploads/2026/03/resize_1596x1080.jpg
ORGANIZER;CN="DRK-Ortsverein Bissendorf e.V.":MAILTO:anmeldung@drk-bissendorf.de
END:VEVENT
BEGIN:VEVENT
DTSTART;TZID=Europe/Berlin:20290426T150000
DTEND;TZID=Europe/Berlin:20290426T170000
DTSTAMP:20260424T083234
CREATED:20260317T225519Z
LAST-MODIFIED:20260317T225641Z
UID:10001070-1871910000-1871917200@dev.wp.drk-bissendorf.de
SUMMARY:Boule Gruppe II
DESCRIPTION:Jeden 4. Donnerstag im Monat.
URL:https://dev.wp.drk-bissendorf.de/event/boule-gruppe-ii/2029-04-26/
LOCATION:Dorfgemeinschaftszentrum Jeggener Knütten\, Pfingstweg 112\, Bissendorf\, 49143\, Deutschland
CATEGORIES:Boule
ATTACH;FMTTYPE=image/jpeg:https://dev.wp.drk-bissendorf.de/wp-content/uploads/2026/03/semevent-boule-2458585_1920.jpg
ORGANIZER;CN="DRK-Ortsverein Bissendorf e.V.":MAILTO:anmeldung@drk-bissendorf.de
END:VEVENT
BEGIN:VEVENT
DTSTART;TZID=Europe/Berlin:20290427T100000
DTEND;TZID=Europe/Berlin:20290427T113000
DTSTAMP:20260424T083234
CREATED:20260317T223006Z
LAST-MODIFIED:20260407T193331Z
UID:10000478-1871978400-1871983800@dev.wp.drk-bissendorf.de
SUMMARY:Seniorensprechstunde in Schledehausen
DESCRIPTION:bei Heiko Grube\, Seniorenansprechpartner in der Gemeinde Bissendorf
URL:https://dev.wp.drk-bissendorf.de/event/seniorensprechstunde-2/2029-04-27/
LOCATION:Bürgerbüro Schledehausen\, Bergstr. 19\, Bissendorf\, 49143\, Germany
CATEGORIES:Beratung
ATTACH;FMTTYPE=image/jpeg:https://dev.wp.drk-bissendorf.de/wp-content/uploads/2026/03/resize_1596x1080.jpg
ORGANIZER;CN="DRK-Ortsverein Bissendorf e.V.":MAILTO:anmeldung@drk-bissendorf.de
END:VEVENT
BEGIN:VEVENT
DTSTART;TZID=Europe/Berlin:20290430T100000
DTEND;TZID=Europe/Berlin:20290430T120000
DTSTAMP:20260424T083234
CREATED:20260317T223922Z
LAST-MODIFIED:20260317T225729Z
UID:10001255-1872237600-1872244800@dev.wp.drk-bissendorf.de
SUMMARY:Einkaufsfahrten zu Verbrauchermärkten
DESCRIPTION:Wir holen Sie an der Haustür ab und bringen Sie mit Ihren Einkäufen wieder nach Hause. Kostenfrei. \nAnmeldung unter mobil@drk-bissendorf.de oder 05402 965 01-02
URL:https://dev.wp.drk-bissendorf.de/event/einkaufsfahrten-zu-verbrauchermaerkten/2029-04-30/
CATEGORIES:Fahrdienst
ATTACH;FMTTYPE=image/jpeg:https://dev.wp.drk-bissendorf.de/wp-content/uploads/2026/03/Einkauf-mit-Mobil-scaled.jpg
ORGANIZER;CN="DRK-Ortsverein Bissendorf e.V.":MAILTO:anmeldung@drk-bissendorf.de
END:VEVENT
BEGIN:VEVENT
DTSTART;TZID=Europe/Berlin:20290430T143000
DTEND;TZID=Europe/Berlin:20290430T160000
DTSTAMP:20260424T083234
CREATED:20230522T190953Z
LAST-MODIFIED:20260318T121905Z
UID:10001572-1872253800-1872259200@dev.wp.drk-bissendorf.de
SUMMARY:Demenzberatung
DESCRIPTION:In Zusammenarbeit mit der Alzheimer-Gesellschaft Melle e.V.. Richtet sich besonders an pflegende Partner\, Familie und Freunde. Aus persönlichen Erfahrungen werden Informationen zur Krankheit und den Umgang mit Erkrankten gegeben \nAnmeldung unter 05402 965 01-01 oder anmeldung@drk-bissendorf.de
URL:https://dev.wp.drk-bissendorf.de/event/demenzberatung-3/2029-04-30/
LOCATION:Dorfgemeinschaftszentrum Jeggener Knütten\, Pfingstweg 112\, Bissendorf\, 49143\, Deutschland
CATEGORIES:Beratung
ORGANIZER;CN="DRK-Ortsverein Bissendorf e.V.":MAILTO:anmeldung@drk-bissendorf.de
END:VEVENT
BEGIN:VEVENT
DTSTART;TZID=Europe/Berlin:20290503T150000
DTEND;TZID=Europe/Berlin:20290503T170000
DTSTAMP:20260424T083234
CREATED:20260317T225350Z
LAST-MODIFIED:20260317T225350Z
UID:10000950-1872514800-1872522000@dev.wp.drk-bissendorf.de
SUMMARY:Boule Gruppe I
DESCRIPTION:Jeden 1. und 3. Donnerstag im Monat.
URL:https://dev.wp.drk-bissendorf.de/event/boule-gruppe-i-2/2029-05-03/
LOCATION:Dorfgemeinschaftszentrum Jeggener Knütten\, Pfingstweg 112\, Bissendorf\, 49143\, Deutschland
CATEGORIES:Boule
ATTACH;FMTTYPE=image/jpeg:https://dev.wp.drk-bissendorf.de/wp-content/uploads/2026/03/semevent-boule-2458585_1920.jpg
ORGANIZER;CN="DRK-Ortsverein Bissendorf e.V.":MAILTO:anmeldung@drk-bissendorf.de
END:VEVENT
BEGIN:VEVENT
DTSTART;TZID=Europe/Berlin:20290503T153000
DTEND;TZID=Europe/Berlin:20290503T170000
DTSTAMP:20260424T083234
CREATED:20230830T103930Z
LAST-MODIFIED:20260407T194729Z
UID:10001627-1872516600-1872522000@dev.wp.drk-bissendorf.de
SUMMARY:Medien- und Techniklotsen/innen
DESCRIPTION:Die digitale Welt wird täglich größer und verändert sich rasant. Schnell verliert man da den Überblick! Die Medien- und Techniklotsen/innen versuchen Sie zu unterstützen und möchten Ihnen Mut machen mit digitalen Medien Ihren Alltag zu erleichtern
URL:https://dev.wp.drk-bissendorf.de/event/mut-medien-und-techniklotsen-innen-bissendorf/2029-05-03/
LOCATION:Dorfgemeinschaftszentrum Jeggener Knütten\, Pfingstweg 112\, Bissendorf\, 49143\, Deutschland
CATEGORIES:Beratung,Gesundheit & Soziales
ORGANIZER;CN="DRK-Ortsverein Bissendorf e.V.":MAILTO:anmeldung@drk-bissendorf.de
END:VEVENT
BEGIN:VEVENT
DTSTART;TZID=Europe/Berlin:20290507T100000
DTEND;TZID=Europe/Berlin:20290507T120000
DTSTAMP:20260424T083234
CREATED:20260317T223922Z
LAST-MODIFIED:20260317T225729Z
UID:10001256-1872842400-1872849600@dev.wp.drk-bissendorf.de
SUMMARY:Einkaufsfahrten zu Verbrauchermärkten
DESCRIPTION:Wir holen Sie an der Haustür ab und bringen Sie mit Ihren Einkäufen wieder nach Hause. Kostenfrei. \nAnmeldung unter mobil@drk-bissendorf.de oder 05402 965 01-02
URL:https://dev.wp.drk-bissendorf.de/event/einkaufsfahrten-zu-verbrauchermaerkten/2029-05-07/
CATEGORIES:Fahrdienst
ATTACH;FMTTYPE=image/jpeg:https://dev.wp.drk-bissendorf.de/wp-content/uploads/2026/03/Einkauf-mit-Mobil-scaled.jpg
ORGANIZER;CN="DRK-Ortsverein Bissendorf e.V.":MAILTO:anmeldung@drk-bissendorf.de
END:VEVENT
BEGIN:VEVENT
DTSTART;TZID=Europe/Berlin:20290510T150000
DTEND;TZID=Europe/Berlin:20290510T173000
DTSTAMP:20260424T083234
CREATED:20230522T183036Z
LAST-MODIFIED:20240308T074535Z
UID:10001355-1873119600-1873128600@dev.wp.drk-bissendorf.de
SUMMARY:Spielenachmittag
DESCRIPTION:
URL:https://dev.wp.drk-bissendorf.de/event/spielenachmittag-5/2029-05-10/
LOCATION:Dorfgemeinschaftszentrum Jeggener Knütten\, Pfingstweg 112\, Bissendorf\, 49143\, Deutschland
CATEGORIES:Spielenachmittag
ATTACH;FMTTYPE=image/jpeg:https://dev.wp.drk-bissendorf.de/wp-content/uploads/2023/05/thomas-buchholz-0n7_eiAQZwA-unsplash-2.jpg
ORGANIZER;CN="DRK-Ortsverein Bissendorf e.V.":MAILTO:anmeldung@drk-bissendorf.de
END:VEVENT
BEGIN:VEVENT
DTSTART;TZID=Europe/Berlin:20290514T100000
DTEND;TZID=Europe/Berlin:20290514T120000
DTSTAMP:20260424T083234
CREATED:20260317T223922Z
LAST-MODIFIED:20260317T225729Z
UID:10001257-1873447200-1873454400@dev.wp.drk-bissendorf.de
SUMMARY:Einkaufsfahrten zu Verbrauchermärkten
DESCRIPTION:Wir holen Sie an der Haustür ab und bringen Sie mit Ihren Einkäufen wieder nach Hause. Kostenfrei. \nAnmeldung unter mobil@drk-bissendorf.de oder 05402 965 01-02
URL:https://dev.wp.drk-bissendorf.de/event/einkaufsfahrten-zu-verbrauchermaerkten/2029-05-14/
CATEGORIES:Fahrdienst
ATTACH;FMTTYPE=image/jpeg:https://dev.wp.drk-bissendorf.de/wp-content/uploads/2026/03/Einkauf-mit-Mobil-scaled.jpg
ORGANIZER;CN="DRK-Ortsverein Bissendorf e.V.":MAILTO:anmeldung@drk-bissendorf.de
END:VEVENT
BEGIN:VEVENT
DTSTART;TZID=Europe/Berlin:20290516T093000
DTEND;TZID=Europe/Berlin:20290516T120000
DTSTAMP:20260424T083234
CREATED:20260317T224546Z
LAST-MODIFIED:20260317T224546Z
UID:10000782-1873618200-1873627200@dev.wp.drk-bissendorf.de
SUMMARY:Seniorenfrühstück
DESCRIPTION:Anmeldung jeweils zwischen dem 1. und 10. des jeweiligen Monats unter anmeldung@drk-bissendorf.de oder 05402 965 01-01.
URL:https://dev.wp.drk-bissendorf.de/event/seniorenfruehstueck-4/2029-05-16/
LOCATION:Dorfgemeinschaftszentrum Jeggener Knütten\, Pfingstweg 112\, Bissendorf\, 49143\, Deutschland
ORGANIZER;CN="DRK-Ortsverein Bissendorf e.V.":MAILTO:anmeldung@drk-bissendorf.de
END:VEVENT
BEGIN:VEVENT
DTSTART;TZID=Europe/Berlin:20290517T150000
DTEND;TZID=Europe/Berlin:20290517T170000
DTSTAMP:20260424T083234
CREATED:20260317T225314Z
LAST-MODIFIED:20260317T225314Z
UID:10000831-1873724400-1873731600@dev.wp.drk-bissendorf.de
SUMMARY:Boule Gruppe I
DESCRIPTION:Jeden 1. und 3. Donnerstag im Monat.
URL:https://dev.wp.drk-bissendorf.de/event/boule-gruppe-i/2029-05-17/
LOCATION:Dorfgemeinschaftszentrum Jeggener Knütten\, Pfingstweg 112\, Bissendorf\, 49143\, Deutschland
CATEGORIES:Boule
ATTACH;FMTTYPE=image/jpeg:https://dev.wp.drk-bissendorf.de/wp-content/uploads/2026/03/semevent-boule-2458585_1920.jpg
ORGANIZER;CN="DRK-Ortsverein Bissendorf e.V.":MAILTO:anmeldung@drk-bissendorf.de
END:VEVENT
BEGIN:VEVENT
DTSTART;TZID=Europe/Berlin:20290521T100000
DTEND;TZID=Europe/Berlin:20290521T120000
DTSTAMP:20260424T083234
CREATED:20260317T223922Z
LAST-MODIFIED:20260317T225729Z
UID:10001258-1874052000-1874059200@dev.wp.drk-bissendorf.de
SUMMARY:Einkaufsfahrten zu Verbrauchermärkten
DESCRIPTION:Wir holen Sie an der Haustür ab und bringen Sie mit Ihren Einkäufen wieder nach Hause. Kostenfrei. \nAnmeldung unter mobil@drk-bissendorf.de oder 05402 965 01-02
URL:https://dev.wp.drk-bissendorf.de/event/einkaufsfahrten-zu-verbrauchermaerkten/2029-05-21/
CATEGORIES:Fahrdienst
ATTACH;FMTTYPE=image/jpeg:https://dev.wp.drk-bissendorf.de/wp-content/uploads/2026/03/Einkauf-mit-Mobil-scaled.jpg
ORGANIZER;CN="DRK-Ortsverein Bissendorf e.V.":MAILTO:anmeldung@drk-bissendorf.de
END:VEVENT
BEGIN:VEVENT
DTSTART;TZID=Europe/Berlin:20290523T100000
DTEND;TZID=Europe/Berlin:20290523T120000
DTSTAMP:20260424T083234
CREATED:20260317T222550Z
LAST-MODIFIED:20260407T193341Z
UID:10000359-1874224800-1874232000@dev.wp.drk-bissendorf.de
SUMMARY:Seniorensprechstunde in Bissendorf
DESCRIPTION:bei Heiko Grube\, Seniorenansprechpartner in der Gemeinde Bissendorf
URL:https://dev.wp.drk-bissendorf.de/event/seniorensprechstunde/2029-05-23/
LOCATION:Haus Bissendorf\, Kirchplatz 3\, Bissendorf\, 49143\, Germany
CATEGORIES:Beratung
ATTACH;FMTTYPE=image/jpeg:https://dev.wp.drk-bissendorf.de/wp-content/uploads/2026/03/resize_1596x1080.jpg
ORGANIZER;CN="DRK-Ortsverein Bissendorf e.V.":MAILTO:anmeldung@drk-bissendorf.de
END:VEVENT
BEGIN:VEVENT
DTSTART;TZID=Europe/Berlin:20290524T150000
DTEND;TZID=Europe/Berlin:20290524T170000
DTSTAMP:20260424T083234
CREATED:20260317T225519Z
LAST-MODIFIED:20260317T225641Z
UID:10001071-1874329200-1874336400@dev.wp.drk-bissendorf.de
SUMMARY:Boule Gruppe II
DESCRIPTION:Jeden 4. Donnerstag im Monat.
URL:https://dev.wp.drk-bissendorf.de/event/boule-gruppe-ii/2029-05-24/
LOCATION:Dorfgemeinschaftszentrum Jeggener Knütten\, Pfingstweg 112\, Bissendorf\, 49143\, Deutschland
CATEGORIES:Boule
ATTACH;FMTTYPE=image/jpeg:https://dev.wp.drk-bissendorf.de/wp-content/uploads/2026/03/semevent-boule-2458585_1920.jpg
ORGANIZER;CN="DRK-Ortsverein Bissendorf e.V.":MAILTO:anmeldung@drk-bissendorf.de
END:VEVENT
BEGIN:VEVENT
DTSTART;TZID=Europe/Berlin:20290525T100000
DTEND;TZID=Europe/Berlin:20290525T113000
DTSTAMP:20260424T083234
CREATED:20260317T223006Z
LAST-MODIFIED:20260407T193331Z
UID:10000479-1874397600-1874403000@dev.wp.drk-bissendorf.de
SUMMARY:Seniorensprechstunde in Schledehausen
DESCRIPTION:bei Heiko Grube\, Seniorenansprechpartner in der Gemeinde Bissendorf
URL:https://dev.wp.drk-bissendorf.de/event/seniorensprechstunde-2/2029-05-25/
LOCATION:Bürgerbüro Schledehausen\, Bergstr. 19\, Bissendorf\, 49143\, Germany
CATEGORIES:Beratung
ATTACH;FMTTYPE=image/jpeg:https://dev.wp.drk-bissendorf.de/wp-content/uploads/2026/03/resize_1596x1080.jpg
ORGANIZER;CN="DRK-Ortsverein Bissendorf e.V.":MAILTO:anmeldung@drk-bissendorf.de
END:VEVENT
BEGIN:VEVENT
DTSTART;TZID=Europe/Berlin:20290528T100000
DTEND;TZID=Europe/Berlin:20290528T120000
DTSTAMP:20260424T083234
CREATED:20260317T223922Z
LAST-MODIFIED:20260317T225729Z
UID:10001259-1874656800-1874664000@dev.wp.drk-bissendorf.de
SUMMARY:Einkaufsfahrten zu Verbrauchermärkten
DESCRIPTION:Wir holen Sie an der Haustür ab und bringen Sie mit Ihren Einkäufen wieder nach Hause. Kostenfrei. \nAnmeldung unter mobil@drk-bissendorf.de oder 05402 965 01-02
URL:https://dev.wp.drk-bissendorf.de/event/einkaufsfahrten-zu-verbrauchermaerkten/2029-05-28/
CATEGORIES:Fahrdienst
ATTACH;FMTTYPE=image/jpeg:https://dev.wp.drk-bissendorf.de/wp-content/uploads/2026/03/Einkauf-mit-Mobil-scaled.jpg
ORGANIZER;CN="DRK-Ortsverein Bissendorf e.V.":MAILTO:anmeldung@drk-bissendorf.de
END:VEVENT
BEGIN:VEVENT
DTSTART;TZID=Europe/Berlin:20290528T143000
DTEND;TZID=Europe/Berlin:20290528T160000
DTSTAMP:20260424T083234
CREATED:20230522T190953Z
LAST-MODIFIED:20260318T121905Z
UID:10001573-1874673000-1874678400@dev.wp.drk-bissendorf.de
SUMMARY:Demenzberatung
DESCRIPTION:In Zusammenarbeit mit der Alzheimer-Gesellschaft Melle e.V.. Richtet sich besonders an pflegende Partner\, Familie und Freunde. Aus persönlichen Erfahrungen werden Informationen zur Krankheit und den Umgang mit Erkrankten gegeben \nAnmeldung unter 05402 965 01-01 oder anmeldung@drk-bissendorf.de
URL:https://dev.wp.drk-bissendorf.de/event/demenzberatung-3/2029-05-28/
LOCATION:Dorfgemeinschaftszentrum Jeggener Knütten\, Pfingstweg 112\, Bissendorf\, 49143\, Deutschland
CATEGORIES:Beratung
ORGANIZER;CN="DRK-Ortsverein Bissendorf e.V.":MAILTO:anmeldung@drk-bissendorf.de
END:VEVENT
BEGIN:VEVENT
DTSTART;TZID=Europe/Berlin:20290604T100000
DTEND;TZID=Europe/Berlin:20290604T120000
DTSTAMP:20260424T083234
CREATED:20260317T223922Z
LAST-MODIFIED:20260317T225729Z
UID:10001260-1875261600-1875268800@dev.wp.drk-bissendorf.de
SUMMARY:Einkaufsfahrten zu Verbrauchermärkten
DESCRIPTION:Wir holen Sie an der Haustür ab und bringen Sie mit Ihren Einkäufen wieder nach Hause. Kostenfrei. \nAnmeldung unter mobil@drk-bissendorf.de oder 05402 965 01-02
URL:https://dev.wp.drk-bissendorf.de/event/einkaufsfahrten-zu-verbrauchermaerkten/2029-06-04/
CATEGORIES:Fahrdienst
ATTACH;FMTTYPE=image/jpeg:https://dev.wp.drk-bissendorf.de/wp-content/uploads/2026/03/Einkauf-mit-Mobil-scaled.jpg
ORGANIZER;CN="DRK-Ortsverein Bissendorf e.V.":MAILTO:anmeldung@drk-bissendorf.de
END:VEVENT
BEGIN:VEVENT
DTSTART;TZID=Europe/Berlin:20290607T150000
DTEND;TZID=Europe/Berlin:20290607T170000
DTSTAMP:20260424T083234
CREATED:20260317T225350Z
LAST-MODIFIED:20260317T225350Z
UID:10000951-1875538800-1875546000@dev.wp.drk-bissendorf.de
SUMMARY:Boule Gruppe I
DESCRIPTION:Jeden 1. und 3. Donnerstag im Monat.
URL:https://dev.wp.drk-bissendorf.de/event/boule-gruppe-i-2/2029-06-07/
LOCATION:Dorfgemeinschaftszentrum Jeggener Knütten\, Pfingstweg 112\, Bissendorf\, 49143\, Deutschland
CATEGORIES:Boule
ATTACH;FMTTYPE=image/jpeg:https://dev.wp.drk-bissendorf.de/wp-content/uploads/2026/03/semevent-boule-2458585_1920.jpg
ORGANIZER;CN="DRK-Ortsverein Bissendorf e.V.":MAILTO:anmeldung@drk-bissendorf.de
END:VEVENT
BEGIN:VEVENT
DTSTART;TZID=Europe/Berlin:20290607T153000
DTEND;TZID=Europe/Berlin:20290607T170000
DTSTAMP:20260424T083234
CREATED:20230830T103930Z
LAST-MODIFIED:20260407T194729Z
UID:10001628-1875540600-1875546000@dev.wp.drk-bissendorf.de
SUMMARY:Medien- und Techniklotsen/innen
DESCRIPTION:Die digitale Welt wird täglich größer und verändert sich rasant. Schnell verliert man da den Überblick! Die Medien- und Techniklotsen/innen versuchen Sie zu unterstützen und möchten Ihnen Mut machen mit digitalen Medien Ihren Alltag zu erleichtern
URL:https://dev.wp.drk-bissendorf.de/event/mut-medien-und-techniklotsen-innen-bissendorf/2029-06-07/
LOCATION:Dorfgemeinschaftszentrum Jeggener Knütten\, Pfingstweg 112\, Bissendorf\, 49143\, Deutschland
CATEGORIES:Beratung,Gesundheit & Soziales
ORGANIZER;CN="DRK-Ortsverein Bissendorf e.V.":MAILTO:anmeldung@drk-bissendorf.de
END:VEVENT
BEGIN:VEVENT
DTSTART;TZID=Europe/Berlin:20290611T100000
DTEND;TZID=Europe/Berlin:20290611T120000
DTSTAMP:20260424T083234
CREATED:20260317T223922Z
LAST-MODIFIED:20260317T225729Z
UID:10001261-1875866400-1875873600@dev.wp.drk-bissendorf.de
SUMMARY:Einkaufsfahrten zu Verbrauchermärkten
DESCRIPTION:Wir holen Sie an der Haustür ab und bringen Sie mit Ihren Einkäufen wieder nach Hause. Kostenfrei. \nAnmeldung unter mobil@drk-bissendorf.de oder 05402 965 01-02
URL:https://dev.wp.drk-bissendorf.de/event/einkaufsfahrten-zu-verbrauchermaerkten/2029-06-11/
CATEGORIES:Fahrdienst
ATTACH;FMTTYPE=image/jpeg:https://dev.wp.drk-bissendorf.de/wp-content/uploads/2026/03/Einkauf-mit-Mobil-scaled.jpg
ORGANIZER;CN="DRK-Ortsverein Bissendorf e.V.":MAILTO:anmeldung@drk-bissendorf.de
END:VEVENT
BEGIN:VEVENT
DTSTART;TZID=Europe/Berlin:20290614T150000
DTEND;TZID=Europe/Berlin:20290614T173000
DTSTAMP:20260424T083234
CREATED:20230522T183036Z
LAST-MODIFIED:20240308T074535Z
UID:10001356-1876143600-1876152600@dev.wp.drk-bissendorf.de
SUMMARY:Spielenachmittag
DESCRIPTION:
URL:https://dev.wp.drk-bissendorf.de/event/spielenachmittag-5/2029-06-14/
LOCATION:Dorfgemeinschaftszentrum Jeggener Knütten\, Pfingstweg 112\, Bissendorf\, 49143\, Deutschland
CATEGORIES:Spielenachmittag
ATTACH;FMTTYPE=image/jpeg:https://dev.wp.drk-bissendorf.de/wp-content/uploads/2023/05/thomas-buchholz-0n7_eiAQZwA-unsplash-2.jpg
ORGANIZER;CN="DRK-Ortsverein Bissendorf e.V.":MAILTO:anmeldung@drk-bissendorf.de
END:VEVENT
BEGIN:VEVENT
DTSTART;TZID=Europe/Berlin:20290618T100000
DTEND;TZID=Europe/Berlin:20290618T120000
DTSTAMP:20260424T083234
CREATED:20260317T223922Z
LAST-MODIFIED:20260317T225729Z
UID:10001262-1876471200-1876478400@dev.wp.drk-bissendorf.de
SUMMARY:Einkaufsfahrten zu Verbrauchermärkten
DESCRIPTION:Wir holen Sie an der Haustür ab und bringen Sie mit Ihren Einkäufen wieder nach Hause. Kostenfrei. \nAnmeldung unter mobil@drk-bissendorf.de oder 05402 965 01-02
URL:https://dev.wp.drk-bissendorf.de/event/einkaufsfahrten-zu-verbrauchermaerkten/2029-06-18/
CATEGORIES:Fahrdienst
ATTACH;FMTTYPE=image/jpeg:https://dev.wp.drk-bissendorf.de/wp-content/uploads/2026/03/Einkauf-mit-Mobil-scaled.jpg
ORGANIZER;CN="DRK-Ortsverein Bissendorf e.V.":MAILTO:anmeldung@drk-bissendorf.de
END:VEVENT
BEGIN:VEVENT
DTSTART;TZID=Europe/Berlin:20290621T150000
DTEND;TZID=Europe/Berlin:20290621T170000
DTSTAMP:20260424T083234
CREATED:20260317T225314Z
LAST-MODIFIED:20260317T225314Z
UID:10000832-1876748400-1876755600@dev.wp.drk-bissendorf.de
SUMMARY:Boule Gruppe I
DESCRIPTION:Jeden 1. und 3. Donnerstag im Monat.
URL:https://dev.wp.drk-bissendorf.de/event/boule-gruppe-i/2029-06-21/
LOCATION:Dorfgemeinschaftszentrum Jeggener Knütten\, Pfingstweg 112\, Bissendorf\, 49143\, Deutschland
CATEGORIES:Boule
ATTACH;FMTTYPE=image/jpeg:https://dev.wp.drk-bissendorf.de/wp-content/uploads/2026/03/semevent-boule-2458585_1920.jpg
ORGANIZER;CN="DRK-Ortsverein Bissendorf e.V.":MAILTO:anmeldung@drk-bissendorf.de
END:VEVENT
END:VCALENDAR