BEGIN:VCALENDAR
VERSION:2.0
PRODID:-//DRK-Ortsverein Bissendorf e.V. - ECPv6.15.20//NONSGML v1.0//EN
CALSCALE:GREGORIAN
METHOD:PUBLISH
X-ORIGINAL-URL:https://dev.wp.drk-bissendorf.de
X-WR-CALDESC:Veranstaltungen für DRK-Ortsverein Bissendorf e.V.
REFRESH-INTERVAL;VALUE=DURATION:PT1H
X-Robots-Tag:noindex
X-PUBLISHED-TTL:PT1H
BEGIN:VTIMEZONE
TZID:Europe/Berlin
BEGIN:DAYLIGHT
TZOFFSETFROM:+0100
TZOFFSETTO:+0200
TZNAME:CEST
DTSTART:20250330T010000
END:DAYLIGHT
BEGIN:STANDARD
TZOFFSETFROM:+0200
TZOFFSETTO:+0100
TZNAME:CET
DTSTART:20251026T010000
END:STANDARD
BEGIN:DAYLIGHT
TZOFFSETFROM:+0100
TZOFFSETTO:+0200
TZNAME:CEST
DTSTART:20260329T010000
END:DAYLIGHT
BEGIN:STANDARD
TZOFFSETFROM:+0200
TZOFFSETTO:+0100
TZNAME:CET
DTSTART:20261025T010000
END:STANDARD
BEGIN:DAYLIGHT
TZOFFSETFROM:+0100
TZOFFSETTO:+0200
TZNAME:CEST
DTSTART:20270328T010000
END:DAYLIGHT
BEGIN:STANDARD
TZOFFSETFROM:+0200
TZOFFSETTO:+0100
TZNAME:CET
DTSTART:20271031T010000
END:STANDARD
END:VTIMEZONE
BEGIN:VEVENT
DTSTART;TZID=Europe/Berlin:20261203T150000
DTEND;TZID=Europe/Berlin:20261203T170000
DTSTAMP:20260421T000159
CREATED:20260317T225350Z
LAST-MODIFIED:20260317T225350Z
UID:10000921-1796310000-1796317200@dev.wp.drk-bissendorf.de
SUMMARY:Boule Gruppe I
DESCRIPTION:Jeden 1. und 3. Donnerstag im Monat.
URL:https://dev.wp.drk-bissendorf.de/event/boule-gruppe-i-2/2026-12-03/
LOCATION:Dorfgemeinschaftszentrum Jeggener Knütten\, Pfingstweg 112\, Bissendorf\, 49143\, Deutschland
CATEGORIES:Boule
ATTACH;FMTTYPE=image/jpeg:https://dev.wp.drk-bissendorf.de/wp-content/uploads/2026/03/semevent-boule-2458585_1920.jpg
ORGANIZER;CN="DRK-Ortsverein Bissendorf e.V.":MAILTO:anmeldung@drk-bissendorf.de
END:VEVENT
BEGIN:VEVENT
DTSTART;TZID=Europe/Berlin:20261203T153000
DTEND;TZID=Europe/Berlin:20261203T170000
DTSTAMP:20260421T000159
CREATED:20230830T103930Z
LAST-MODIFIED:20260407T194729Z
UID:10000231-1796311800-1796317200@dev.wp.drk-bissendorf.de
SUMMARY:Medien- und Techniklotsen/innen
DESCRIPTION:Die digitale Welt wird täglich größer und verändert sich rasant. Schnell verliert man da den Überblick! Die Medien- und Techniklotsen/innen versuchen Sie zu unterstützen und möchten Ihnen Mut machen mit digitalen Medien Ihren Alltag zu erleichtern
URL:https://dev.wp.drk-bissendorf.de/event/mut-medien-und-techniklotsen-innen-bissendorf/2026-12-03/
LOCATION:Dorfgemeinschaftszentrum Jeggener Knütten\, Pfingstweg 112\, Bissendorf\, 49143\, Deutschland
CATEGORIES:Beratung,Gesundheit & Soziales
ORGANIZER;CN="DRK-Ortsverein Bissendorf e.V.":MAILTO:anmeldung@drk-bissendorf.de
END:VEVENT
BEGIN:VEVENT
DTSTART;TZID=Europe/Berlin:20261207T100000
DTEND;TZID=Europe/Berlin:20261207T120000
DTSTAMP:20260421T000159
CREATED:20260317T223922Z
LAST-MODIFIED:20260317T225729Z
UID:10001130-1796637600-1796644800@dev.wp.drk-bissendorf.de
SUMMARY:Einkaufsfahrten zu Verbrauchermärkten
DESCRIPTION:Wir holen Sie an der Haustür ab und bringen Sie mit Ihren Einkäufen wieder nach Hause. Kostenfrei. \nAnmeldung unter mobil@drk-bissendorf.de oder 05402 965 01-02
URL:https://dev.wp.drk-bissendorf.de/event/einkaufsfahrten-zu-verbrauchermaerkten/2026-12-07/
CATEGORIES:Fahrdienst
ATTACH;FMTTYPE=image/jpeg:https://dev.wp.drk-bissendorf.de/wp-content/uploads/2026/03/Einkauf-mit-Mobil-scaled.jpg
ORGANIZER;CN="DRK-Ortsverein Bissendorf e.V.":MAILTO:anmeldung@drk-bissendorf.de
END:VEVENT
BEGIN:VEVENT
DTSTART;TZID=Europe/Berlin:20261209T160000
DTEND;TZID=Europe/Berlin:20261209T200000
DTSTAMP:20260421T000159
CREATED:20231114T113543Z
LAST-MODIFIED:20260317T231609Z
UID:10001566-1796832000-1796846400@dev.wp.drk-bissendorf.de
SUMMARY:Blutspende
DESCRIPTION:Terminreservierung ist optional möglich unter https://drk-blutspende.de
URL:https://dev.wp.drk-bissendorf.de/event/blutspende-18/2026-12-09/
LOCATION:Dorfgemeinschaftszentrum Jeggener Knütten\, Pfingstweg 112\, Bissendorf\, 49143\, Deutschland
CATEGORIES:Blutspende
ATTACH;FMTTYPE=image/jpeg:https://dev.wp.drk-bissendorf.de/wp-content/uploads/2024/02/DRK_Blutspende_2705_Webformat-HD.jpg.jpg
ORGANIZER;CN="DRK-Blutspendedienst NSTOB gGmbH":MAILTO:info@bsd-nstob.de
END:VEVENT
BEGIN:VEVENT
DTSTART;TZID=Europe/Berlin:20261210T150000
DTEND;TZID=Europe/Berlin:20261210T173000
DTSTAMP:20260421T000159
CREATED:20230522T183036Z
LAST-MODIFIED:20240308T074535Z
UID:10000292-1796914800-1796923800@dev.wp.drk-bissendorf.de
SUMMARY:Spielenachmittag
DESCRIPTION:
URL:https://dev.wp.drk-bissendorf.de/event/spielenachmittag-5/2026-12-10/
LOCATION:Dorfgemeinschaftszentrum Jeggener Knütten\, Pfingstweg 112\, Bissendorf\, 49143\, Deutschland
CATEGORIES:Spielenachmittag
ATTACH;FMTTYPE=image/jpeg:https://dev.wp.drk-bissendorf.de/wp-content/uploads/2023/05/thomas-buchholz-0n7_eiAQZwA-unsplash-2.jpg
ORGANIZER;CN="DRK-Ortsverein Bissendorf e.V.":MAILTO:anmeldung@drk-bissendorf.de
END:VEVENT
BEGIN:VEVENT
DTSTART;TZID=Europe/Berlin:20261214T100000
DTEND;TZID=Europe/Berlin:20261214T120000
DTSTAMP:20260421T000159
CREATED:20260317T223922Z
LAST-MODIFIED:20260317T225729Z
UID:10001131-1797242400-1797249600@dev.wp.drk-bissendorf.de
SUMMARY:Einkaufsfahrten zu Verbrauchermärkten
DESCRIPTION:Wir holen Sie an der Haustür ab und bringen Sie mit Ihren Einkäufen wieder nach Hause. Kostenfrei. \nAnmeldung unter mobil@drk-bissendorf.de oder 05402 965 01-02
URL:https://dev.wp.drk-bissendorf.de/event/einkaufsfahrten-zu-verbrauchermaerkten/2026-12-14/
CATEGORIES:Fahrdienst
ATTACH;FMTTYPE=image/jpeg:https://dev.wp.drk-bissendorf.de/wp-content/uploads/2026/03/Einkauf-mit-Mobil-scaled.jpg
ORGANIZER;CN="DRK-Ortsverein Bissendorf e.V.":MAILTO:anmeldung@drk-bissendorf.de
END:VEVENT
BEGIN:VEVENT
DTSTART;TZID=Europe/Berlin:20261217T150000
DTEND;TZID=Europe/Berlin:20261217T170000
DTSTAMP:20260421T000159
CREATED:20260317T225314Z
LAST-MODIFIED:20260317T225314Z
UID:10000802-1797519600-1797526800@dev.wp.drk-bissendorf.de
SUMMARY:Boule Gruppe I
DESCRIPTION:Jeden 1. und 3. Donnerstag im Monat.
URL:https://dev.wp.drk-bissendorf.de/event/boule-gruppe-i/2026-12-17/
LOCATION:Dorfgemeinschaftszentrum Jeggener Knütten\, Pfingstweg 112\, Bissendorf\, 49143\, Deutschland
CATEGORIES:Boule
ATTACH;FMTTYPE=image/jpeg:https://dev.wp.drk-bissendorf.de/wp-content/uploads/2026/03/semevent-boule-2458585_1920.jpg
ORGANIZER;CN="DRK-Ortsverein Bissendorf e.V.":MAILTO:anmeldung@drk-bissendorf.de
END:VEVENT
BEGIN:VEVENT
DTSTART;TZID=Europe/Berlin:20261221T100000
DTEND;TZID=Europe/Berlin:20261221T120000
DTSTAMP:20260421T000159
CREATED:20260317T223922Z
LAST-MODIFIED:20260317T225729Z
UID:10001132-1797847200-1797854400@dev.wp.drk-bissendorf.de
SUMMARY:Einkaufsfahrten zu Verbrauchermärkten
DESCRIPTION:Wir holen Sie an der Haustür ab und bringen Sie mit Ihren Einkäufen wieder nach Hause. Kostenfrei. \nAnmeldung unter mobil@drk-bissendorf.de oder 05402 965 01-02
URL:https://dev.wp.drk-bissendorf.de/event/einkaufsfahrten-zu-verbrauchermaerkten/2026-12-21/
CATEGORIES:Fahrdienst
ATTACH;FMTTYPE=image/jpeg:https://dev.wp.drk-bissendorf.de/wp-content/uploads/2026/03/Einkauf-mit-Mobil-scaled.jpg
ORGANIZER;CN="DRK-Ortsverein Bissendorf e.V.":MAILTO:anmeldung@drk-bissendorf.de
END:VEVENT
BEGIN:VEVENT
DTSTART;TZID=Europe/Berlin:20261223T100000
DTEND;TZID=Europe/Berlin:20261223T120000
DTSTAMP:20260421T000159
CREATED:20260317T222550Z
LAST-MODIFIED:20260407T193341Z
UID:10000330-1798020000-1798027200@dev.wp.drk-bissendorf.de
SUMMARY:Seniorensprechstunde in Bissendorf
DESCRIPTION:bei Heiko Grube\, Seniorenansprechpartner in der Gemeinde Bissendorf
URL:https://dev.wp.drk-bissendorf.de/event/seniorensprechstunde/2026-12-23/
LOCATION:Haus Bissendorf\, Kirchplatz 3\, Bissendorf\, 49143\, Germany
CATEGORIES:Beratung
ATTACH;FMTTYPE=image/jpeg:https://dev.wp.drk-bissendorf.de/wp-content/uploads/2026/03/resize_1596x1080.jpg
ORGANIZER;CN="DRK-Ortsverein Bissendorf e.V.":MAILTO:anmeldung@drk-bissendorf.de
END:VEVENT
BEGIN:VEVENT
DTSTART;TZID=Europe/Berlin:20261224T150000
DTEND;TZID=Europe/Berlin:20261224T170000
DTSTAMP:20260421T000159
CREATED:20260317T225519Z
LAST-MODIFIED:20260317T225641Z
UID:10001042-1798124400-1798131600@dev.wp.drk-bissendorf.de
SUMMARY:Boule Gruppe II
DESCRIPTION:Jeden 4. Donnerstag im Monat.
URL:https://dev.wp.drk-bissendorf.de/event/boule-gruppe-ii/2026-12-24/
LOCATION:Dorfgemeinschaftszentrum Jeggener Knütten\, Pfingstweg 112\, Bissendorf\, 49143\, Deutschland
CATEGORIES:Boule
ATTACH;FMTTYPE=image/jpeg:https://dev.wp.drk-bissendorf.de/wp-content/uploads/2026/03/semevent-boule-2458585_1920.jpg
ORGANIZER;CN="DRK-Ortsverein Bissendorf e.V.":MAILTO:anmeldung@drk-bissendorf.de
END:VEVENT
BEGIN:VEVENT
DTSTART;TZID=Europe/Berlin:20261225T100000
DTEND;TZID=Europe/Berlin:20261225T113000
DTSTAMP:20260421T000159
CREATED:20260317T223006Z
LAST-MODIFIED:20260407T193331Z
UID:10000450-1798192800-1798198200@dev.wp.drk-bissendorf.de
SUMMARY:Seniorensprechstunde in Schledehausen
DESCRIPTION:bei Heiko Grube\, Seniorenansprechpartner in der Gemeinde Bissendorf
URL:https://dev.wp.drk-bissendorf.de/event/seniorensprechstunde-2/2026-12-25/
LOCATION:Bürgerbüro Schledehausen\, Bergstr. 19\, Bissendorf\, 49143\, Germany
CATEGORIES:Beratung
ATTACH;FMTTYPE=image/jpeg:https://dev.wp.drk-bissendorf.de/wp-content/uploads/2026/03/resize_1596x1080.jpg
ORGANIZER;CN="DRK-Ortsverein Bissendorf e.V.":MAILTO:anmeldung@drk-bissendorf.de
END:VEVENT
BEGIN:VEVENT
DTSTART;TZID=Europe/Berlin:20261228T100000
DTEND;TZID=Europe/Berlin:20261228T120000
DTSTAMP:20260421T000159
CREATED:20260317T223922Z
LAST-MODIFIED:20260317T225729Z
UID:10001133-1798452000-1798459200@dev.wp.drk-bissendorf.de
SUMMARY:Einkaufsfahrten zu Verbrauchermärkten
DESCRIPTION:Wir holen Sie an der Haustür ab und bringen Sie mit Ihren Einkäufen wieder nach Hause. Kostenfrei. \nAnmeldung unter mobil@drk-bissendorf.de oder 05402 965 01-02
URL:https://dev.wp.drk-bissendorf.de/event/einkaufsfahrten-zu-verbrauchermaerkten/2026-12-28/
CATEGORIES:Fahrdienst
ATTACH;FMTTYPE=image/jpeg:https://dev.wp.drk-bissendorf.de/wp-content/uploads/2026/03/Einkauf-mit-Mobil-scaled.jpg
ORGANIZER;CN="DRK-Ortsverein Bissendorf e.V.":MAILTO:anmeldung@drk-bissendorf.de
END:VEVENT
BEGIN:VEVENT
DTSTART;TZID=Europe/Berlin:20261228T143000
DTEND;TZID=Europe/Berlin:20261228T160000
DTSTAMP:20260421T000159
CREATED:20230522T190953Z
LAST-MODIFIED:20260318T121905Z
UID:10000103-1798468200-1798473600@dev.wp.drk-bissendorf.de
SUMMARY:Demenzberatung
DESCRIPTION:In Zusammenarbeit mit der Alzheimer-Gesellschaft Melle e.V.. Richtet sich besonders an pflegende Partner\, Familie und Freunde. Aus persönlichen Erfahrungen werden Informationen zur Krankheit und den Umgang mit Erkrankten gegeben \nAnmeldung unter 05402 965 01-01 oder anmeldung@drk-bissendorf.de
URL:https://dev.wp.drk-bissendorf.de/event/demenzberatung-3/2026-12-28/
LOCATION:Dorfgemeinschaftszentrum Jeggener Knütten\, Pfingstweg 112\, Bissendorf\, 49143\, Deutschland
CATEGORIES:Beratung
ORGANIZER;CN="DRK-Ortsverein Bissendorf e.V.":MAILTO:anmeldung@drk-bissendorf.de
END:VEVENT
END:VCALENDAR