BEGIN:VCALENDAR
VERSION:2.0
PRODID:-//DRK-Ortsverein Bissendorf e.V. - ECPv6.15.20//NONSGML v1.0//EN
CALSCALE:GREGORIAN
METHOD:PUBLISH
X-WR-CALNAME:DRK-Ortsverein Bissendorf e.V.
X-ORIGINAL-URL:https://dev.wp.drk-bissendorf.de
X-WR-CALDESC:Veranstaltungen für DRK-Ortsverein Bissendorf e.V.
REFRESH-INTERVAL;VALUE=DURATION:PT1H
X-Robots-Tag:noindex
X-PUBLISHED-TTL:PT1H
BEGIN:VTIMEZONE
TZID:Europe/Berlin
BEGIN:DAYLIGHT
TZOFFSETFROM:+0100
TZOFFSETTO:+0200
TZNAME:CEST
DTSTART:20290325T010000
END:DAYLIGHT
BEGIN:STANDARD
TZOFFSETFROM:+0200
TZOFFSETTO:+0100
TZNAME:CET
DTSTART:20291028T010000
END:STANDARD
BEGIN:DAYLIGHT
TZOFFSETFROM:+0100
TZOFFSETTO:+0200
TZNAME:CEST
DTSTART:20300331T010000
END:DAYLIGHT
BEGIN:STANDARD
TZOFFSETFROM:+0200
TZOFFSETTO:+0100
TZNAME:CET
DTSTART:20301027T010000
END:STANDARD
BEGIN:DAYLIGHT
TZOFFSETFROM:+0100
TZOFFSETTO:+0200
TZNAME:CEST
DTSTART:20310330T010000
END:DAYLIGHT
BEGIN:STANDARD
TZOFFSETFROM:+0200
TZOFFSETTO:+0100
TZNAME:CET
DTSTART:20311026T010000
END:STANDARD
END:VTIMEZONE
BEGIN:VEVENT
DTSTART;TZID=Europe/Berlin:20300502T150000
DTEND;TZID=Europe/Berlin:20300502T170000
DTSTAMP:20260425T124341
CREATED:20260317T225350Z
LAST-MODIFIED:20260317T225350Z
UID:10000962-1903964400-1903971600@dev.wp.drk-bissendorf.de
SUMMARY:Boule Gruppe I
DESCRIPTION:Jeden 1. und 3. Donnerstag im Monat.
URL:https://dev.wp.drk-bissendorf.de/event/boule-gruppe-i-2/2030-05-02/
LOCATION:Dorfgemeinschaftszentrum Jeggener Knütten\, Pfingstweg 112\, Bissendorf\, 49143\, Deutschland
CATEGORIES:Boule
ATTACH;FMTTYPE=image/jpeg:https://dev.wp.drk-bissendorf.de/wp-content/uploads/2026/03/semevent-boule-2458585_1920.jpg
ORGANIZER;CN="DRK-Ortsverein Bissendorf e.V.":MAILTO:anmeldung@drk-bissendorf.de
END:VEVENT
BEGIN:VEVENT
DTSTART;TZID=Europe/Berlin:20300502T153000
DTEND;TZID=Europe/Berlin:20300502T170000
DTSTAMP:20260425T124341
CREATED:20230830T103930Z
LAST-MODIFIED:20260407T194729Z
UID:10001639-1903966200-1903971600@dev.wp.drk-bissendorf.de
SUMMARY:Medien- und Techniklotsen/innen
DESCRIPTION:Die digitale Welt wird täglich größer und verändert sich rasant. Schnell verliert man da den Überblick! Die Medien- und Techniklotsen/innen versuchen Sie zu unterstützen und möchten Ihnen Mut machen mit digitalen Medien Ihren Alltag zu erleichtern
URL:https://dev.wp.drk-bissendorf.de/event/mut-medien-und-techniklotsen-innen-bissendorf/2030-05-02/
LOCATION:Dorfgemeinschaftszentrum Jeggener Knütten\, Pfingstweg 112\, Bissendorf\, 49143\, Deutschland
CATEGORIES:Beratung,Gesundheit & Soziales
ORGANIZER;CN="DRK-Ortsverein Bissendorf e.V.":MAILTO:anmeldung@drk-bissendorf.de
END:VEVENT
BEGIN:VEVENT
DTSTART;TZID=Europe/Berlin:20300506T100000
DTEND;TZID=Europe/Berlin:20300506T120000
DTSTAMP:20260425T124341
CREATED:20260317T223922Z
LAST-MODIFIED:20260317T225729Z
UID:10001308-1904292000-1904299200@dev.wp.drk-bissendorf.de
SUMMARY:Einkaufsfahrten zu Verbrauchermärkten
DESCRIPTION:Wir holen Sie an der Haustür ab und bringen Sie mit Ihren Einkäufen wieder nach Hause. Kostenfrei. \nAnmeldung unter mobil@drk-bissendorf.de oder 05402 965 01-02
URL:https://dev.wp.drk-bissendorf.de/event/einkaufsfahrten-zu-verbrauchermaerkten/2030-05-06/
CATEGORIES:Fahrdienst
ATTACH;FMTTYPE=image/jpeg:https://dev.wp.drk-bissendorf.de/wp-content/uploads/2026/03/Einkauf-mit-Mobil-scaled.jpg
ORGANIZER;CN="DRK-Ortsverein Bissendorf e.V.":MAILTO:anmeldung@drk-bissendorf.de
END:VEVENT
BEGIN:VEVENT
DTSTART;TZID=Europe/Berlin:20300509T150000
DTEND;TZID=Europe/Berlin:20300509T173000
DTSTAMP:20260425T124341
CREATED:20230522T183036Z
LAST-MODIFIED:20240308T074535Z
UID:10001367-1904569200-1904578200@dev.wp.drk-bissendorf.de
SUMMARY:Spielenachmittag
DESCRIPTION:
URL:https://dev.wp.drk-bissendorf.de/event/spielenachmittag-5/2030-05-09/
LOCATION:Dorfgemeinschaftszentrum Jeggener Knütten\, Pfingstweg 112\, Bissendorf\, 49143\, Deutschland
CATEGORIES:Spielenachmittag
ATTACH;FMTTYPE=image/jpeg:https://dev.wp.drk-bissendorf.de/wp-content/uploads/2023/05/thomas-buchholz-0n7_eiAQZwA-unsplash-2.jpg
ORGANIZER;CN="DRK-Ortsverein Bissendorf e.V.":MAILTO:anmeldung@drk-bissendorf.de
END:VEVENT
BEGIN:VEVENT
DTSTART;TZID=Europe/Berlin:20300513T100000
DTEND;TZID=Europe/Berlin:20300513T120000
DTSTAMP:20260425T124341
CREATED:20260317T223922Z
LAST-MODIFIED:20260317T225729Z
UID:10001309-1904896800-1904904000@dev.wp.drk-bissendorf.de
SUMMARY:Einkaufsfahrten zu Verbrauchermärkten
DESCRIPTION:Wir holen Sie an der Haustür ab und bringen Sie mit Ihren Einkäufen wieder nach Hause. Kostenfrei. \nAnmeldung unter mobil@drk-bissendorf.de oder 05402 965 01-02
URL:https://dev.wp.drk-bissendorf.de/event/einkaufsfahrten-zu-verbrauchermaerkten/2030-05-13/
CATEGORIES:Fahrdienst
ATTACH;FMTTYPE=image/jpeg:https://dev.wp.drk-bissendorf.de/wp-content/uploads/2026/03/Einkauf-mit-Mobil-scaled.jpg
ORGANIZER;CN="DRK-Ortsverein Bissendorf e.V.":MAILTO:anmeldung@drk-bissendorf.de
END:VEVENT
BEGIN:VEVENT
DTSTART;TZID=Europe/Berlin:20300515T093000
DTEND;TZID=Europe/Berlin:20300515T120000
DTSTAMP:20260425T124341
CREATED:20260317T224546Z
LAST-MODIFIED:20260317T224546Z
UID:10000788-1905067800-1905076800@dev.wp.drk-bissendorf.de
SUMMARY:Seniorenfrühstück
DESCRIPTION:Anmeldung jeweils zwischen dem 1. und 10. des jeweiligen Monats unter anmeldung@drk-bissendorf.de oder 05402 965 01-01.
URL:https://dev.wp.drk-bissendorf.de/event/seniorenfruehstueck-4/2030-05-15/
LOCATION:Dorfgemeinschaftszentrum Jeggener Knütten\, Pfingstweg 112\, Bissendorf\, 49143\, Deutschland
ORGANIZER;CN="DRK-Ortsverein Bissendorf e.V.":MAILTO:anmeldung@drk-bissendorf.de
END:VEVENT
BEGIN:VEVENT
DTSTART;TZID=Europe/Berlin:20300516T150000
DTEND;TZID=Europe/Berlin:20300516T170000
DTSTAMP:20260425T124341
CREATED:20260317T225314Z
LAST-MODIFIED:20260317T225314Z
UID:10000843-1905174000-1905181200@dev.wp.drk-bissendorf.de
SUMMARY:Boule Gruppe I
DESCRIPTION:Jeden 1. und 3. Donnerstag im Monat.
URL:https://dev.wp.drk-bissendorf.de/event/boule-gruppe-i/2030-05-16/
LOCATION:Dorfgemeinschaftszentrum Jeggener Knütten\, Pfingstweg 112\, Bissendorf\, 49143\, Deutschland
CATEGORIES:Boule
ATTACH;FMTTYPE=image/jpeg:https://dev.wp.drk-bissendorf.de/wp-content/uploads/2026/03/semevent-boule-2458585_1920.jpg
ORGANIZER;CN="DRK-Ortsverein Bissendorf e.V.":MAILTO:anmeldung@drk-bissendorf.de
END:VEVENT
BEGIN:VEVENT
DTSTART;TZID=Europe/Berlin:20300520T100000
DTEND;TZID=Europe/Berlin:20300520T120000
DTSTAMP:20260425T124341
CREATED:20260317T223922Z
LAST-MODIFIED:20260317T225729Z
UID:10001310-1905501600-1905508800@dev.wp.drk-bissendorf.de
SUMMARY:Einkaufsfahrten zu Verbrauchermärkten
DESCRIPTION:Wir holen Sie an der Haustür ab und bringen Sie mit Ihren Einkäufen wieder nach Hause. Kostenfrei. \nAnmeldung unter mobil@drk-bissendorf.de oder 05402 965 01-02
URL:https://dev.wp.drk-bissendorf.de/event/einkaufsfahrten-zu-verbrauchermaerkten/2030-05-20/
CATEGORIES:Fahrdienst
ATTACH;FMTTYPE=image/jpeg:https://dev.wp.drk-bissendorf.de/wp-content/uploads/2026/03/Einkauf-mit-Mobil-scaled.jpg
ORGANIZER;CN="DRK-Ortsverein Bissendorf e.V.":MAILTO:anmeldung@drk-bissendorf.de
END:VEVENT
BEGIN:VEVENT
DTSTART;TZID=Europe/Berlin:20300522T100000
DTEND;TZID=Europe/Berlin:20300522T120000
DTSTAMP:20260425T124341
CREATED:20260317T222550Z
LAST-MODIFIED:20260407T193341Z
UID:10000371-1905674400-1905681600@dev.wp.drk-bissendorf.de
SUMMARY:Seniorensprechstunde in Bissendorf
DESCRIPTION:bei Heiko Grube\, Seniorenansprechpartner in der Gemeinde Bissendorf
URL:https://dev.wp.drk-bissendorf.de/event/seniorensprechstunde/2030-05-22/
LOCATION:Haus Bissendorf\, Kirchplatz 3\, Bissendorf\, 49143\, Germany
CATEGORIES:Beratung
ATTACH;FMTTYPE=image/jpeg:https://dev.wp.drk-bissendorf.de/wp-content/uploads/2026/03/resize_1596x1080.jpg
ORGANIZER;CN="DRK-Ortsverein Bissendorf e.V.":MAILTO:anmeldung@drk-bissendorf.de
END:VEVENT
BEGIN:VEVENT
DTSTART;TZID=Europe/Berlin:20300523T150000
DTEND;TZID=Europe/Berlin:20300523T170000
DTSTAMP:20260425T124341
CREATED:20260317T225519Z
LAST-MODIFIED:20260317T225641Z
UID:10001083-1905778800-1905786000@dev.wp.drk-bissendorf.de
SUMMARY:Boule Gruppe II
DESCRIPTION:Jeden 4. Donnerstag im Monat.
URL:https://dev.wp.drk-bissendorf.de/event/boule-gruppe-ii/2030-05-23/
LOCATION:Dorfgemeinschaftszentrum Jeggener Knütten\, Pfingstweg 112\, Bissendorf\, 49143\, Deutschland
CATEGORIES:Boule
ATTACH;FMTTYPE=image/jpeg:https://dev.wp.drk-bissendorf.de/wp-content/uploads/2026/03/semevent-boule-2458585_1920.jpg
ORGANIZER;CN="DRK-Ortsverein Bissendorf e.V.":MAILTO:anmeldung@drk-bissendorf.de
END:VEVENT
BEGIN:VEVENT
DTSTART;TZID=Europe/Berlin:20300524T100000
DTEND;TZID=Europe/Berlin:20300524T113000
DTSTAMP:20260425T124341
CREATED:20260317T223006Z
LAST-MODIFIED:20260407T193331Z
UID:10001616-1905847200-1905852600@dev.wp.drk-bissendorf.de
SUMMARY:Seniorensprechstunde in Schledehausen
DESCRIPTION:bei Heiko Grube\, Seniorenansprechpartner in der Gemeinde Bissendorf
URL:https://dev.wp.drk-bissendorf.de/event/seniorensprechstunde-2/2030-05-24/
LOCATION:Bürgerbüro Schledehausen\, Bergstr. 19\, Bissendorf\, 49143\, Germany
CATEGORIES:Beratung
ATTACH;FMTTYPE=image/jpeg:https://dev.wp.drk-bissendorf.de/wp-content/uploads/2026/03/resize_1596x1080.jpg
ORGANIZER;CN="DRK-Ortsverein Bissendorf e.V.":MAILTO:anmeldung@drk-bissendorf.de
END:VEVENT
BEGIN:VEVENT
DTSTART;TZID=Europe/Berlin:20300527T100000
DTEND;TZID=Europe/Berlin:20300527T120000
DTSTAMP:20260425T124341
CREATED:20260317T223922Z
LAST-MODIFIED:20260317T225729Z
UID:10001311-1906106400-1906113600@dev.wp.drk-bissendorf.de
SUMMARY:Einkaufsfahrten zu Verbrauchermärkten
DESCRIPTION:Wir holen Sie an der Haustür ab und bringen Sie mit Ihren Einkäufen wieder nach Hause. Kostenfrei. \nAnmeldung unter mobil@drk-bissendorf.de oder 05402 965 01-02
URL:https://dev.wp.drk-bissendorf.de/event/einkaufsfahrten-zu-verbrauchermaerkten/2030-05-27/
CATEGORIES:Fahrdienst
ATTACH;FMTTYPE=image/jpeg:https://dev.wp.drk-bissendorf.de/wp-content/uploads/2026/03/Einkauf-mit-Mobil-scaled.jpg
ORGANIZER;CN="DRK-Ortsverein Bissendorf e.V.":MAILTO:anmeldung@drk-bissendorf.de
END:VEVENT
BEGIN:VEVENT
DTSTART;TZID=Europe/Berlin:20300527T143000
DTEND;TZID=Europe/Berlin:20300527T160000
DTSTAMP:20260425T124341
CREATED:20230522T190953Z
LAST-MODIFIED:20260318T121905Z
UID:10001585-1906122600-1906128000@dev.wp.drk-bissendorf.de
SUMMARY:Demenzberatung
DESCRIPTION:In Zusammenarbeit mit der Alzheimer-Gesellschaft Melle e.V.. Richtet sich besonders an pflegende Partner\, Familie und Freunde. Aus persönlichen Erfahrungen werden Informationen zur Krankheit und den Umgang mit Erkrankten gegeben \nAnmeldung unter 05402 965 01-01 oder anmeldung@drk-bissendorf.de
URL:https://dev.wp.drk-bissendorf.de/event/demenzberatung-3/2030-05-27/
LOCATION:Dorfgemeinschaftszentrum Jeggener Knütten\, Pfingstweg 112\, Bissendorf\, 49143\, Deutschland
CATEGORIES:Beratung
ORGANIZER;CN="DRK-Ortsverein Bissendorf e.V.":MAILTO:anmeldung@drk-bissendorf.de
END:VEVENT
END:VCALENDAR