BEGIN:VCALENDAR
VERSION:2.0
PRODID:-//DRK-Ortsverein Bissendorf e.V. - ECPv6.15.20//NONSGML v1.0//EN
CALSCALE:GREGORIAN
METHOD:PUBLISH
X-ORIGINAL-URL:https://dev.wp.drk-bissendorf.de
X-WR-CALDESC:Veranstaltungen für DRK-Ortsverein Bissendorf e.V.
REFRESH-INTERVAL;VALUE=DURATION:PT1H
X-Robots-Tag:noindex
X-PUBLISHED-TTL:PT1H
BEGIN:VTIMEZONE
TZID:Europe/Berlin
BEGIN:DAYLIGHT
TZOFFSETFROM:+0100
TZOFFSETTO:+0200
TZNAME:CEST
DTSTART:20290325T010000
END:DAYLIGHT
BEGIN:STANDARD
TZOFFSETFROM:+0200
TZOFFSETTO:+0100
TZNAME:CET
DTSTART:20291028T010000
END:STANDARD
BEGIN:DAYLIGHT
TZOFFSETFROM:+0100
TZOFFSETTO:+0200
TZNAME:CEST
DTSTART:20300331T010000
END:DAYLIGHT
BEGIN:STANDARD
TZOFFSETFROM:+0200
TZOFFSETTO:+0100
TZNAME:CET
DTSTART:20301027T010000
END:STANDARD
BEGIN:DAYLIGHT
TZOFFSETFROM:+0100
TZOFFSETTO:+0200
TZNAME:CEST
DTSTART:20310330T010000
END:DAYLIGHT
BEGIN:STANDARD
TZOFFSETFROM:+0200
TZOFFSETTO:+0100
TZNAME:CET
DTSTART:20311026T010000
END:STANDARD
END:VTIMEZONE
BEGIN:VEVENT
DTSTART;TZID=Europe/Berlin:20301202T100000
DTEND;TZID=Europe/Berlin:20301202T120000
DTSTAMP:20260426T001745
CREATED:20260317T223922Z
LAST-MODIFIED:20260317T225729Z
UID:10001338-1922436000-1922443200@dev.wp.drk-bissendorf.de
SUMMARY:Einkaufsfahrten zu Verbrauchermärkten
DESCRIPTION:Wir holen Sie an der Haustür ab und bringen Sie mit Ihren Einkäufen wieder nach Hause. Kostenfrei. \nAnmeldung unter mobil@drk-bissendorf.de oder 05402 965 01-02
URL:https://dev.wp.drk-bissendorf.de/event/einkaufsfahrten-zu-verbrauchermaerkten/2030-12-02/
CATEGORIES:Fahrdienst
ATTACH;FMTTYPE=image/jpeg:https://dev.wp.drk-bissendorf.de/wp-content/uploads/2026/03/Einkauf-mit-Mobil-scaled.jpg
ORGANIZER;CN="DRK-Ortsverein Bissendorf e.V.":MAILTO:anmeldung@drk-bissendorf.de
END:VEVENT
BEGIN:VEVENT
DTSTART;TZID=Europe/Berlin:20301205T150000
DTEND;TZID=Europe/Berlin:20301205T170000
DTSTAMP:20260426T001745
CREATED:20260317T225350Z
LAST-MODIFIED:20260317T225350Z
UID:10000969-1922713200-1922720400@dev.wp.drk-bissendorf.de
SUMMARY:Boule Gruppe I
DESCRIPTION:Jeden 1. und 3. Donnerstag im Monat.
URL:https://dev.wp.drk-bissendorf.de/event/boule-gruppe-i-2/2030-12-05/
LOCATION:Dorfgemeinschaftszentrum Jeggener Knütten\, Pfingstweg 112\, Bissendorf\, 49143\, Deutschland
CATEGORIES:Boule
ATTACH;FMTTYPE=image/jpeg:https://dev.wp.drk-bissendorf.de/wp-content/uploads/2026/03/semevent-boule-2458585_1920.jpg
ORGANIZER;CN="DRK-Ortsverein Bissendorf e.V.":MAILTO:anmeldung@drk-bissendorf.de
END:VEVENT
BEGIN:VEVENT
DTSTART;TZID=Europe/Berlin:20301205T153000
DTEND;TZID=Europe/Berlin:20301205T170000
DTSTAMP:20260426T001745
CREATED:20230830T103930Z
LAST-MODIFIED:20260407T194729Z
UID:10001646-1922715000-1922720400@dev.wp.drk-bissendorf.de
SUMMARY:Medien- und Techniklotsen/innen
DESCRIPTION:Die digitale Welt wird täglich größer und verändert sich rasant. Schnell verliert man da den Überblick! Die Medien- und Techniklotsen/innen versuchen Sie zu unterstützen und möchten Ihnen Mut machen mit digitalen Medien Ihren Alltag zu erleichtern
URL:https://dev.wp.drk-bissendorf.de/event/mut-medien-und-techniklotsen-innen-bissendorf/2030-12-05/
LOCATION:Dorfgemeinschaftszentrum Jeggener Knütten\, Pfingstweg 112\, Bissendorf\, 49143\, Deutschland
CATEGORIES:Beratung,Gesundheit & Soziales
ORGANIZER;CN="DRK-Ortsverein Bissendorf e.V.":MAILTO:anmeldung@drk-bissendorf.de
END:VEVENT
BEGIN:VEVENT
DTSTART;TZID=Europe/Berlin:20301209T100000
DTEND;TZID=Europe/Berlin:20301209T120000
DTSTAMP:20260426T001745
CREATED:20260317T223922Z
LAST-MODIFIED:20260317T225729Z
UID:10001339-1923040800-1923048000@dev.wp.drk-bissendorf.de
SUMMARY:Einkaufsfahrten zu Verbrauchermärkten
DESCRIPTION:Wir holen Sie an der Haustür ab und bringen Sie mit Ihren Einkäufen wieder nach Hause. Kostenfrei. \nAnmeldung unter mobil@drk-bissendorf.de oder 05402 965 01-02
URL:https://dev.wp.drk-bissendorf.de/event/einkaufsfahrten-zu-verbrauchermaerkten/2030-12-09/
CATEGORIES:Fahrdienst
ATTACH;FMTTYPE=image/jpeg:https://dev.wp.drk-bissendorf.de/wp-content/uploads/2026/03/Einkauf-mit-Mobil-scaled.jpg
ORGANIZER;CN="DRK-Ortsverein Bissendorf e.V.":MAILTO:anmeldung@drk-bissendorf.de
END:VEVENT
BEGIN:VEVENT
DTSTART;TZID=Europe/Berlin:20301212T150000
DTEND;TZID=Europe/Berlin:20301212T173000
DTSTAMP:20260426T001745
CREATED:20230522T183036Z
LAST-MODIFIED:20240308T074535Z
UID:10001374-1923318000-1923327000@dev.wp.drk-bissendorf.de
SUMMARY:Spielenachmittag
DESCRIPTION:
URL:https://dev.wp.drk-bissendorf.de/event/spielenachmittag-5/2030-12-12/
LOCATION:Dorfgemeinschaftszentrum Jeggener Knütten\, Pfingstweg 112\, Bissendorf\, 49143\, Deutschland
CATEGORIES:Spielenachmittag
ATTACH;FMTTYPE=image/jpeg:https://dev.wp.drk-bissendorf.de/wp-content/uploads/2023/05/thomas-buchholz-0n7_eiAQZwA-unsplash-2.jpg
ORGANIZER;CN="DRK-Ortsverein Bissendorf e.V.":MAILTO:anmeldung@drk-bissendorf.de
END:VEVENT
BEGIN:VEVENT
DTSTART;TZID=Europe/Berlin:20301216T100000
DTEND;TZID=Europe/Berlin:20301216T120000
DTSTAMP:20260426T001745
CREATED:20260317T223922Z
LAST-MODIFIED:20260317T225729Z
UID:10001340-1923645600-1923652800@dev.wp.drk-bissendorf.de
SUMMARY:Einkaufsfahrten zu Verbrauchermärkten
DESCRIPTION:Wir holen Sie an der Haustür ab und bringen Sie mit Ihren Einkäufen wieder nach Hause. Kostenfrei. \nAnmeldung unter mobil@drk-bissendorf.de oder 05402 965 01-02
URL:https://dev.wp.drk-bissendorf.de/event/einkaufsfahrten-zu-verbrauchermaerkten/2030-12-16/
CATEGORIES:Fahrdienst
ATTACH;FMTTYPE=image/jpeg:https://dev.wp.drk-bissendorf.de/wp-content/uploads/2026/03/Einkauf-mit-Mobil-scaled.jpg
ORGANIZER;CN="DRK-Ortsverein Bissendorf e.V.":MAILTO:anmeldung@drk-bissendorf.de
END:VEVENT
BEGIN:VEVENT
DTSTART;TZID=Europe/Berlin:20301219T150000
DTEND;TZID=Europe/Berlin:20301219T170000
DTSTAMP:20260426T001745
CREATED:20260317T225314Z
LAST-MODIFIED:20260317T225314Z
UID:10000850-1923922800-1923930000@dev.wp.drk-bissendorf.de
SUMMARY:Boule Gruppe I
DESCRIPTION:Jeden 1. und 3. Donnerstag im Monat.
URL:https://dev.wp.drk-bissendorf.de/event/boule-gruppe-i/2030-12-19/
LOCATION:Dorfgemeinschaftszentrum Jeggener Knütten\, Pfingstweg 112\, Bissendorf\, 49143\, Deutschland
CATEGORIES:Boule
ATTACH;FMTTYPE=image/jpeg:https://dev.wp.drk-bissendorf.de/wp-content/uploads/2026/03/semevent-boule-2458585_1920.jpg
ORGANIZER;CN="DRK-Ortsverein Bissendorf e.V.":MAILTO:anmeldung@drk-bissendorf.de
END:VEVENT
BEGIN:VEVENT
DTSTART;TZID=Europe/Berlin:20301223T100000
DTEND;TZID=Europe/Berlin:20301223T120000
DTSTAMP:20260426T001745
CREATED:20260317T223922Z
LAST-MODIFIED:20260317T225729Z
UID:10001341-1924250400-1924257600@dev.wp.drk-bissendorf.de
SUMMARY:Einkaufsfahrten zu Verbrauchermärkten
DESCRIPTION:Wir holen Sie an der Haustür ab und bringen Sie mit Ihren Einkäufen wieder nach Hause. Kostenfrei. \nAnmeldung unter mobil@drk-bissendorf.de oder 05402 965 01-02
URL:https://dev.wp.drk-bissendorf.de/event/einkaufsfahrten-zu-verbrauchermaerkten/2030-12-23/
CATEGORIES:Fahrdienst
ATTACH;FMTTYPE=image/jpeg:https://dev.wp.drk-bissendorf.de/wp-content/uploads/2026/03/Einkauf-mit-Mobil-scaled.jpg
ORGANIZER;CN="DRK-Ortsverein Bissendorf e.V.":MAILTO:anmeldung@drk-bissendorf.de
END:VEVENT
BEGIN:VEVENT
DTSTART;TZID=Europe/Berlin:20301225T100000
DTEND;TZID=Europe/Berlin:20301225T120000
DTSTAMP:20260426T001745
CREATED:20260317T222550Z
LAST-MODIFIED:20260407T193341Z
UID:10000378-1924423200-1924430400@dev.wp.drk-bissendorf.de
SUMMARY:Seniorensprechstunde in Bissendorf
DESCRIPTION:bei Heiko Grube\, Seniorenansprechpartner in der Gemeinde Bissendorf
URL:https://dev.wp.drk-bissendorf.de/event/seniorensprechstunde/2030-12-25/
LOCATION:Haus Bissendorf\, Kirchplatz 3\, Bissendorf\, 49143\, Germany
CATEGORIES:Beratung
ATTACH;FMTTYPE=image/jpeg:https://dev.wp.drk-bissendorf.de/wp-content/uploads/2026/03/resize_1596x1080.jpg
ORGANIZER;CN="DRK-Ortsverein Bissendorf e.V.":MAILTO:anmeldung@drk-bissendorf.de
END:VEVENT
BEGIN:VEVENT
DTSTART;TZID=Europe/Berlin:20301226T150000
DTEND;TZID=Europe/Berlin:20301226T170000
DTSTAMP:20260426T001745
CREATED:20260317T225519Z
LAST-MODIFIED:20260317T225641Z
UID:10001090-1924527600-1924534800@dev.wp.drk-bissendorf.de
SUMMARY:Boule Gruppe II
DESCRIPTION:Jeden 4. Donnerstag im Monat.
URL:https://dev.wp.drk-bissendorf.de/event/boule-gruppe-ii/2030-12-26/
LOCATION:Dorfgemeinschaftszentrum Jeggener Knütten\, Pfingstweg 112\, Bissendorf\, 49143\, Deutschland
CATEGORIES:Boule
ATTACH;FMTTYPE=image/jpeg:https://dev.wp.drk-bissendorf.de/wp-content/uploads/2026/03/semevent-boule-2458585_1920.jpg
ORGANIZER;CN="DRK-Ortsverein Bissendorf e.V.":MAILTO:anmeldung@drk-bissendorf.de
END:VEVENT
BEGIN:VEVENT
DTSTART;TZID=Europe/Berlin:20301227T100000
DTEND;TZID=Europe/Berlin:20301227T113000
DTSTAMP:20260426T001745
CREATED:20260317T223006Z
LAST-MODIFIED:20260407T193331Z
UID:10000498-1924596000-1924601400@dev.wp.drk-bissendorf.de
SUMMARY:Seniorensprechstunde in Schledehausen
DESCRIPTION:bei Heiko Grube\, Seniorenansprechpartner in der Gemeinde Bissendorf
URL:https://dev.wp.drk-bissendorf.de/event/seniorensprechstunde-2/2030-12-27/
LOCATION:Bürgerbüro Schledehausen\, Bergstr. 19\, Bissendorf\, 49143\, Germany
CATEGORIES:Beratung
ATTACH;FMTTYPE=image/jpeg:https://dev.wp.drk-bissendorf.de/wp-content/uploads/2026/03/resize_1596x1080.jpg
ORGANIZER;CN="DRK-Ortsverein Bissendorf e.V.":MAILTO:anmeldung@drk-bissendorf.de
END:VEVENT
BEGIN:VEVENT
DTSTART;TZID=Europe/Berlin:20301230T100000
DTEND;TZID=Europe/Berlin:20301230T120000
DTSTAMP:20260426T001745
CREATED:20260317T223922Z
LAST-MODIFIED:20260317T225729Z
UID:10001342-1924855200-1924862400@dev.wp.drk-bissendorf.de
SUMMARY:Einkaufsfahrten zu Verbrauchermärkten
DESCRIPTION:Wir holen Sie an der Haustür ab und bringen Sie mit Ihren Einkäufen wieder nach Hause. Kostenfrei. \nAnmeldung unter mobil@drk-bissendorf.de oder 05402 965 01-02
URL:https://dev.wp.drk-bissendorf.de/event/einkaufsfahrten-zu-verbrauchermaerkten/2030-12-30/
CATEGORIES:Fahrdienst
ATTACH;FMTTYPE=image/jpeg:https://dev.wp.drk-bissendorf.de/wp-content/uploads/2026/03/Einkauf-mit-Mobil-scaled.jpg
ORGANIZER;CN="DRK-Ortsverein Bissendorf e.V.":MAILTO:anmeldung@drk-bissendorf.de
END:VEVENT
BEGIN:VEVENT
DTSTART;TZID=Europe/Berlin:20301230T143000
DTEND;TZID=Europe/Berlin:20301230T160000
DTSTAMP:20260426T001745
CREATED:20230522T190953Z
LAST-MODIFIED:20260318T121905Z
UID:10001592-1924871400-1924876800@dev.wp.drk-bissendorf.de
SUMMARY:Demenzberatung
DESCRIPTION:In Zusammenarbeit mit der Alzheimer-Gesellschaft Melle e.V.. Richtet sich besonders an pflegende Partner\, Familie und Freunde. Aus persönlichen Erfahrungen werden Informationen zur Krankheit und den Umgang mit Erkrankten gegeben \nAnmeldung unter 05402 965 01-01 oder anmeldung@drk-bissendorf.de
URL:https://dev.wp.drk-bissendorf.de/event/demenzberatung-3/2030-12-30/
LOCATION:Dorfgemeinschaftszentrum Jeggener Knütten\, Pfingstweg 112\, Bissendorf\, 49143\, Deutschland
CATEGORIES:Beratung
ORGANIZER;CN="DRK-Ortsverein Bissendorf e.V.":MAILTO:anmeldung@drk-bissendorf.de
END:VEVENT
END:VCALENDAR