BEGIN:VCALENDAR
VERSION:2.0
PRODID:-//DRK-Ortsverein Bissendorf e.V. - ECPv6.15.20//NONSGML v1.0//EN
CALSCALE:GREGORIAN
METHOD:PUBLISH
X-WR-CALNAME:DRK-Ortsverein Bissendorf e.V.
X-ORIGINAL-URL:https://dev.wp.drk-bissendorf.de
X-WR-CALDESC:Veranstaltungen für DRK-Ortsverein Bissendorf e.V.
REFRESH-INTERVAL;VALUE=DURATION:PT1H
X-Robots-Tag:noindex
X-PUBLISHED-TTL:PT1H
BEGIN:VTIMEZONE
TZID:Europe/Berlin
BEGIN:DAYLIGHT
TZOFFSETFROM:+0100
TZOFFSETTO:+0200
TZNAME:CEST
DTSTART:20220327T010000
END:DAYLIGHT
BEGIN:STANDARD
TZOFFSETFROM:+0200
TZOFFSETTO:+0100
TZNAME:CET
DTSTART:20221030T010000
END:STANDARD
BEGIN:DAYLIGHT
TZOFFSETFROM:+0100
TZOFFSETTO:+0200
TZNAME:CEST
DTSTART:20230326T010000
END:DAYLIGHT
BEGIN:STANDARD
TZOFFSETFROM:+0200
TZOFFSETTO:+0100
TZNAME:CET
DTSTART:20231029T010000
END:STANDARD
BEGIN:DAYLIGHT
TZOFFSETFROM:+0100
TZOFFSETTO:+0200
TZNAME:CEST
DTSTART:20240331T010000
END:DAYLIGHT
BEGIN:STANDARD
TZOFFSETFROM:+0200
TZOFFSETTO:+0100
TZNAME:CET
DTSTART:20241027T010000
END:STANDARD
END:VTIMEZONE
BEGIN:VEVENT
DTSTART;TZID=Europe/Berlin:20231207T153000
DTEND;TZID=Europe/Berlin:20231207T170000
DTSTAMP:20260421T013603
CREATED:20230830T103930Z
LAST-MODIFIED:20260407T194729Z
UID:10000127-1701963000-1701968400@dev.wp.drk-bissendorf.de
SUMMARY:Medien- und Techniklotsen/innen
DESCRIPTION:Die digitale Welt wird täglich größer und verändert sich rasant. Schnell verliert man da den Überblick! Die Medien- und Techniklotsen/innen versuchen Sie zu unterstützen und möchten Ihnen Mut machen mit digitalen Medien Ihren Alltag zu erleichtern
URL:https://dev.wp.drk-bissendorf.de/event/mut-medien-und-techniklotsen-innen-bissendorf/2023-12-07/
LOCATION:Dorfgemeinschaftszentrum Jeggener Knütten\, Pfingstweg 112\, Bissendorf\, 49143\, Deutschland
CATEGORIES:Beratung,Gesundheit & Soziales
ORGANIZER;CN="DRK-Ortsverein Bissendorf e.V.":MAILTO:anmeldung@drk-bissendorf.de
END:VEVENT
BEGIN:VEVENT
DTSTART;TZID=Europe/Berlin:20231201T190000
DTEND;TZID=Europe/Berlin:20231201T190000
DTSTAMP:20260421T013603
CREATED:20231115T180559Z
LAST-MODIFIED:20231115T181141Z
UID:10000192-1701457200-1701457200@dev.wp.drk-bissendorf.de
SUMMARY:Adventsleuchten
DESCRIPTION:Bei Bratwurst\, Glühwein und Bier
URL:https://dev.wp.drk-bissendorf.de/event/adventsleuchten/
LOCATION:Dorfgemeinschaftszentrum Jeggener Knütten\, Pfingstweg 112\, Bissendorf\, 49143\, Deutschland
CATEGORIES:Feste & Feiern
ORGANIZER;CN="DRK-Ortsverein Bissendorf e.V.":MAILTO:anmeldung@drk-bissendorf.de
END:VEVENT
BEGIN:VEVENT
DTSTART;TZID=Europe/Berlin:20231127T143000
DTEND;TZID=Europe/Berlin:20231127T160000
DTSTAMP:20260421T013603
CREATED:20230522T190953Z
LAST-MODIFIED:20260318T121905Z
UID:10000067-1701095400-1701100800@dev.wp.drk-bissendorf.de
SUMMARY:Demenzberatung
DESCRIPTION:In Zusammenarbeit mit der Alzheimer-Gesellschaft Melle e.V.. Richtet sich besonders an pflegende Partner\, Familie und Freunde. Aus persönlichen Erfahrungen werden Informationen zur Krankheit und den Umgang mit Erkrankten gegeben \nAnmeldung unter 05402 965 01-01 oder anmeldung@drk-bissendorf.de
URL:https://dev.wp.drk-bissendorf.de/event/demenzberatung-3/2023-11-27/
LOCATION:Dorfgemeinschaftszentrum Jeggener Knütten\, Pfingstweg 112\, Bissendorf\, 49143\, Deutschland
CATEGORIES:Beratung
ORGANIZER;CN="DRK-Ortsverein Bissendorf e.V.":MAILTO:anmeldung@drk-bissendorf.de
END:VEVENT
BEGIN:VEVENT
DTSTART;TZID=Europe/Berlin:20231120T150000
DTEND;TZID=Europe/Berlin:20231120T170000
DTSTAMP:20260421T013603
CREATED:20230905T081031Z
LAST-MODIFIED:20230905T081031Z
UID:10000138-1700492400-1700499600@dev.wp.drk-bissendorf.de
SUMMARY:Bissendorfer Fahrdienst (==> Bissendorf)
DESCRIPTION:Angesteuert werden im 14-tägigen Wechsel die Supermärkte EDEKA Brörmann in Schledehausen und NETTO in Bissendorf. Wir holen Sie an der Haustür ab und bringen Sie mit den Einkäufen wieder nach Hause. Damit möchten wir Ihnen die Eigenständigkeit in Ihrem eigenen Zuhause erleichtern. Der Bissendorfer Fahrdienst ist für die Nutzer der gesamten Gemeinde völlig kostenfrei! \nAnmeldung unter\nT: 05402 965 01 02 oder\nE: mobil@drk-bissendorf.de \n 
URL:https://dev.wp.drk-bissendorf.de/event/bissendorfer-fahrdienst-bissendorf-2/2023-11-20/
ORGANIZER;CN="DRK-Ortsverein Bissendorf e.V.":MAILTO:anmeldung@drk-bissendorf.de
END:VEVENT
BEGIN:VEVENT
DTSTART;TZID=Europe/Berlin:20231115T093000
DTEND;TZID=Europe/Berlin:20231115T120000
DTSTAMP:20260421T013603
CREATED:20230522T213253Z
LAST-MODIFIED:20231114T104804Z
UID:10000024-1700040600-1700049600@dev.wp.drk-bissendorf.de
SUMMARY:Seniorenfrühstück
DESCRIPTION:Anmeldung und Fahrdienst bis 2 Tage vorher (Montag) unter 05402 965 01-01 oder anmeldung@drk-bissendorf.de.
URL:https://dev.wp.drk-bissendorf.de/event/seniorenfruehstueck-3/2023-11-15/
LOCATION:Dorfgemeinschaftszentrum Jeggener Knütten\, Pfingstweg 112\, Bissendorf\, 49143\, Deutschland
CATEGORIES:Seniorenfrühstück
ORGANIZER;CN="DRK-Ortsverein Bissendorf e.V.":MAILTO:anmeldung@drk-bissendorf.de
END:VEVENT
BEGIN:VEVENT
DTSTART;TZID=Europe/Berlin:20231109T150000
DTEND;TZID=Europe/Berlin:20231109T173000
DTSTAMP:20260421T013603
CREATED:20230522T183036Z
LAST-MODIFIED:20240308T074535Z
UID:10000255-1699542000-1699551000@dev.wp.drk-bissendorf.de
SUMMARY:Spielenachmittag
DESCRIPTION:
URL:https://dev.wp.drk-bissendorf.de/event/spielenachmittag-5/2023-11-09/
LOCATION:Dorfgemeinschaftszentrum Jeggener Knütten\, Pfingstweg 112\, Bissendorf\, 49143\, Deutschland
CATEGORIES:Spielenachmittag
ATTACH;FMTTYPE=image/jpeg:https://dev.wp.drk-bissendorf.de/wp-content/uploads/2023/05/thomas-buchholz-0n7_eiAQZwA-unsplash-2.jpg
ORGANIZER;CN="DRK-Ortsverein Bissendorf e.V.":MAILTO:anmeldung@drk-bissendorf.de
END:VEVENT
BEGIN:VEVENT
DTSTART;TZID=Europe/Berlin:20231109T080000
DTEND;TZID=Europe/Berlin:20231109T170000
DTSTAMP:20260421T013603
CREATED:20230522T183110Z
LAST-MODIFIED:20230522T191123Z
UID:10000006-1699516800-1699549200@dev.wp.drk-bissendorf.de
SUMMARY:Spielenachmittag
DESCRIPTION:
URL:https://dev.wp.drk-bissendorf.de/event/spielenachmittag-6/
LOCATION:Dorfgemeinschaftszentrum Jeggener Knütten\, Pfingstweg 112\, Bissendorf\, 49143\, Deutschland
CATEGORIES:Spielenachmittag
ORGANIZER;CN="DRK-Ortsverein Bissendorf e.V.":MAILTO:anmeldung@drk-bissendorf.de
END:VEVENT
BEGIN:VEVENT
DTSTART;TZID=Europe/Berlin:20231102T153000
DTEND;TZID=Europe/Berlin:20231102T170000
DTSTAMP:20260421T013603
CREATED:20230830T103930Z
LAST-MODIFIED:20260407T194729Z
UID:10000126-1698939000-1698944400@dev.wp.drk-bissendorf.de
SUMMARY:Medien- und Techniklotsen/innen
DESCRIPTION:Die digitale Welt wird täglich größer und verändert sich rasant. Schnell verliert man da den Überblick! Die Medien- und Techniklotsen/innen versuchen Sie zu unterstützen und möchten Ihnen Mut machen mit digitalen Medien Ihren Alltag zu erleichtern
URL:https://dev.wp.drk-bissendorf.de/event/mut-medien-und-techniklotsen-innen-bissendorf/2023-11-02/
LOCATION:Dorfgemeinschaftszentrum Jeggener Knütten\, Pfingstweg 112\, Bissendorf\, 49143\, Deutschland
CATEGORIES:Beratung,Gesundheit & Soziales
ORGANIZER;CN="DRK-Ortsverein Bissendorf e.V.":MAILTO:anmeldung@drk-bissendorf.de
END:VEVENT
BEGIN:VEVENT
DTSTART;TZID=Europe/Berlin:20231030T143000
DTEND;TZID=Europe/Berlin:20231030T160000
DTSTAMP:20260421T013603
CREATED:20230522T190953Z
LAST-MODIFIED:20260318T121905Z
UID:10000066-1698676200-1698681600@dev.wp.drk-bissendorf.de
SUMMARY:Demenzberatung
DESCRIPTION:In Zusammenarbeit mit der Alzheimer-Gesellschaft Melle e.V.. Richtet sich besonders an pflegende Partner\, Familie und Freunde. Aus persönlichen Erfahrungen werden Informationen zur Krankheit und den Umgang mit Erkrankten gegeben \nAnmeldung unter 05402 965 01-01 oder anmeldung@drk-bissendorf.de
URL:https://dev.wp.drk-bissendorf.de/event/demenzberatung-3/2023-10-30/
LOCATION:Dorfgemeinschaftszentrum Jeggener Knütten\, Pfingstweg 112\, Bissendorf\, 49143\, Deutschland
CATEGORIES:Beratung
ORGANIZER;CN="DRK-Ortsverein Bissendorf e.V.":MAILTO:anmeldung@drk-bissendorf.de
END:VEVENT
BEGIN:VEVENT
DTSTART;TZID=Europe/Berlin:20231023T150000
DTEND;TZID=Europe/Berlin:20231023T170000
DTSTAMP:20260421T013603
CREATED:20230905T081031Z
LAST-MODIFIED:20230905T081031Z
UID:10000137-1698073200-1698080400@dev.wp.drk-bissendorf.de
SUMMARY:Bissendorfer Fahrdienst (==> Bissendorf)
DESCRIPTION:Angesteuert werden im 14-tägigen Wechsel die Supermärkte EDEKA Brörmann in Schledehausen und NETTO in Bissendorf. Wir holen Sie an der Haustür ab und bringen Sie mit den Einkäufen wieder nach Hause. Damit möchten wir Ihnen die Eigenständigkeit in Ihrem eigenen Zuhause erleichtern. Der Bissendorfer Fahrdienst ist für die Nutzer der gesamten Gemeinde völlig kostenfrei! \nAnmeldung unter\nT: 05402 965 01 02 oder\nE: mobil@drk-bissendorf.de \n 
URL:https://dev.wp.drk-bissendorf.de/event/bissendorfer-fahrdienst-bissendorf-2/2023-10-23/
ORGANIZER;CN="DRK-Ortsverein Bissendorf e.V.":MAILTO:anmeldung@drk-bissendorf.de
END:VEVENT
BEGIN:VEVENT
DTSTART;TZID=Europe/Berlin:20231012T150000
DTEND;TZID=Europe/Berlin:20231012T173000
DTSTAMP:20260421T013603
CREATED:20230522T183036Z
LAST-MODIFIED:20240308T074535Z
UID:10000005-1697122800-1697131800@dev.wp.drk-bissendorf.de
SUMMARY:Spielenachmittag
DESCRIPTION:
URL:https://dev.wp.drk-bissendorf.de/event/spielenachmittag-5/2023-10-12/
LOCATION:Dorfgemeinschaftszentrum Jeggener Knütten\, Pfingstweg 112\, Bissendorf\, 49143\, Deutschland
CATEGORIES:Spielenachmittag
ATTACH;FMTTYPE=image/jpeg:https://dev.wp.drk-bissendorf.de/wp-content/uploads/2023/05/thomas-buchholz-0n7_eiAQZwA-unsplash-2.jpg
ORGANIZER;CN="DRK-Ortsverein Bissendorf e.V.":MAILTO:anmeldung@drk-bissendorf.de
END:VEVENT
BEGIN:VEVENT
DTSTART;TZID=Europe/Berlin:20231005T153000
DTEND;TZID=Europe/Berlin:20231005T170000
DTSTAMP:20260421T013603
CREATED:20230830T103930Z
LAST-MODIFIED:20260407T194729Z
UID:10000125-1696519800-1696525200@dev.wp.drk-bissendorf.de
SUMMARY:Medien- und Techniklotsen/innen
DESCRIPTION:Die digitale Welt wird täglich größer und verändert sich rasant. Schnell verliert man da den Überblick! Die Medien- und Techniklotsen/innen versuchen Sie zu unterstützen und möchten Ihnen Mut machen mit digitalen Medien Ihren Alltag zu erleichtern
URL:https://dev.wp.drk-bissendorf.de/event/mut-medien-und-techniklotsen-innen-bissendorf/2023-10-05/
LOCATION:Dorfgemeinschaftszentrum Jeggener Knütten\, Pfingstweg 112\, Bissendorf\, 49143\, Deutschland
CATEGORIES:Beratung,Gesundheit & Soziales
ORGANIZER;CN="DRK-Ortsverein Bissendorf e.V.":MAILTO:anmeldung@drk-bissendorf.de
END:VEVENT
BEGIN:VEVENT
DTSTART;TZID=Europe/Berlin:20230925T150000
DTEND;TZID=Europe/Berlin:20230925T170000
DTSTAMP:20260421T013603
CREATED:20230905T081031Z
LAST-MODIFIED:20230905T081031Z
UID:10000136-1695654000-1695661200@dev.wp.drk-bissendorf.de
SUMMARY:Bissendorfer Fahrdienst (==> Bissendorf)
DESCRIPTION:Angesteuert werden im 14-tägigen Wechsel die Supermärkte EDEKA Brörmann in Schledehausen und NETTO in Bissendorf. Wir holen Sie an der Haustür ab und bringen Sie mit den Einkäufen wieder nach Hause. Damit möchten wir Ihnen die Eigenständigkeit in Ihrem eigenen Zuhause erleichtern. Der Bissendorfer Fahrdienst ist für die Nutzer der gesamten Gemeinde völlig kostenfrei! \nAnmeldung unter\nT: 05402 965 01 02 oder\nE: mobil@drk-bissendorf.de \n 
URL:https://dev.wp.drk-bissendorf.de/event/bissendorfer-fahrdienst-bissendorf-2/2023-09-25/
ORGANIZER;CN="DRK-Ortsverein Bissendorf e.V.":MAILTO:anmeldung@drk-bissendorf.de
END:VEVENT
BEGIN:VEVENT
DTSTART;TZID=Europe/Berlin:20230925T143000
DTEND;TZID=Europe/Berlin:20230925T160000
DTSTAMP:20260421T013603
CREATED:20230522T190953Z
LAST-MODIFIED:20260318T121905Z
UID:10000065-1695652200-1695657600@dev.wp.drk-bissendorf.de
SUMMARY:Demenzberatung
DESCRIPTION:In Zusammenarbeit mit der Alzheimer-Gesellschaft Melle e.V.. Richtet sich besonders an pflegende Partner\, Familie und Freunde. Aus persönlichen Erfahrungen werden Informationen zur Krankheit und den Umgang mit Erkrankten gegeben \nAnmeldung unter 05402 965 01-01 oder anmeldung@drk-bissendorf.de
URL:https://dev.wp.drk-bissendorf.de/event/demenzberatung-3/2023-09-25/
LOCATION:Dorfgemeinschaftszentrum Jeggener Knütten\, Pfingstweg 112\, Bissendorf\, 49143\, Deutschland
CATEGORIES:Beratung
ORGANIZER;CN="DRK-Ortsverein Bissendorf e.V.":MAILTO:anmeldung@drk-bissendorf.de
END:VEVENT
BEGIN:VEVENT
DTSTART;TZID=Europe/Berlin:20230920T093000
DTEND;TZID=Europe/Berlin:20230920T120000
DTSTAMP:20260421T013603
CREATED:20230522T213130Z
LAST-MODIFIED:20230522T213130Z
UID:10000023-1695202200-1695211200@dev.wp.drk-bissendorf.de
SUMMARY:Seniorenfrühstück
DESCRIPTION:Anmeldung und Fahrdienst bis zum 18.09. unter 05402 965 01-01 oder anmeldung@drk-bissendorf.de.
URL:https://dev.wp.drk-bissendorf.de/event/seniorenfruehstueck-2/
LOCATION:Dorfgemeinschaftszentrum Jeggener Knütten\, Pfingstweg 112\, Bissendorf\, 49143\, Deutschland
CATEGORIES:Seniorenfrühstück
ORGANIZER;CN="DRK-Ortsverein Bissendorf e.V.":MAILTO:anmeldung@drk-bissendorf.de
END:VEVENT
BEGIN:VEVENT
DTSTART;TZID=Europe/Berlin:20230914T150000
DTEND;TZID=Europe/Berlin:20230914T173000
DTSTAMP:20260421T013603
CREATED:20230522T182953Z
LAST-MODIFIED:20230522T191123Z
UID:10000004-1694703600-1694712600@dev.wp.drk-bissendorf.de
SUMMARY:Spielenachmittag
DESCRIPTION:
URL:https://dev.wp.drk-bissendorf.de/event/spielenachmittag-4/
LOCATION:Dorfgemeinschaftszentrum Jeggener Knütten\, Pfingstweg 112\, Bissendorf\, 49143\, Deutschland
CATEGORIES:Spielenachmittag
ORGANIZER;CN="DRK-Ortsverein Bissendorf e.V.":MAILTO:anmeldung@drk-bissendorf.de
END:VEVENT
BEGIN:VEVENT
DTSTART;TZID=Europe/Berlin:20230907T153000
DTEND;TZID=Europe/Berlin:20230907T170000
DTSTAMP:20260421T013603
CREATED:20230830T103930Z
LAST-MODIFIED:20260407T194729Z
UID:10000124-1694100600-1694106000@dev.wp.drk-bissendorf.de
SUMMARY:Medien- und Techniklotsen/innen
DESCRIPTION:Die digitale Welt wird täglich größer und verändert sich rasant. Schnell verliert man da den Überblick! Die Medien- und Techniklotsen/innen versuchen Sie zu unterstützen und möchten Ihnen Mut machen mit digitalen Medien Ihren Alltag zu erleichtern
URL:https://dev.wp.drk-bissendorf.de/event/mut-medien-und-techniklotsen-innen-bissendorf/2023-09-07/
LOCATION:Dorfgemeinschaftszentrum Jeggener Knütten\, Pfingstweg 112\, Bissendorf\, 49143\, Deutschland
CATEGORIES:Beratung,Gesundheit & Soziales
ORGANIZER;CN="DRK-Ortsverein Bissendorf e.V.":MAILTO:anmeldung@drk-bissendorf.de
END:VEVENT
BEGIN:VEVENT
DTSTART;TZID=Europe/Berlin:20230828T143000
DTEND;TZID=Europe/Berlin:20230828T160000
DTSTAMP:20260421T013603
CREATED:20230522T190953Z
LAST-MODIFIED:20260318T121905Z
UID:10000021-1693233000-1693238400@dev.wp.drk-bissendorf.de
SUMMARY:Demenzberatung
DESCRIPTION:In Zusammenarbeit mit der Alzheimer-Gesellschaft Melle e.V.. Richtet sich besonders an pflegende Partner\, Familie und Freunde. Aus persönlichen Erfahrungen werden Informationen zur Krankheit und den Umgang mit Erkrankten gegeben \nAnmeldung unter 05402 965 01-01 oder anmeldung@drk-bissendorf.de
URL:https://dev.wp.drk-bissendorf.de/event/demenzberatung-3/2023-08-28/
LOCATION:Dorfgemeinschaftszentrum Jeggener Knütten\, Pfingstweg 112\, Bissendorf\, 49143\, Deutschland
CATEGORIES:Beratung
ORGANIZER;CN="DRK-Ortsverein Bissendorf e.V.":MAILTO:anmeldung@drk-bissendorf.de
END:VEVENT
BEGIN:VEVENT
DTSTART;TZID=Europe/Berlin:20230810T150000
DTEND;TZID=Europe/Berlin:20230810T173000
DTSTAMP:20260421T013603
CREATED:20230522T182917Z
LAST-MODIFIED:20230810T160922Z
UID:10000003-1691679600-1691688600@dev.wp.drk-bissendorf.de
SUMMARY:Spielenachmittag
DESCRIPTION:
URL:https://dev.wp.drk-bissendorf.de/event/spielenachmittag-3/
LOCATION:Dorfgemeinschaftszentrum Jeggener Knütten\, Pfingstweg 112\, Bissendorf\, 49143\, Deutschland
CATEGORIES:Spielenachmittag
ORGANIZER;CN="DRK-Ortsverein Bissendorf e.V.":MAILTO:anmeldung@drk-bissendorf.de
END:VEVENT
BEGIN:VEVENT
DTSTART;TZID=Europe/Berlin:20230728T053000
DTEND;TZID=Europe/Berlin:20230728T200000
DTSTAMP:20260421T013603
CREATED:20230606T142922Z
LAST-MODIFIED:20230808T115204Z
UID:10000025-1690522200-1690574400@dev.wp.drk-bissendorf.de
SUMMARY:Tagesfahrt nach Alkmaar
DESCRIPTION:Erleben Sie diesen traditionellen Käsemarkt. Alkmaar wird auch “Klein-Amsterdam“ genannt und hat eine wunderschöne Altstadt. Vielleicht haben Sie auch Lust\, eine Grachtenrundfahrt zu machen. Alkmaar ist wirklich eine Reise wert! \nPreis (Busfahrt inkl. Eintritt) 51\,00 € \nWir haben 10 Plätze für diese Tagesreise. \nAbfahrt ca. 5:30 Uhr am Dorfgemeinschaftszentrum Jeggener Knütten
URL:https://dev.wp.drk-bissendorf.de/event/tagesfahrt-nach-alkmaar/
LOCATION:Dorfgemeinschaftszentrum Jeggener Knütten\, Pfingstweg 112\, Bissendorf\, 49143\, Deutschland
CATEGORIES:Ausflüge & Reisen
ORGANIZER;CN="DRK-Ortsverein Bissendorf e.V.":MAILTO:anmeldung@drk-bissendorf.de
END:VEVENT
BEGIN:VEVENT
DTSTART;TZID=Europe/Berlin:20230719T093000
DTEND;TZID=Europe/Berlin:20230719T120000
DTSTAMP:20260421T013603
CREATED:20230522T213020Z
LAST-MODIFIED:20230522T213020Z
UID:10000022-1689759000-1689768000@dev.wp.drk-bissendorf.de
SUMMARY:Seniorenfrühstück
DESCRIPTION:Anmeldung und Fahrdienst bis zum 17.07. unter 05402 965 01-01 oder anmeldung@drk-bissendorf.de.
URL:https://dev.wp.drk-bissendorf.de/event/seniorenfruehstueck/
LOCATION:Dorfgemeinschaftszentrum Jeggener Knütten\, Pfingstweg 112\, Bissendorf\, 49143\, Deutschland
CATEGORIES:Seniorenfrühstück
ORGANIZER;CN="DRK-Ortsverein Bissendorf e.V.":MAILTO:anmeldung@drk-bissendorf.de
END:VEVENT
BEGIN:VEVENT
DTSTART;TZID=Europe/Berlin:20230713T150000
DTEND;TZID=Europe/Berlin:20230713T173000
DTSTAMP:20260421T013603
CREATED:20230522T182812Z
LAST-MODIFIED:20230522T191123Z
UID:10000002-1689260400-1689269400@dev.wp.drk-bissendorf.de
SUMMARY:Spielenachmittag
DESCRIPTION:
URL:https://dev.wp.drk-bissendorf.de/event/spielenachmittag-2/
LOCATION:Dorfgemeinschaftszentrum Jeggener Knütten\, Pfingstweg 112\, Bissendorf\, 49143\, Deutschland
CATEGORIES:Spielenachmittag
ORGANIZER;CN="DRK-Ortsverein Bissendorf e.V.":MAILTO:anmeldung@drk-bissendorf.de
END:VEVENT
BEGIN:VEVENT
DTSTART;TZID=Europe/Berlin:20230608T150000
DTEND;TZID=Europe/Berlin:20230608T173000
DTSTAMP:20260421T013603
CREATED:20230522T181942Z
LAST-MODIFIED:20230522T191123Z
UID:10000001-1686236400-1686245400@dev.wp.drk-bissendorf.de
SUMMARY:Spielenachmittag
DESCRIPTION:
URL:https://dev.wp.drk-bissendorf.de/event/spielenachmittag/
LOCATION:Dorfgemeinschaftszentrum Jeggener Knütten\, Pfingstweg 112\, Bissendorf\, 49143\, Deutschland
CATEGORIES:Spielenachmittag
ORGANIZER;CN="DRK-Ortsverein Bissendorf e.V.":MAILTO:anmeldung@drk-bissendorf.de
END:VEVENT
BEGIN:VEVENT
DTSTART;TZID=Europe/Berlin:20230605T190000
DTEND;TZID=Europe/Berlin:20230605T203000
DTSTAMP:20260421T013603
CREATED:20230522T190044Z
LAST-MODIFIED:20260317T230026Z
UID:10000019-1685991600-1685997000@dev.wp.drk-bissendorf.de
SUMMARY:Bewegung im Alter - Stolperprophylaxe
DESCRIPTION:Ältere Menschen möchten sehr gerne lange in ihren eigenen vier Wänden leben. Dies ist ein lohnendes Ziel. Mit unserer Veranstaltungsreihe möchten wir dazu Hilfestellungen bieten. \nDieser Abend richtet sich besonders an Senioren und Seniorinnen sowie deren Angehörige. Die Zahlen alarmieren\, nirgendwo passieren mehr Unfälle als im eigenen Haushalt. Viele Verletzungen ziehen lange Krankenhaus- oder Rehabilitationsbehandlungen nach sich. Häusliche Stolperfallen für Senioren sind dabei ein besonderes Problemfeld. \nDer ca. 60 Minuten dauernde Vortrag gibt Informationen über typische Stolperfallen und Hinweise wie man über ein Dutzend dieser Stolperfallen beseitigen kann. Gleichzeitig erhalten Sie Tipps zur wichtigen Schulung ihres Gleichgewichts sowie zur Kräftigung der Beinmuskulatur. \nKontaktdaten des Referenten:\nHeiko Grube\nT: 05402 965 01 40\nE-Mail: heiko.grube@drk-bissendorf.de \nAnmeldung unter 05402 965 01-01 oder unter anmeldung@drk-bissendorf.de.
URL:https://dev.wp.drk-bissendorf.de/event/bewegung-im-alter-stolperprophylaxe/
LOCATION:Dorfgemeinschaftszentrum Jeggener Knütten\, Pfingstweg 112\, Bissendorf\, 49143\, Deutschland
CATEGORIES:Vorträge & Seminare
ORGANIZER;CN="DRK-Ortsverein Bissendorf e.V.":MAILTO:anmeldung@drk-bissendorf.de
END:VEVENT
BEGIN:VEVENT
DTSTART;TZID=Europe/Berlin:20230604T110000
DTEND;TZID=Europe/Berlin:20230604T180000
DTSTAMP:20260421T013603
CREATED:20230522T184936Z
LAST-MODIFIED:20230525T084752Z
UID:10000015-1685876400-1685901600@dev.wp.drk-bissendorf.de
SUMMARY:Tag der offenen Tür
DESCRIPTION:
URL:https://dev.wp.drk-bissendorf.de/event/tag-der-offenen-tuer/
LOCATION:Dorfgemeinschaftszentrum Jeggener Knütten\, Pfingstweg 112\, Bissendorf\, 49143\, Deutschland
CATEGORIES:Feste & Feiern
ORGANIZER;CN="DRK-Ortsverein Bissendorf e.V.":MAILTO:anmeldung@drk-bissendorf.de
END:VEVENT
END:VCALENDAR