BEGIN:VCALENDAR
VERSION:2.0
PRODID:-//DRK-Ortsverein Bissendorf e.V. - ECPv6.15.20//NONSGML v1.0//EN
CALSCALE:GREGORIAN
METHOD:PUBLISH
X-ORIGINAL-URL:https://dev.wp.drk-bissendorf.de
X-WR-CALDESC:Veranstaltungen für DRK-Ortsverein Bissendorf e.V.
REFRESH-INTERVAL;VALUE=DURATION:PT1H
X-Robots-Tag:noindex
X-PUBLISHED-TTL:PT1H
BEGIN:VTIMEZONE
TZID:Europe/Berlin
BEGIN:DAYLIGHT
TZOFFSETFROM:+0100
TZOFFSETTO:+0200
TZNAME:CEST
DTSTART:20280326T010000
END:DAYLIGHT
BEGIN:STANDARD
TZOFFSETFROM:+0200
TZOFFSETTO:+0100
TZNAME:CET
DTSTART:20281029T010000
END:STANDARD
BEGIN:DAYLIGHT
TZOFFSETFROM:+0100
TZOFFSETTO:+0200
TZNAME:CEST
DTSTART:20290325T010000
END:DAYLIGHT
BEGIN:STANDARD
TZOFFSETFROM:+0200
TZOFFSETTO:+0100
TZNAME:CET
DTSTART:20291028T010000
END:STANDARD
BEGIN:DAYLIGHT
TZOFFSETFROM:+0100
TZOFFSETTO:+0200
TZNAME:CEST
DTSTART:20300331T010000
END:DAYLIGHT
BEGIN:STANDARD
TZOFFSETFROM:+0200
TZOFFSETTO:+0100
TZNAME:CET
DTSTART:20301027T010000
END:STANDARD
BEGIN:DAYLIGHT
TZOFFSETFROM:+0100
TZOFFSETTO:+0200
TZNAME:CEST
DTSTART:20310330T010000
END:DAYLIGHT
BEGIN:STANDARD
TZOFFSETFROM:+0200
TZOFFSETTO:+0100
TZNAME:CET
DTSTART:20311026T010000
END:STANDARD
END:VTIMEZONE
BEGIN:VEVENT
DTSTART;TZID=Europe/Berlin:20291108T150000
DTEND;TZID=Europe/Berlin:20291108T173000
DTSTAMP:20260423T174422
CREATED:20230522T183036Z
LAST-MODIFIED:20240308T074535Z
UID:10001361-1888844400-1888853400@dev.wp.drk-bissendorf.de
SUMMARY:Spielenachmittag
DESCRIPTION:
URL:https://dev.wp.drk-bissendorf.de/event/spielenachmittag-5/2029-11-08/
LOCATION:Dorfgemeinschaftszentrum Jeggener Knütten\, Pfingstweg 112\, Bissendorf\, 49143\, Deutschland
CATEGORIES:Spielenachmittag
ATTACH;FMTTYPE=image/jpeg:https://dev.wp.drk-bissendorf.de/wp-content/uploads/2023/05/thomas-buchholz-0n7_eiAQZwA-unsplash-2.jpg
ORGANIZER;CN="DRK-Ortsverein Bissendorf e.V.":MAILTO:anmeldung@drk-bissendorf.de
END:VEVENT
BEGIN:VEVENT
DTSTART;TZID=Europe/Berlin:20291115T150000
DTEND;TZID=Europe/Berlin:20291115T170000
DTSTAMP:20260423T174422
CREATED:20260317T225314Z
LAST-MODIFIED:20260317T225314Z
UID:10000837-1889449200-1889456400@dev.wp.drk-bissendorf.de
SUMMARY:Boule Gruppe I
DESCRIPTION:Jeden 1. und 3. Donnerstag im Monat.
URL:https://dev.wp.drk-bissendorf.de/event/boule-gruppe-i/2029-11-15/
LOCATION:Dorfgemeinschaftszentrum Jeggener Knütten\, Pfingstweg 112\, Bissendorf\, 49143\, Deutschland
CATEGORIES:Boule
ATTACH;FMTTYPE=image/jpeg:https://dev.wp.drk-bissendorf.de/wp-content/uploads/2026/03/semevent-boule-2458585_1920.jpg
ORGANIZER;CN="DRK-Ortsverein Bissendorf e.V.":MAILTO:anmeldung@drk-bissendorf.de
END:VEVENT
BEGIN:VEVENT
DTSTART;TZID=Europe/Berlin:20291121T093000
DTEND;TZID=Europe/Berlin:20291121T120000
DTSTAMP:20260423T174422
CREATED:20260317T224546Z
LAST-MODIFIED:20260317T224546Z
UID:10000785-1889947800-1889956800@dev.wp.drk-bissendorf.de
SUMMARY:Seniorenfrühstück
DESCRIPTION:Anmeldung jeweils zwischen dem 1. und 10. des jeweiligen Monats unter anmeldung@drk-bissendorf.de oder 05402 965 01-01.
URL:https://dev.wp.drk-bissendorf.de/event/seniorenfruehstueck-4/2029-11-21/
LOCATION:Dorfgemeinschaftszentrum Jeggener Knütten\, Pfingstweg 112\, Bissendorf\, 49143\, Deutschland
ORGANIZER;CN="DRK-Ortsverein Bissendorf e.V.":MAILTO:anmeldung@drk-bissendorf.de
END:VEVENT
BEGIN:VEVENT
DTSTART;TZID=Europe/Berlin:20291122T150000
DTEND;TZID=Europe/Berlin:20291122T170000
DTSTAMP:20260423T174422
CREATED:20260317T225519Z
LAST-MODIFIED:20260317T225641Z
UID:10001077-1890054000-1890061200@dev.wp.drk-bissendorf.de
SUMMARY:Boule Gruppe II
DESCRIPTION:Jeden 4. Donnerstag im Monat.
URL:https://dev.wp.drk-bissendorf.de/event/boule-gruppe-ii/2029-11-22/
LOCATION:Dorfgemeinschaftszentrum Jeggener Knütten\, Pfingstweg 112\, Bissendorf\, 49143\, Deutschland
CATEGORIES:Boule
ATTACH;FMTTYPE=image/jpeg:https://dev.wp.drk-bissendorf.de/wp-content/uploads/2026/03/semevent-boule-2458585_1920.jpg
ORGANIZER;CN="DRK-Ortsverein Bissendorf e.V.":MAILTO:anmeldung@drk-bissendorf.de
END:VEVENT
BEGIN:VEVENT
DTSTART;TZID=Europe/Berlin:20291126T143000
DTEND;TZID=Europe/Berlin:20291126T160000
DTSTAMP:20260423T174422
CREATED:20230522T190953Z
LAST-MODIFIED:20260318T121905Z
UID:10001579-1890397800-1890403200@dev.wp.drk-bissendorf.de
SUMMARY:Demenzberatung
DESCRIPTION:In Zusammenarbeit mit der Alzheimer-Gesellschaft Melle e.V.. Richtet sich besonders an pflegende Partner\, Familie und Freunde. Aus persönlichen Erfahrungen werden Informationen zur Krankheit und den Umgang mit Erkrankten gegeben \nAnmeldung unter 05402 965 01-01 oder anmeldung@drk-bissendorf.de
URL:https://dev.wp.drk-bissendorf.de/event/demenzberatung-3/2029-11-26/
LOCATION:Dorfgemeinschaftszentrum Jeggener Knütten\, Pfingstweg 112\, Bissendorf\, 49143\, Deutschland
CATEGORIES:Beratung
ORGANIZER;CN="DRK-Ortsverein Bissendorf e.V.":MAILTO:anmeldung@drk-bissendorf.de
END:VEVENT
BEGIN:VEVENT
DTSTART;TZID=Europe/Berlin:20291206T150000
DTEND;TZID=Europe/Berlin:20291206T170000
DTSTAMP:20260423T174422
CREATED:20260317T225350Z
LAST-MODIFIED:20260317T225350Z
UID:10000957-1891263600-1891270800@dev.wp.drk-bissendorf.de
SUMMARY:Boule Gruppe I
DESCRIPTION:Jeden 1. und 3. Donnerstag im Monat.
URL:https://dev.wp.drk-bissendorf.de/event/boule-gruppe-i-2/2029-12-06/
LOCATION:Dorfgemeinschaftszentrum Jeggener Knütten\, Pfingstweg 112\, Bissendorf\, 49143\, Deutschland
CATEGORIES:Boule
ATTACH;FMTTYPE=image/jpeg:https://dev.wp.drk-bissendorf.de/wp-content/uploads/2026/03/semevent-boule-2458585_1920.jpg
ORGANIZER;CN="DRK-Ortsverein Bissendorf e.V.":MAILTO:anmeldung@drk-bissendorf.de
END:VEVENT
BEGIN:VEVENT
DTSTART;TZID=Europe/Berlin:20291206T153000
DTEND;TZID=Europe/Berlin:20291206T170000
DTSTAMP:20260423T174422
CREATED:20230830T103930Z
LAST-MODIFIED:20260407T194729Z
UID:10001634-1891265400-1891270800@dev.wp.drk-bissendorf.de
SUMMARY:Medien- und Techniklotsen/innen
DESCRIPTION:Die digitale Welt wird täglich größer und verändert sich rasant. Schnell verliert man da den Überblick! Die Medien- und Techniklotsen/innen versuchen Sie zu unterstützen und möchten Ihnen Mut machen mit digitalen Medien Ihren Alltag zu erleichtern
URL:https://dev.wp.drk-bissendorf.de/event/mut-medien-und-techniklotsen-innen-bissendorf/2029-12-06/
LOCATION:Dorfgemeinschaftszentrum Jeggener Knütten\, Pfingstweg 112\, Bissendorf\, 49143\, Deutschland
CATEGORIES:Beratung,Gesundheit & Soziales
ORGANIZER;CN="DRK-Ortsverein Bissendorf e.V.":MAILTO:anmeldung@drk-bissendorf.de
END:VEVENT
BEGIN:VEVENT
DTSTART;TZID=Europe/Berlin:20291213T150000
DTEND;TZID=Europe/Berlin:20291213T173000
DTSTAMP:20260423T174422
CREATED:20230522T183036Z
LAST-MODIFIED:20240308T074535Z
UID:10001362-1891868400-1891877400@dev.wp.drk-bissendorf.de
SUMMARY:Spielenachmittag
DESCRIPTION:
URL:https://dev.wp.drk-bissendorf.de/event/spielenachmittag-5/2029-12-13/
LOCATION:Dorfgemeinschaftszentrum Jeggener Knütten\, Pfingstweg 112\, Bissendorf\, 49143\, Deutschland
CATEGORIES:Spielenachmittag
ATTACH;FMTTYPE=image/jpeg:https://dev.wp.drk-bissendorf.de/wp-content/uploads/2023/05/thomas-buchholz-0n7_eiAQZwA-unsplash-2.jpg
ORGANIZER;CN="DRK-Ortsverein Bissendorf e.V.":MAILTO:anmeldung@drk-bissendorf.de
END:VEVENT
BEGIN:VEVENT
DTSTART;TZID=Europe/Berlin:20291220T150000
DTEND;TZID=Europe/Berlin:20291220T170000
DTSTAMP:20260423T174422
CREATED:20260317T225314Z
LAST-MODIFIED:20260317T225314Z
UID:10000838-1892473200-1892480400@dev.wp.drk-bissendorf.de
SUMMARY:Boule Gruppe I
DESCRIPTION:Jeden 1. und 3. Donnerstag im Monat.
URL:https://dev.wp.drk-bissendorf.de/event/boule-gruppe-i/2029-12-20/
LOCATION:Dorfgemeinschaftszentrum Jeggener Knütten\, Pfingstweg 112\, Bissendorf\, 49143\, Deutschland
CATEGORIES:Boule
ATTACH;FMTTYPE=image/jpeg:https://dev.wp.drk-bissendorf.de/wp-content/uploads/2026/03/semevent-boule-2458585_1920.jpg
ORGANIZER;CN="DRK-Ortsverein Bissendorf e.V.":MAILTO:anmeldung@drk-bissendorf.de
END:VEVENT
BEGIN:VEVENT
DTSTART;TZID=Europe/Berlin:20291227T150000
DTEND;TZID=Europe/Berlin:20291227T170000
DTSTAMP:20260423T174422
CREATED:20260317T225519Z
LAST-MODIFIED:20260317T225641Z
UID:10001078-1893078000-1893085200@dev.wp.drk-bissendorf.de
SUMMARY:Boule Gruppe II
DESCRIPTION:Jeden 4. Donnerstag im Monat.
URL:https://dev.wp.drk-bissendorf.de/event/boule-gruppe-ii/2029-12-27/
LOCATION:Dorfgemeinschaftszentrum Jeggener Knütten\, Pfingstweg 112\, Bissendorf\, 49143\, Deutschland
CATEGORIES:Boule
ATTACH;FMTTYPE=image/jpeg:https://dev.wp.drk-bissendorf.de/wp-content/uploads/2026/03/semevent-boule-2458585_1920.jpg
ORGANIZER;CN="DRK-Ortsverein Bissendorf e.V.":MAILTO:anmeldung@drk-bissendorf.de
END:VEVENT
BEGIN:VEVENT
DTSTART;TZID=Europe/Berlin:20291231T143000
DTEND;TZID=Europe/Berlin:20291231T160000
DTSTAMP:20260423T174422
CREATED:20230522T190953Z
LAST-MODIFIED:20260318T121905Z
UID:10001580-1893421800-1893427200@dev.wp.drk-bissendorf.de
SUMMARY:Demenzberatung
DESCRIPTION:In Zusammenarbeit mit der Alzheimer-Gesellschaft Melle e.V.. Richtet sich besonders an pflegende Partner\, Familie und Freunde. Aus persönlichen Erfahrungen werden Informationen zur Krankheit und den Umgang mit Erkrankten gegeben \nAnmeldung unter 05402 965 01-01 oder anmeldung@drk-bissendorf.de
URL:https://dev.wp.drk-bissendorf.de/event/demenzberatung-3/2029-12-31/
LOCATION:Dorfgemeinschaftszentrum Jeggener Knütten\, Pfingstweg 112\, Bissendorf\, 49143\, Deutschland
CATEGORIES:Beratung
ORGANIZER;CN="DRK-Ortsverein Bissendorf e.V.":MAILTO:anmeldung@drk-bissendorf.de
END:VEVENT
BEGIN:VEVENT
DTSTART;TZID=Europe/Berlin:20300103T150000
DTEND;TZID=Europe/Berlin:20300103T170000
DTSTAMP:20260423T174422
CREATED:20260317T225350Z
LAST-MODIFIED:20260317T225350Z
UID:10000958-1893682800-1893690000@dev.wp.drk-bissendorf.de
SUMMARY:Boule Gruppe I
DESCRIPTION:Jeden 1. und 3. Donnerstag im Monat.
URL:https://dev.wp.drk-bissendorf.de/event/boule-gruppe-i-2/2030-01-03/
LOCATION:Dorfgemeinschaftszentrum Jeggener Knütten\, Pfingstweg 112\, Bissendorf\, 49143\, Deutschland
CATEGORIES:Boule
ATTACH;FMTTYPE=image/jpeg:https://dev.wp.drk-bissendorf.de/wp-content/uploads/2026/03/semevent-boule-2458585_1920.jpg
ORGANIZER;CN="DRK-Ortsverein Bissendorf e.V.":MAILTO:anmeldung@drk-bissendorf.de
END:VEVENT
BEGIN:VEVENT
DTSTART;TZID=Europe/Berlin:20300103T153000
DTEND;TZID=Europe/Berlin:20300103T170000
DTSTAMP:20260423T174422
CREATED:20230830T103930Z
LAST-MODIFIED:20260407T194729Z
UID:10001635-1893684600-1893690000@dev.wp.drk-bissendorf.de
SUMMARY:Medien- und Techniklotsen/innen
DESCRIPTION:Die digitale Welt wird täglich größer und verändert sich rasant. Schnell verliert man da den Überblick! Die Medien- und Techniklotsen/innen versuchen Sie zu unterstützen und möchten Ihnen Mut machen mit digitalen Medien Ihren Alltag zu erleichtern
URL:https://dev.wp.drk-bissendorf.de/event/mut-medien-und-techniklotsen-innen-bissendorf/2030-01-03/
LOCATION:Dorfgemeinschaftszentrum Jeggener Knütten\, Pfingstweg 112\, Bissendorf\, 49143\, Deutschland
CATEGORIES:Beratung,Gesundheit & Soziales
ORGANIZER;CN="DRK-Ortsverein Bissendorf e.V.":MAILTO:anmeldung@drk-bissendorf.de
END:VEVENT
BEGIN:VEVENT
DTSTART;TZID=Europe/Berlin:20300110T150000
DTEND;TZID=Europe/Berlin:20300110T173000
DTSTAMP:20260423T174422
CREATED:20230522T183036Z
LAST-MODIFIED:20240308T074535Z
UID:10001363-1894287600-1894296600@dev.wp.drk-bissendorf.de
SUMMARY:Spielenachmittag
DESCRIPTION:
URL:https://dev.wp.drk-bissendorf.de/event/spielenachmittag-5/2030-01-10/
LOCATION:Dorfgemeinschaftszentrum Jeggener Knütten\, Pfingstweg 112\, Bissendorf\, 49143\, Deutschland
CATEGORIES:Spielenachmittag
ATTACH;FMTTYPE=image/jpeg:https://dev.wp.drk-bissendorf.de/wp-content/uploads/2023/05/thomas-buchholz-0n7_eiAQZwA-unsplash-2.jpg
ORGANIZER;CN="DRK-Ortsverein Bissendorf e.V.":MAILTO:anmeldung@drk-bissendorf.de
END:VEVENT
BEGIN:VEVENT
DTSTART;TZID=Europe/Berlin:20300116T093000
DTEND;TZID=Europe/Berlin:20300116T120000
DTSTAMP:20260423T174422
CREATED:20260317T224546Z
LAST-MODIFIED:20260317T224546Z
UID:10000786-1894786200-1894795200@dev.wp.drk-bissendorf.de
SUMMARY:Seniorenfrühstück
DESCRIPTION:Anmeldung jeweils zwischen dem 1. und 10. des jeweiligen Monats unter anmeldung@drk-bissendorf.de oder 05402 965 01-01.
URL:https://dev.wp.drk-bissendorf.de/event/seniorenfruehstueck-4/2030-01-16/
LOCATION:Dorfgemeinschaftszentrum Jeggener Knütten\, Pfingstweg 112\, Bissendorf\, 49143\, Deutschland
ORGANIZER;CN="DRK-Ortsverein Bissendorf e.V.":MAILTO:anmeldung@drk-bissendorf.de
END:VEVENT
BEGIN:VEVENT
DTSTART;TZID=Europe/Berlin:20300117T150000
DTEND;TZID=Europe/Berlin:20300117T170000
DTSTAMP:20260423T174422
CREATED:20260317T225314Z
LAST-MODIFIED:20260317T225314Z
UID:10000839-1894892400-1894899600@dev.wp.drk-bissendorf.de
SUMMARY:Boule Gruppe I
DESCRIPTION:Jeden 1. und 3. Donnerstag im Monat.
URL:https://dev.wp.drk-bissendorf.de/event/boule-gruppe-i/2030-01-17/
LOCATION:Dorfgemeinschaftszentrum Jeggener Knütten\, Pfingstweg 112\, Bissendorf\, 49143\, Deutschland
CATEGORIES:Boule
ATTACH;FMTTYPE=image/jpeg:https://dev.wp.drk-bissendorf.de/wp-content/uploads/2026/03/semevent-boule-2458585_1920.jpg
ORGANIZER;CN="DRK-Ortsverein Bissendorf e.V.":MAILTO:anmeldung@drk-bissendorf.de
END:VEVENT
BEGIN:VEVENT
DTSTART;TZID=Europe/Berlin:20300124T150000
DTEND;TZID=Europe/Berlin:20300124T170000
DTSTAMP:20260423T174422
CREATED:20260317T225519Z
LAST-MODIFIED:20260317T225641Z
UID:10001079-1895497200-1895504400@dev.wp.drk-bissendorf.de
SUMMARY:Boule Gruppe II
DESCRIPTION:Jeden 4. Donnerstag im Monat.
URL:https://dev.wp.drk-bissendorf.de/event/boule-gruppe-ii/2030-01-24/
LOCATION:Dorfgemeinschaftszentrum Jeggener Knütten\, Pfingstweg 112\, Bissendorf\, 49143\, Deutschland
CATEGORIES:Boule
ATTACH;FMTTYPE=image/jpeg:https://dev.wp.drk-bissendorf.de/wp-content/uploads/2026/03/semevent-boule-2458585_1920.jpg
ORGANIZER;CN="DRK-Ortsverein Bissendorf e.V.":MAILTO:anmeldung@drk-bissendorf.de
END:VEVENT
BEGIN:VEVENT
DTSTART;TZID=Europe/Berlin:20300128T143000
DTEND;TZID=Europe/Berlin:20300128T160000
DTSTAMP:20260423T174422
CREATED:20230522T190953Z
LAST-MODIFIED:20260318T121905Z
UID:10001581-1895841000-1895846400@dev.wp.drk-bissendorf.de
SUMMARY:Demenzberatung
DESCRIPTION:In Zusammenarbeit mit der Alzheimer-Gesellschaft Melle e.V.. Richtet sich besonders an pflegende Partner\, Familie und Freunde. Aus persönlichen Erfahrungen werden Informationen zur Krankheit und den Umgang mit Erkrankten gegeben \nAnmeldung unter 05402 965 01-01 oder anmeldung@drk-bissendorf.de
URL:https://dev.wp.drk-bissendorf.de/event/demenzberatung-3/2030-01-28/
LOCATION:Dorfgemeinschaftszentrum Jeggener Knütten\, Pfingstweg 112\, Bissendorf\, 49143\, Deutschland
CATEGORIES:Beratung
ORGANIZER;CN="DRK-Ortsverein Bissendorf e.V.":MAILTO:anmeldung@drk-bissendorf.de
END:VEVENT
BEGIN:VEVENT
DTSTART;TZID=Europe/Berlin:20300207T150000
DTEND;TZID=Europe/Berlin:20300207T170000
DTSTAMP:20260423T174422
CREATED:20260317T225350Z
LAST-MODIFIED:20260317T225350Z
UID:10000959-1896706800-1896714000@dev.wp.drk-bissendorf.de
SUMMARY:Boule Gruppe I
DESCRIPTION:Jeden 1. und 3. Donnerstag im Monat.
URL:https://dev.wp.drk-bissendorf.de/event/boule-gruppe-i-2/2030-02-07/
LOCATION:Dorfgemeinschaftszentrum Jeggener Knütten\, Pfingstweg 112\, Bissendorf\, 49143\, Deutschland
CATEGORIES:Boule
ATTACH;FMTTYPE=image/jpeg:https://dev.wp.drk-bissendorf.de/wp-content/uploads/2026/03/semevent-boule-2458585_1920.jpg
ORGANIZER;CN="DRK-Ortsverein Bissendorf e.V.":MAILTO:anmeldung@drk-bissendorf.de
END:VEVENT
BEGIN:VEVENT
DTSTART;TZID=Europe/Berlin:20300207T153000
DTEND;TZID=Europe/Berlin:20300207T170000
DTSTAMP:20260423T174422
CREATED:20230830T103930Z
LAST-MODIFIED:20260407T194729Z
UID:10001636-1896708600-1896714000@dev.wp.drk-bissendorf.de
SUMMARY:Medien- und Techniklotsen/innen
DESCRIPTION:Die digitale Welt wird täglich größer und verändert sich rasant. Schnell verliert man da den Überblick! Die Medien- und Techniklotsen/innen versuchen Sie zu unterstützen und möchten Ihnen Mut machen mit digitalen Medien Ihren Alltag zu erleichtern
URL:https://dev.wp.drk-bissendorf.de/event/mut-medien-und-techniklotsen-innen-bissendorf/2030-02-07/
LOCATION:Dorfgemeinschaftszentrum Jeggener Knütten\, Pfingstweg 112\, Bissendorf\, 49143\, Deutschland
CATEGORIES:Beratung,Gesundheit & Soziales
ORGANIZER;CN="DRK-Ortsverein Bissendorf e.V.":MAILTO:anmeldung@drk-bissendorf.de
END:VEVENT
BEGIN:VEVENT
DTSTART;TZID=Europe/Berlin:20300214T150000
DTEND;TZID=Europe/Berlin:20300214T173000
DTSTAMP:20260423T174422
CREATED:20230522T183036Z
LAST-MODIFIED:20240308T074535Z
UID:10001364-1897311600-1897320600@dev.wp.drk-bissendorf.de
SUMMARY:Spielenachmittag
DESCRIPTION:
URL:https://dev.wp.drk-bissendorf.de/event/spielenachmittag-5/2030-02-14/
LOCATION:Dorfgemeinschaftszentrum Jeggener Knütten\, Pfingstweg 112\, Bissendorf\, 49143\, Deutschland
CATEGORIES:Spielenachmittag
ATTACH;FMTTYPE=image/jpeg:https://dev.wp.drk-bissendorf.de/wp-content/uploads/2023/05/thomas-buchholz-0n7_eiAQZwA-unsplash-2.jpg
ORGANIZER;CN="DRK-Ortsverein Bissendorf e.V.":MAILTO:anmeldung@drk-bissendorf.de
END:VEVENT
BEGIN:VEVENT
DTSTART;TZID=Europe/Berlin:20300221T150000
DTEND;TZID=Europe/Berlin:20300221T170000
DTSTAMP:20260423T174423
CREATED:20260317T225314Z
LAST-MODIFIED:20260317T225314Z
UID:10000840-1897916400-1897923600@dev.wp.drk-bissendorf.de
SUMMARY:Boule Gruppe I
DESCRIPTION:Jeden 1. und 3. Donnerstag im Monat.
URL:https://dev.wp.drk-bissendorf.de/event/boule-gruppe-i/2030-02-21/
LOCATION:Dorfgemeinschaftszentrum Jeggener Knütten\, Pfingstweg 112\, Bissendorf\, 49143\, Deutschland
CATEGORIES:Boule
ATTACH;FMTTYPE=image/jpeg:https://dev.wp.drk-bissendorf.de/wp-content/uploads/2026/03/semevent-boule-2458585_1920.jpg
ORGANIZER;CN="DRK-Ortsverein Bissendorf e.V.":MAILTO:anmeldung@drk-bissendorf.de
END:VEVENT
BEGIN:VEVENT
DTSTART;TZID=Europe/Berlin:20300225T143000
DTEND;TZID=Europe/Berlin:20300225T160000
DTSTAMP:20260423T174423
CREATED:20230522T190953Z
LAST-MODIFIED:20260318T121905Z
UID:10001582-1898260200-1898265600@dev.wp.drk-bissendorf.de
SUMMARY:Demenzberatung
DESCRIPTION:In Zusammenarbeit mit der Alzheimer-Gesellschaft Melle e.V.. Richtet sich besonders an pflegende Partner\, Familie und Freunde. Aus persönlichen Erfahrungen werden Informationen zur Krankheit und den Umgang mit Erkrankten gegeben \nAnmeldung unter 05402 965 01-01 oder anmeldung@drk-bissendorf.de
URL:https://dev.wp.drk-bissendorf.de/event/demenzberatung-3/2030-02-25/
LOCATION:Dorfgemeinschaftszentrum Jeggener Knütten\, Pfingstweg 112\, Bissendorf\, 49143\, Deutschland
CATEGORIES:Beratung
ORGANIZER;CN="DRK-Ortsverein Bissendorf e.V.":MAILTO:anmeldung@drk-bissendorf.de
END:VEVENT
BEGIN:VEVENT
DTSTART;TZID=Europe/Berlin:20300228T150000
DTEND;TZID=Europe/Berlin:20300228T170000
DTSTAMP:20260423T174423
CREATED:20260317T225519Z
LAST-MODIFIED:20260317T225641Z
UID:10001080-1898521200-1898528400@dev.wp.drk-bissendorf.de
SUMMARY:Boule Gruppe II
DESCRIPTION:Jeden 4. Donnerstag im Monat.
URL:https://dev.wp.drk-bissendorf.de/event/boule-gruppe-ii/2030-02-28/
LOCATION:Dorfgemeinschaftszentrum Jeggener Knütten\, Pfingstweg 112\, Bissendorf\, 49143\, Deutschland
CATEGORIES:Boule
ATTACH;FMTTYPE=image/jpeg:https://dev.wp.drk-bissendorf.de/wp-content/uploads/2026/03/semevent-boule-2458585_1920.jpg
ORGANIZER;CN="DRK-Ortsverein Bissendorf e.V.":MAILTO:anmeldung@drk-bissendorf.de
END:VEVENT
BEGIN:VEVENT
DTSTART;TZID=Europe/Berlin:20300307T150000
DTEND;TZID=Europe/Berlin:20300307T170000
DTSTAMP:20260423T174423
CREATED:20260317T225350Z
LAST-MODIFIED:20260317T225350Z
UID:10000960-1899126000-1899133200@dev.wp.drk-bissendorf.de
SUMMARY:Boule Gruppe I
DESCRIPTION:Jeden 1. und 3. Donnerstag im Monat.
URL:https://dev.wp.drk-bissendorf.de/event/boule-gruppe-i-2/2030-03-07/
LOCATION:Dorfgemeinschaftszentrum Jeggener Knütten\, Pfingstweg 112\, Bissendorf\, 49143\, Deutschland
CATEGORIES:Boule
ATTACH;FMTTYPE=image/jpeg:https://dev.wp.drk-bissendorf.de/wp-content/uploads/2026/03/semevent-boule-2458585_1920.jpg
ORGANIZER;CN="DRK-Ortsverein Bissendorf e.V.":MAILTO:anmeldung@drk-bissendorf.de
END:VEVENT
BEGIN:VEVENT
DTSTART;TZID=Europe/Berlin:20300307T153000
DTEND;TZID=Europe/Berlin:20300307T170000
DTSTAMP:20260423T174423
CREATED:20230830T103930Z
LAST-MODIFIED:20260407T194729Z
UID:10001637-1899127800-1899133200@dev.wp.drk-bissendorf.de
SUMMARY:Medien- und Techniklotsen/innen
DESCRIPTION:Die digitale Welt wird täglich größer und verändert sich rasant. Schnell verliert man da den Überblick! Die Medien- und Techniklotsen/innen versuchen Sie zu unterstützen und möchten Ihnen Mut machen mit digitalen Medien Ihren Alltag zu erleichtern
URL:https://dev.wp.drk-bissendorf.de/event/mut-medien-und-techniklotsen-innen-bissendorf/2030-03-07/
LOCATION:Dorfgemeinschaftszentrum Jeggener Knütten\, Pfingstweg 112\, Bissendorf\, 49143\, Deutschland
CATEGORIES:Beratung,Gesundheit & Soziales
ORGANIZER;CN="DRK-Ortsverein Bissendorf e.V.":MAILTO:anmeldung@drk-bissendorf.de
END:VEVENT
BEGIN:VEVENT
DTSTART;TZID=Europe/Berlin:20300314T150000
DTEND;TZID=Europe/Berlin:20300314T173000
DTSTAMP:20260423T174423
CREATED:20230522T183036Z
LAST-MODIFIED:20240308T074535Z
UID:10001365-1899730800-1899739800@dev.wp.drk-bissendorf.de
SUMMARY:Spielenachmittag
DESCRIPTION:
URL:https://dev.wp.drk-bissendorf.de/event/spielenachmittag-5/2030-03-14/
LOCATION:Dorfgemeinschaftszentrum Jeggener Knütten\, Pfingstweg 112\, Bissendorf\, 49143\, Deutschland
CATEGORIES:Spielenachmittag
ATTACH;FMTTYPE=image/jpeg:https://dev.wp.drk-bissendorf.de/wp-content/uploads/2023/05/thomas-buchholz-0n7_eiAQZwA-unsplash-2.jpg
ORGANIZER;CN="DRK-Ortsverein Bissendorf e.V.":MAILTO:anmeldung@drk-bissendorf.de
END:VEVENT
BEGIN:VEVENT
DTSTART;TZID=Europe/Berlin:20300320T093000
DTEND;TZID=Europe/Berlin:20300320T120000
DTSTAMP:20260423T174423
CREATED:20260317T224546Z
LAST-MODIFIED:20260317T224546Z
UID:10000787-1900229400-1900238400@dev.wp.drk-bissendorf.de
SUMMARY:Seniorenfrühstück
DESCRIPTION:Anmeldung jeweils zwischen dem 1. und 10. des jeweiligen Monats unter anmeldung@drk-bissendorf.de oder 05402 965 01-01.
URL:https://dev.wp.drk-bissendorf.de/event/seniorenfruehstueck-4/2030-03-20/
LOCATION:Dorfgemeinschaftszentrum Jeggener Knütten\, Pfingstweg 112\, Bissendorf\, 49143\, Deutschland
ORGANIZER;CN="DRK-Ortsverein Bissendorf e.V.":MAILTO:anmeldung@drk-bissendorf.de
END:VEVENT
BEGIN:VEVENT
DTSTART;TZID=Europe/Berlin:20300321T150000
DTEND;TZID=Europe/Berlin:20300321T170000
DTSTAMP:20260423T174423
CREATED:20260317T225314Z
LAST-MODIFIED:20260317T225314Z
UID:10000841-1900335600-1900342800@dev.wp.drk-bissendorf.de
SUMMARY:Boule Gruppe I
DESCRIPTION:Jeden 1. und 3. Donnerstag im Monat.
URL:https://dev.wp.drk-bissendorf.de/event/boule-gruppe-i/2030-03-21/
LOCATION:Dorfgemeinschaftszentrum Jeggener Knütten\, Pfingstweg 112\, Bissendorf\, 49143\, Deutschland
CATEGORIES:Boule
ATTACH;FMTTYPE=image/jpeg:https://dev.wp.drk-bissendorf.de/wp-content/uploads/2026/03/semevent-boule-2458585_1920.jpg
ORGANIZER;CN="DRK-Ortsverein Bissendorf e.V.":MAILTO:anmeldung@drk-bissendorf.de
END:VEVENT
BEGIN:VEVENT
DTSTART;TZID=Europe/Berlin:20300325T143000
DTEND;TZID=Europe/Berlin:20300325T160000
DTSTAMP:20260423T174423
CREATED:20230522T190953Z
LAST-MODIFIED:20260318T121905Z
UID:10001583-1900679400-1900684800@dev.wp.drk-bissendorf.de
SUMMARY:Demenzberatung
DESCRIPTION:In Zusammenarbeit mit der Alzheimer-Gesellschaft Melle e.V.. Richtet sich besonders an pflegende Partner\, Familie und Freunde. Aus persönlichen Erfahrungen werden Informationen zur Krankheit und den Umgang mit Erkrankten gegeben \nAnmeldung unter 05402 965 01-01 oder anmeldung@drk-bissendorf.de
URL:https://dev.wp.drk-bissendorf.de/event/demenzberatung-3/2030-03-25/
LOCATION:Dorfgemeinschaftszentrum Jeggener Knütten\, Pfingstweg 112\, Bissendorf\, 49143\, Deutschland
CATEGORIES:Beratung
ORGANIZER;CN="DRK-Ortsverein Bissendorf e.V.":MAILTO:anmeldung@drk-bissendorf.de
END:VEVENT
END:VCALENDAR