BEGIN:VCALENDAR
VERSION:2.0
PRODID:-//DRK-Ortsverein Bissendorf e.V. - ECPv6.15.20//NONSGML v1.0//EN
CALSCALE:GREGORIAN
METHOD:PUBLISH
X-ORIGINAL-URL:https://dev.wp.drk-bissendorf.de
X-WR-CALDESC:Veranstaltungen für DRK-Ortsverein Bissendorf e.V.
REFRESH-INTERVAL;VALUE=DURATION:PT1H
X-Robots-Tag:noindex
X-PUBLISHED-TTL:PT1H
BEGIN:VTIMEZONE
TZID:Europe/Berlin
BEGIN:DAYLIGHT
TZOFFSETFROM:+0100
TZOFFSETTO:+0200
TZNAME:CEST
DTSTART:20230326T010000
END:DAYLIGHT
BEGIN:STANDARD
TZOFFSETFROM:+0200
TZOFFSETTO:+0100
TZNAME:CET
DTSTART:20231029T010000
END:STANDARD
BEGIN:DAYLIGHT
TZOFFSETFROM:+0100
TZOFFSETTO:+0200
TZNAME:CEST
DTSTART:20240331T010000
END:DAYLIGHT
BEGIN:STANDARD
TZOFFSETFROM:+0200
TZOFFSETTO:+0100
TZNAME:CET
DTSTART:20241027T010000
END:STANDARD
BEGIN:DAYLIGHT
TZOFFSETFROM:+0100
TZOFFSETTO:+0200
TZNAME:CEST
DTSTART:20250330T010000
END:DAYLIGHT
BEGIN:STANDARD
TZOFFSETFROM:+0200
TZOFFSETTO:+0100
TZNAME:CET
DTSTART:20251026T010000
END:STANDARD
END:VTIMEZONE
BEGIN:VEVENT
DTSTART;TZID=Europe/Berlin:20241114T150000
DTEND;TZID=Europe/Berlin:20241114T173000
DTSTAMP:20260420T185922
CREATED:20230522T183036Z
LAST-MODIFIED:20240308T074535Z
UID:10000267-1731596400-1731605400@dev.wp.drk-bissendorf.de
SUMMARY:Spielenachmittag
DESCRIPTION:
URL:https://dev.wp.drk-bissendorf.de/event/spielenachmittag-5/2024-11-14/
LOCATION:Dorfgemeinschaftszentrum Jeggener Knütten\, Pfingstweg 112\, Bissendorf\, 49143\, Deutschland
CATEGORIES:Spielenachmittag
ATTACH;FMTTYPE=image/jpeg:https://dev.wp.drk-bissendorf.de/wp-content/uploads/2023/05/thomas-buchholz-0n7_eiAQZwA-unsplash-2.jpg
ORGANIZER;CN="DRK-Ortsverein Bissendorf e.V.":MAILTO:anmeldung@drk-bissendorf.de
END:VEVENT
BEGIN:VEVENT
DTSTART;TZID=Europe/Berlin:20241107T153000
DTEND;TZID=Europe/Berlin:20241107T170000
DTSTAMP:20260420T185922
CREATED:20230830T103930Z
LAST-MODIFIED:20260407T194729Z
UID:10000206-1730993400-1730998800@dev.wp.drk-bissendorf.de
SUMMARY:Medien- und Techniklotsen/innen
DESCRIPTION:Die digitale Welt wird täglich größer und verändert sich rasant. Schnell verliert man da den Überblick! Die Medien- und Techniklotsen/innen versuchen Sie zu unterstützen und möchten Ihnen Mut machen mit digitalen Medien Ihren Alltag zu erleichtern
URL:https://dev.wp.drk-bissendorf.de/event/mut-medien-und-techniklotsen-innen-bissendorf/2024-11-07/
LOCATION:Dorfgemeinschaftszentrum Jeggener Knütten\, Pfingstweg 112\, Bissendorf\, 49143\, Deutschland
CATEGORIES:Beratung,Gesundheit & Soziales
ORGANIZER;CN="DRK-Ortsverein Bissendorf e.V.":MAILTO:anmeldung@drk-bissendorf.de
END:VEVENT
BEGIN:VEVENT
DTSTART;TZID=Europe/Berlin:20241103T110000
DTEND;TZID=Europe/Berlin:20241103T150000
DTSTAMP:20260420T185922
CREATED:20231114T113434Z
LAST-MODIFIED:20231114T113434Z
UID:10000190-1730631600-1730646000@dev.wp.drk-bissendorf.de
SUMMARY:Blutspende
DESCRIPTION:Terminreservierung ist optional möglich unter https://drk-blutspende.de
URL:https://dev.wp.drk-bissendorf.de/event/blutspende-17/
LOCATION:Dorfgemeinschaftszentrum Jeggener Knütten\, Pfingstweg 112\, Bissendorf\, 49143\, Deutschland
CATEGORIES:Blutspende
ORGANIZER;CN="DRK-Blutspendedienst NSTOB gGmbH":MAILTO:info@bsd-nstob.de
END:VEVENT
BEGIN:VEVENT
DTSTART;TZID=Europe/Berlin:20241028T143000
DTEND;TZID=Europe/Berlin:20241028T160000
DTSTAMP:20260420T185922
CREATED:20230522T190953Z
LAST-MODIFIED:20260318T121905Z
UID:10000077-1730125800-1730131200@dev.wp.drk-bissendorf.de
SUMMARY:Demenzberatung
DESCRIPTION:In Zusammenarbeit mit der Alzheimer-Gesellschaft Melle e.V.. Richtet sich besonders an pflegende Partner\, Familie und Freunde. Aus persönlichen Erfahrungen werden Informationen zur Krankheit und den Umgang mit Erkrankten gegeben \nAnmeldung unter 05402 965 01-01 oder anmeldung@drk-bissendorf.de
URL:https://dev.wp.drk-bissendorf.de/event/demenzberatung-3/2024-10-28/
LOCATION:Dorfgemeinschaftszentrum Jeggener Knütten\, Pfingstweg 112\, Bissendorf\, 49143\, Deutschland
CATEGORIES:Beratung
ORGANIZER;CN="DRK-Ortsverein Bissendorf e.V.":MAILTO:anmeldung@drk-bissendorf.de
END:VEVENT
BEGIN:VEVENT
DTSTART;TZID=Europe/Berlin:20241010T150000
DTEND;TZID=Europe/Berlin:20241010T173000
DTSTAMP:20260420T185922
CREATED:20230522T183036Z
LAST-MODIFIED:20240308T074535Z
UID:10000266-1728572400-1728581400@dev.wp.drk-bissendorf.de
SUMMARY:Spielenachmittag
DESCRIPTION:
URL:https://dev.wp.drk-bissendorf.de/event/spielenachmittag-5/2024-10-10/
LOCATION:Dorfgemeinschaftszentrum Jeggener Knütten\, Pfingstweg 112\, Bissendorf\, 49143\, Deutschland
CATEGORIES:Spielenachmittag
ATTACH;FMTTYPE=image/jpeg:https://dev.wp.drk-bissendorf.de/wp-content/uploads/2023/05/thomas-buchholz-0n7_eiAQZwA-unsplash-2.jpg
ORGANIZER;CN="DRK-Ortsverein Bissendorf e.V.":MAILTO:anmeldung@drk-bissendorf.de
END:VEVENT
BEGIN:VEVENT
DTSTART;TZID=Europe/Berlin:20241002T160000
DTEND;TZID=Europe/Berlin:20241002T200000
DTSTAMP:20260420T185922
CREATED:20231114T113324Z
LAST-MODIFIED:20231114T113324Z
UID:10000189-1727884800-1727899200@dev.wp.drk-bissendorf.de
SUMMARY:Blutspende
DESCRIPTION:Terminreservierung ist optional möglich unter https://drk-blutspende.de
URL:https://dev.wp.drk-bissendorf.de/event/blutspende-16/
LOCATION:Dorfgemeinschaftszentrum Jeggener Knütten\, Pfingstweg 112\, Bissendorf\, 49143\, Deutschland
CATEGORIES:Blutspende
ORGANIZER;CN="DRK-Blutspendedienst NSTOB gGmbH":MAILTO:info@bsd-nstob.de
END:VEVENT
BEGIN:VEVENT
DTSTART;TZID=Europe/Berlin:20240930T143000
DTEND;TZID=Europe/Berlin:20240930T160000
DTSTAMP:20260420T185922
CREATED:20230522T190953Z
LAST-MODIFIED:20260318T121905Z
UID:10000076-1727706600-1727712000@dev.wp.drk-bissendorf.de
SUMMARY:Demenzberatung
DESCRIPTION:In Zusammenarbeit mit der Alzheimer-Gesellschaft Melle e.V.. Richtet sich besonders an pflegende Partner\, Familie und Freunde. Aus persönlichen Erfahrungen werden Informationen zur Krankheit und den Umgang mit Erkrankten gegeben \nAnmeldung unter 05402 965 01-01 oder anmeldung@drk-bissendorf.de
URL:https://dev.wp.drk-bissendorf.de/event/demenzberatung-3/2024-09-30/
LOCATION:Dorfgemeinschaftszentrum Jeggener Knütten\, Pfingstweg 112\, Bissendorf\, 49143\, Deutschland
CATEGORIES:Beratung
ORGANIZER;CN="DRK-Ortsverein Bissendorf e.V.":MAILTO:anmeldung@drk-bissendorf.de
END:VEVENT
BEGIN:VEVENT
DTSTART;TZID=Europe/Berlin:20240918T093000
DTEND;TZID=Europe/Berlin:20240918T120000
DTSTAMP:20260420T185922
CREATED:20230522T213253Z
LAST-MODIFIED:20231114T104804Z
UID:10000178-1726651800-1726660800@dev.wp.drk-bissendorf.de
SUMMARY:Seniorenfrühstück
DESCRIPTION:Anmeldung und Fahrdienst bis 2 Tage vorher (Montag) unter 05402 965 01-01 oder anmeldung@drk-bissendorf.de.
URL:https://dev.wp.drk-bissendorf.de/event/seniorenfruehstueck-3/2024-09-18/
LOCATION:Dorfgemeinschaftszentrum Jeggener Knütten\, Pfingstweg 112\, Bissendorf\, 49143\, Deutschland
CATEGORIES:Seniorenfrühstück
ORGANIZER;CN="DRK-Ortsverein Bissendorf e.V.":MAILTO:anmeldung@drk-bissendorf.de
END:VEVENT
BEGIN:VEVENT
DTSTART;TZID=Europe/Berlin:20240912T150000
DTEND;TZID=Europe/Berlin:20240912T173000
DTSTAMP:20260420T185922
CREATED:20230522T183036Z
LAST-MODIFIED:20240308T074535Z
UID:10000265-1726153200-1726162200@dev.wp.drk-bissendorf.de
SUMMARY:Spielenachmittag
DESCRIPTION:
URL:https://dev.wp.drk-bissendorf.de/event/spielenachmittag-5/2024-09-12/
LOCATION:Dorfgemeinschaftszentrum Jeggener Knütten\, Pfingstweg 112\, Bissendorf\, 49143\, Deutschland
CATEGORIES:Spielenachmittag
ATTACH;FMTTYPE=image/jpeg:https://dev.wp.drk-bissendorf.de/wp-content/uploads/2023/05/thomas-buchholz-0n7_eiAQZwA-unsplash-2.jpg
ORGANIZER;CN="DRK-Ortsverein Bissendorf e.V.":MAILTO:anmeldung@drk-bissendorf.de
END:VEVENT
BEGIN:VEVENT
DTSTART;TZID=Europe/Berlin:20240905T153000
DTEND;TZID=Europe/Berlin:20240905T170000
DTSTAMP:20260420T185922
CREATED:20230830T103930Z
LAST-MODIFIED:20260407T194729Z
UID:10000204-1725550200-1725555600@dev.wp.drk-bissendorf.de
SUMMARY:Medien- und Techniklotsen/innen
DESCRIPTION:Die digitale Welt wird täglich größer und verändert sich rasant. Schnell verliert man da den Überblick! Die Medien- und Techniklotsen/innen versuchen Sie zu unterstützen und möchten Ihnen Mut machen mit digitalen Medien Ihren Alltag zu erleichtern
URL:https://dev.wp.drk-bissendorf.de/event/mut-medien-und-techniklotsen-innen-bissendorf/2024-09-05/
LOCATION:Dorfgemeinschaftszentrum Jeggener Knütten\, Pfingstweg 112\, Bissendorf\, 49143\, Deutschland
CATEGORIES:Beratung,Gesundheit & Soziales
ORGANIZER;CN="DRK-Ortsverein Bissendorf e.V.":MAILTO:anmeldung@drk-bissendorf.de
END:VEVENT
BEGIN:VEVENT
DTSTART;TZID=Europe/Berlin:20240902T160000
DTEND;TZID=Europe/Berlin:20240902T200000
DTSTAMP:20260420T185922
CREATED:20231114T113225Z
LAST-MODIFIED:20231114T113225Z
UID:10000188-1725292800-1725307200@dev.wp.drk-bissendorf.de
SUMMARY:Blutspende
DESCRIPTION:Terminreservierung ist optional möglich unter https://drk-blutspende.de
URL:https://dev.wp.drk-bissendorf.de/event/blutspende-15/
LOCATION:Dorfgemeinschaftszentrum Jeggener Knütten\, Pfingstweg 112\, Bissendorf\, 49143\, Deutschland
CATEGORIES:Blutspende
ORGANIZER;CN="DRK-Blutspendedienst NSTOB gGmbH":MAILTO:info@bsd-nstob.de
END:VEVENT
BEGIN:VEVENT
DTSTART;TZID=Europe/Berlin:20240826T143000
DTEND;TZID=Europe/Berlin:20240826T160000
DTSTAMP:20260420T185922
CREATED:20230522T190953Z
LAST-MODIFIED:20260318T121905Z
UID:10000075-1724682600-1724688000@dev.wp.drk-bissendorf.de
SUMMARY:Demenzberatung
DESCRIPTION:In Zusammenarbeit mit der Alzheimer-Gesellschaft Melle e.V.. Richtet sich besonders an pflegende Partner\, Familie und Freunde. Aus persönlichen Erfahrungen werden Informationen zur Krankheit und den Umgang mit Erkrankten gegeben \nAnmeldung unter 05402 965 01-01 oder anmeldung@drk-bissendorf.de
URL:https://dev.wp.drk-bissendorf.de/event/demenzberatung-3/2024-08-26/
LOCATION:Dorfgemeinschaftszentrum Jeggener Knütten\, Pfingstweg 112\, Bissendorf\, 49143\, Deutschland
CATEGORIES:Beratung
ORGANIZER;CN="DRK-Ortsverein Bissendorf e.V.":MAILTO:anmeldung@drk-bissendorf.de
END:VEVENT
BEGIN:VEVENT
DTSTART;TZID=Europe/Berlin:20240808T150000
DTEND;TZID=Europe/Berlin:20240808T173000
DTSTAMP:20260420T185922
CREATED:20230522T183036Z
LAST-MODIFIED:20240308T074535Z
UID:10000264-1723129200-1723138200@dev.wp.drk-bissendorf.de
SUMMARY:Spielenachmittag
DESCRIPTION:
URL:https://dev.wp.drk-bissendorf.de/event/spielenachmittag-5/2024-08-08/
LOCATION:Dorfgemeinschaftszentrum Jeggener Knütten\, Pfingstweg 112\, Bissendorf\, 49143\, Deutschland
CATEGORIES:Spielenachmittag
ATTACH;FMTTYPE=image/jpeg:https://dev.wp.drk-bissendorf.de/wp-content/uploads/2023/05/thomas-buchholz-0n7_eiAQZwA-unsplash-2.jpg
ORGANIZER;CN="DRK-Ortsverein Bissendorf e.V.":MAILTO:anmeldung@drk-bissendorf.de
END:VEVENT
BEGIN:VEVENT
DTSTART;TZID=Europe/Berlin:20240807T160000
DTEND;TZID=Europe/Berlin:20240807T200000
DTSTAMP:20260420T185922
CREATED:20231114T113121Z
LAST-MODIFIED:20231114T113121Z
UID:10000187-1723046400-1723060800@dev.wp.drk-bissendorf.de
SUMMARY:Blutspende
DESCRIPTION:Terminreservierung ist optional möglich unter https://drk-blutspende.de
URL:https://dev.wp.drk-bissendorf.de/event/blutspende-14/
LOCATION:Dorfgemeinschaftszentrum Jeggener Knütten\, Pfingstweg 112\, Bissendorf\, 49143\, Deutschland
CATEGORIES:Blutspende
ORGANIZER;CN="DRK-Blutspendedienst NSTOB gGmbH":MAILTO:info@bsd-nstob.de
END:VEVENT
BEGIN:VEVENT
DTSTART;TZID=Europe/Berlin:20240801T153000
DTEND;TZID=Europe/Berlin:20240801T170000
DTSTAMP:20260420T185922
CREATED:20230830T103930Z
LAST-MODIFIED:20260407T194729Z
UID:10000203-1722526200-1722531600@dev.wp.drk-bissendorf.de
SUMMARY:Medien- und Techniklotsen/innen
DESCRIPTION:Die digitale Welt wird täglich größer und verändert sich rasant. Schnell verliert man da den Überblick! Die Medien- und Techniklotsen/innen versuchen Sie zu unterstützen und möchten Ihnen Mut machen mit digitalen Medien Ihren Alltag zu erleichtern
URL:https://dev.wp.drk-bissendorf.de/event/mut-medien-und-techniklotsen-innen-bissendorf/2024-08-01/
LOCATION:Dorfgemeinschaftszentrum Jeggener Knütten\, Pfingstweg 112\, Bissendorf\, 49143\, Deutschland
CATEGORIES:Beratung,Gesundheit & Soziales
ORGANIZER;CN="DRK-Ortsverein Bissendorf e.V.":MAILTO:anmeldung@drk-bissendorf.de
END:VEVENT
BEGIN:VEVENT
DTSTART;TZID=Europe/Berlin:20240729T143000
DTEND;TZID=Europe/Berlin:20240729T160000
DTSTAMP:20260420T185922
CREATED:20230522T190953Z
LAST-MODIFIED:20260318T121905Z
UID:10000074-1722263400-1722268800@dev.wp.drk-bissendorf.de
SUMMARY:Demenzberatung
DESCRIPTION:In Zusammenarbeit mit der Alzheimer-Gesellschaft Melle e.V.. Richtet sich besonders an pflegende Partner\, Familie und Freunde. Aus persönlichen Erfahrungen werden Informationen zur Krankheit und den Umgang mit Erkrankten gegeben \nAnmeldung unter 05402 965 01-01 oder anmeldung@drk-bissendorf.de
URL:https://dev.wp.drk-bissendorf.de/event/demenzberatung-3/2024-07-29/
LOCATION:Dorfgemeinschaftszentrum Jeggener Knütten\, Pfingstweg 112\, Bissendorf\, 49143\, Deutschland
CATEGORIES:Beratung
ORGANIZER;CN="DRK-Ortsverein Bissendorf e.V.":MAILTO:anmeldung@drk-bissendorf.de
END:VEVENT
BEGIN:VEVENT
DTSTART;TZID=Europe/Berlin:20240717T093000
DTEND;TZID=Europe/Berlin:20240717T120000
DTSTAMP:20260420T185922
CREATED:20230522T213253Z
LAST-MODIFIED:20231114T104804Z
UID:10000177-1721208600-1721217600@dev.wp.drk-bissendorf.de
SUMMARY:Seniorenfrühstück
DESCRIPTION:Anmeldung und Fahrdienst bis 2 Tage vorher (Montag) unter 05402 965 01-01 oder anmeldung@drk-bissendorf.de.
URL:https://dev.wp.drk-bissendorf.de/event/seniorenfruehstueck-3/2024-07-17/
LOCATION:Dorfgemeinschaftszentrum Jeggener Knütten\, Pfingstweg 112\, Bissendorf\, 49143\, Deutschland
CATEGORIES:Seniorenfrühstück
ORGANIZER;CN="DRK-Ortsverein Bissendorf e.V.":MAILTO:anmeldung@drk-bissendorf.de
END:VEVENT
BEGIN:VEVENT
DTSTART;TZID=Europe/Berlin:20240711T150000
DTEND;TZID=Europe/Berlin:20240711T173000
DTSTAMP:20260420T185922
CREATED:20230522T183036Z
LAST-MODIFIED:20240308T074535Z
UID:10000263-1720710000-1720719000@dev.wp.drk-bissendorf.de
SUMMARY:Spielenachmittag
DESCRIPTION:
URL:https://dev.wp.drk-bissendorf.de/event/spielenachmittag-5/2024-07-11/
LOCATION:Dorfgemeinschaftszentrum Jeggener Knütten\, Pfingstweg 112\, Bissendorf\, 49143\, Deutschland
CATEGORIES:Spielenachmittag
ATTACH;FMTTYPE=image/jpeg:https://dev.wp.drk-bissendorf.de/wp-content/uploads/2023/05/thomas-buchholz-0n7_eiAQZwA-unsplash-2.jpg
ORGANIZER;CN="DRK-Ortsverein Bissendorf e.V.":MAILTO:anmeldung@drk-bissendorf.de
END:VEVENT
BEGIN:VEVENT
DTSTART;TZID=Europe/Berlin:20240704T153000
DTEND;TZID=Europe/Berlin:20240704T170000
DTSTAMP:20260420T185922
CREATED:20230830T103930Z
LAST-MODIFIED:20260407T194729Z
UID:10000202-1720107000-1720112400@dev.wp.drk-bissendorf.de
SUMMARY:Medien- und Techniklotsen/innen
DESCRIPTION:Die digitale Welt wird täglich größer und verändert sich rasant. Schnell verliert man da den Überblick! Die Medien- und Techniklotsen/innen versuchen Sie zu unterstützen und möchten Ihnen Mut machen mit digitalen Medien Ihren Alltag zu erleichtern
URL:https://dev.wp.drk-bissendorf.de/event/mut-medien-und-techniklotsen-innen-bissendorf/2024-07-04/
LOCATION:Dorfgemeinschaftszentrum Jeggener Knütten\, Pfingstweg 112\, Bissendorf\, 49143\, Deutschland
CATEGORIES:Beratung,Gesundheit & Soziales
ORGANIZER;CN="DRK-Ortsverein Bissendorf e.V.":MAILTO:anmeldung@drk-bissendorf.de
END:VEVENT
BEGIN:VEVENT
DTSTART;TZID=Europe/Berlin:20240701T160000
DTEND;TZID=Europe/Berlin:20240701T200000
DTSTAMP:20260420T185922
CREATED:20231114T112949Z
LAST-MODIFIED:20231114T112949Z
UID:10000186-1719849600-1719864000@dev.wp.drk-bissendorf.de
SUMMARY:Blutspende
DESCRIPTION:Terminreservierung ist optional möglich unter https://drk-blutspende.de
URL:https://dev.wp.drk-bissendorf.de/event/blutspende-13/
LOCATION:Dorfgemeinschaftszentrum Jeggener Knütten\, Pfingstweg 112\, Bissendorf\, 49143\, Deutschland
CATEGORIES:Blutspende
ORGANIZER;CN="DRK-Blutspendedienst NSTOB gGmbH":MAILTO:info@bsd-nstob.de
END:VEVENT
BEGIN:VEVENT
DTSTART;TZID=Europe/Berlin:20240624T143000
DTEND;TZID=Europe/Berlin:20240624T160000
DTSTAMP:20260420T185922
CREATED:20230522T190953Z
LAST-MODIFIED:20260318T121905Z
UID:10000073-1719239400-1719244800@dev.wp.drk-bissendorf.de
SUMMARY:Demenzberatung
DESCRIPTION:In Zusammenarbeit mit der Alzheimer-Gesellschaft Melle e.V.. Richtet sich besonders an pflegende Partner\, Familie und Freunde. Aus persönlichen Erfahrungen werden Informationen zur Krankheit und den Umgang mit Erkrankten gegeben \nAnmeldung unter 05402 965 01-01 oder anmeldung@drk-bissendorf.de
URL:https://dev.wp.drk-bissendorf.de/event/demenzberatung-3/2024-06-24/
LOCATION:Dorfgemeinschaftszentrum Jeggener Knütten\, Pfingstweg 112\, Bissendorf\, 49143\, Deutschland
CATEGORIES:Beratung
ORGANIZER;CN="DRK-Ortsverein Bissendorf e.V.":MAILTO:anmeldung@drk-bissendorf.de
END:VEVENT
BEGIN:VEVENT
DTSTART;TZID=Europe/Berlin:20240613T150000
DTEND;TZID=Europe/Berlin:20240613T173000
DTSTAMP:20260420T185922
CREATED:20230522T183036Z
LAST-MODIFIED:20240308T074535Z
UID:10000262-1718290800-1718299800@dev.wp.drk-bissendorf.de
SUMMARY:Spielenachmittag
DESCRIPTION:
URL:https://dev.wp.drk-bissendorf.de/event/spielenachmittag-5/2024-06-13/
LOCATION:Dorfgemeinschaftszentrum Jeggener Knütten\, Pfingstweg 112\, Bissendorf\, 49143\, Deutschland
CATEGORIES:Spielenachmittag
ATTACH;FMTTYPE=image/jpeg:https://dev.wp.drk-bissendorf.de/wp-content/uploads/2023/05/thomas-buchholz-0n7_eiAQZwA-unsplash-2.jpg
ORGANIZER;CN="DRK-Ortsverein Bissendorf e.V.":MAILTO:anmeldung@drk-bissendorf.de
END:VEVENT
BEGIN:VEVENT
DTSTART;TZID=Europe/Berlin:20240606T153000
DTEND;TZID=Europe/Berlin:20240606T170000
DTSTAMP:20260420T185922
CREATED:20230830T103930Z
LAST-MODIFIED:20260407T194729Z
UID:10000201-1717687800-1717693200@dev.wp.drk-bissendorf.de
SUMMARY:Medien- und Techniklotsen/innen
DESCRIPTION:Die digitale Welt wird täglich größer und verändert sich rasant. Schnell verliert man da den Überblick! Die Medien- und Techniklotsen/innen versuchen Sie zu unterstützen und möchten Ihnen Mut machen mit digitalen Medien Ihren Alltag zu erleichtern
URL:https://dev.wp.drk-bissendorf.de/event/mut-medien-und-techniklotsen-innen-bissendorf/2024-06-06/
LOCATION:Dorfgemeinschaftszentrum Jeggener Knütten\, Pfingstweg 112\, Bissendorf\, 49143\, Deutschland
CATEGORIES:Beratung,Gesundheit & Soziales
ORGANIZER;CN="DRK-Ortsverein Bissendorf e.V.":MAILTO:anmeldung@drk-bissendorf.de
END:VEVENT
BEGIN:VEVENT
DTSTART;TZID=Europe/Berlin:20240605T160000
DTEND;TZID=Europe/Berlin:20240605T200000
DTSTAMP:20260420T185922
CREATED:20231114T112819Z
LAST-MODIFIED:20231114T112819Z
UID:10000185-1717603200-1717617600@dev.wp.drk-bissendorf.de
SUMMARY:Blutspende
DESCRIPTION:Terminreservierung ist optional möglich unter https://drk-blutspende.de
URL:https://dev.wp.drk-bissendorf.de/event/blutspende-12/
LOCATION:Dorfgemeinschaftszentrum Jeggener Knütten\, Pfingstweg 112\, Bissendorf\, 49143\, Deutschland
CATEGORIES:Blutspende
ORGANIZER;CN="DRK-Blutspendedienst NSTOB gGmbH":MAILTO:info@bsd-nstob.de
END:VEVENT
BEGIN:VEVENT
DTSTART;TZID=Europe/Berlin:20240527T143000
DTEND;TZID=Europe/Berlin:20240527T160000
DTSTAMP:20260420T185922
CREATED:20230522T190953Z
LAST-MODIFIED:20260318T121905Z
UID:10000072-1716820200-1716825600@dev.wp.drk-bissendorf.de
SUMMARY:Demenzberatung
DESCRIPTION:In Zusammenarbeit mit der Alzheimer-Gesellschaft Melle e.V.. Richtet sich besonders an pflegende Partner\, Familie und Freunde. Aus persönlichen Erfahrungen werden Informationen zur Krankheit und den Umgang mit Erkrankten gegeben \nAnmeldung unter 05402 965 01-01 oder anmeldung@drk-bissendorf.de
URL:https://dev.wp.drk-bissendorf.de/event/demenzberatung-3/2024-05-27/
LOCATION:Dorfgemeinschaftszentrum Jeggener Knütten\, Pfingstweg 112\, Bissendorf\, 49143\, Deutschland
CATEGORIES:Beratung
ORGANIZER;CN="DRK-Ortsverein Bissendorf e.V.":MAILTO:anmeldung@drk-bissendorf.de
END:VEVENT
BEGIN:VEVENT
DTSTART;TZID=Europe/Berlin:20240515T093000
DTEND;TZID=Europe/Berlin:20240515T120000
DTSTAMP:20260420T185922
CREATED:20230522T213253Z
LAST-MODIFIED:20231114T104804Z
UID:10000176-1715765400-1715774400@dev.wp.drk-bissendorf.de
SUMMARY:Seniorenfrühstück
DESCRIPTION:Anmeldung und Fahrdienst bis 2 Tage vorher (Montag) unter 05402 965 01-01 oder anmeldung@drk-bissendorf.de.
URL:https://dev.wp.drk-bissendorf.de/event/seniorenfruehstueck-3/2024-05-15/
LOCATION:Dorfgemeinschaftszentrum Jeggener Knütten\, Pfingstweg 112\, Bissendorf\, 49143\, Deutschland
CATEGORIES:Seniorenfrühstück
ORGANIZER;CN="DRK-Ortsverein Bissendorf e.V.":MAILTO:anmeldung@drk-bissendorf.de
END:VEVENT
BEGIN:VEVENT
DTSTART;TZID=Europe/Berlin:20240506T160000
DTEND;TZID=Europe/Berlin:20240506T200000
DTSTAMP:20260420T185922
CREATED:20231114T112709Z
LAST-MODIFIED:20231114T112709Z
UID:10000184-1715011200-1715025600@dev.wp.drk-bissendorf.de
SUMMARY:Blutspende
DESCRIPTION:Terminreservierung ist optional möglich unter https://drk-blutspende.de
URL:https://dev.wp.drk-bissendorf.de/event/blutspende-11/
LOCATION:Dorfgemeinschaftszentrum Jeggener Knütten\, Pfingstweg 112\, Bissendorf\, 49143\, Deutschland
CATEGORIES:Blutspende
ORGANIZER;CN="DRK-Blutspendedienst NSTOB gGmbH":MAILTO:info@bsd-nstob.de
END:VEVENT
BEGIN:VEVENT
DTSTART;TZID=Europe/Berlin:20240502T153000
DTEND;TZID=Europe/Berlin:20240502T170000
DTSTAMP:20260420T185922
CREATED:20230830T103930Z
LAST-MODIFIED:20260407T194729Z
UID:10000200-1714663800-1714669200@dev.wp.drk-bissendorf.de
SUMMARY:Medien- und Techniklotsen/innen
DESCRIPTION:Die digitale Welt wird täglich größer und verändert sich rasant. Schnell verliert man da den Überblick! Die Medien- und Techniklotsen/innen versuchen Sie zu unterstützen und möchten Ihnen Mut machen mit digitalen Medien Ihren Alltag zu erleichtern
URL:https://dev.wp.drk-bissendorf.de/event/mut-medien-und-techniklotsen-innen-bissendorf/2024-05-02/
LOCATION:Dorfgemeinschaftszentrum Jeggener Knütten\, Pfingstweg 112\, Bissendorf\, 49143\, Deutschland
CATEGORIES:Beratung,Gesundheit & Soziales
ORGANIZER;CN="DRK-Ortsverein Bissendorf e.V.":MAILTO:anmeldung@drk-bissendorf.de
END:VEVENT
BEGIN:VEVENT
DTSTART;TZID=Europe/Berlin:20240429T143000
DTEND;TZID=Europe/Berlin:20240429T160000
DTSTAMP:20260420T185922
CREATED:20230522T190953Z
LAST-MODIFIED:20260318T121905Z
UID:10000071-1714401000-1714406400@dev.wp.drk-bissendorf.de
SUMMARY:Demenzberatung
DESCRIPTION:In Zusammenarbeit mit der Alzheimer-Gesellschaft Melle e.V.. Richtet sich besonders an pflegende Partner\, Familie und Freunde. Aus persönlichen Erfahrungen werden Informationen zur Krankheit und den Umgang mit Erkrankten gegeben \nAnmeldung unter 05402 965 01-01 oder anmeldung@drk-bissendorf.de
URL:https://dev.wp.drk-bissendorf.de/event/demenzberatung-3/2024-04-29/
LOCATION:Dorfgemeinschaftszentrum Jeggener Knütten\, Pfingstweg 112\, Bissendorf\, 49143\, Deutschland
CATEGORIES:Beratung
ORGANIZER;CN="DRK-Ortsverein Bissendorf e.V.":MAILTO:anmeldung@drk-bissendorf.de
END:VEVENT
BEGIN:VEVENT
DTSTART;TZID=Europe/Berlin:20240411T150000
DTEND;TZID=Europe/Berlin:20240411T173000
DTSTAMP:20260420T185922
CREATED:20230522T183036Z
LAST-MODIFIED:20240308T074535Z
UID:10000260-1712847600-1712856600@dev.wp.drk-bissendorf.de
SUMMARY:Spielenachmittag
DESCRIPTION:
URL:https://dev.wp.drk-bissendorf.de/event/spielenachmittag-5/2024-04-11/
LOCATION:Dorfgemeinschaftszentrum Jeggener Knütten\, Pfingstweg 112\, Bissendorf\, 49143\, Deutschland
CATEGORIES:Spielenachmittag
ATTACH;FMTTYPE=image/jpeg:https://dev.wp.drk-bissendorf.de/wp-content/uploads/2023/05/thomas-buchholz-0n7_eiAQZwA-unsplash-2.jpg
ORGANIZER;CN="DRK-Ortsverein Bissendorf e.V.":MAILTO:anmeldung@drk-bissendorf.de
END:VEVENT
END:VCALENDAR