BEGIN:VCALENDAR
VERSION:2.0
PRODID:-//DRK-Ortsverein Bissendorf e.V. - ECPv6.15.20//NONSGML v1.0//EN
CALSCALE:GREGORIAN
METHOD:PUBLISH
X-ORIGINAL-URL:https://dev.wp.drk-bissendorf.de
X-WR-CALDESC:Veranstaltungen für DRK-Ortsverein Bissendorf e.V.
REFRESH-INTERVAL;VALUE=DURATION:PT1H
X-Robots-Tag:noindex
X-PUBLISHED-TTL:PT1H
BEGIN:VTIMEZONE
TZID:Europe/Berlin
BEGIN:DAYLIGHT
TZOFFSETFROM:+0100
TZOFFSETTO:+0200
TZNAME:CEST
DTSTART:20250330T010000
END:DAYLIGHT
BEGIN:STANDARD
TZOFFSETFROM:+0200
TZOFFSETTO:+0100
TZNAME:CET
DTSTART:20251026T010000
END:STANDARD
BEGIN:DAYLIGHT
TZOFFSETFROM:+0100
TZOFFSETTO:+0200
TZNAME:CEST
DTSTART:20260329T010000
END:DAYLIGHT
BEGIN:STANDARD
TZOFFSETFROM:+0200
TZOFFSETTO:+0100
TZNAME:CET
DTSTART:20261025T010000
END:STANDARD
BEGIN:DAYLIGHT
TZOFFSETFROM:+0100
TZOFFSETTO:+0200
TZNAME:CEST
DTSTART:20270328T010000
END:DAYLIGHT
BEGIN:STANDARD
TZOFFSETFROM:+0200
TZOFFSETTO:+0100
TZNAME:CET
DTSTART:20271031T010000
END:STANDARD
BEGIN:DAYLIGHT
TZOFFSETFROM:+0100
TZOFFSETTO:+0200
TZNAME:CEST
DTSTART:20280326T010000
END:DAYLIGHT
BEGIN:STANDARD
TZOFFSETFROM:+0200
TZOFFSETTO:+0100
TZNAME:CET
DTSTART:20281029T010000
END:STANDARD
BEGIN:DAYLIGHT
TZOFFSETFROM:+0100
TZOFFSETTO:+0200
TZNAME:CEST
DTSTART:20290325T010000
END:DAYLIGHT
BEGIN:STANDARD
TZOFFSETFROM:+0200
TZOFFSETTO:+0100
TZNAME:CET
DTSTART:20291028T010000
END:STANDARD
END:VTIMEZONE
BEGIN:VEVENT
DTSTART;TZID=Europe/Berlin:20260422T100000
DTEND;TZID=Europe/Berlin:20260422T120000
DTSTAMP:20260420T110107
CREATED:20260317T222550Z
LAST-MODIFIED:20260407T193341Z
UID:10000322-1776852000-1776859200@dev.wp.drk-bissendorf.de
SUMMARY:Seniorensprechstunde in Bissendorf
DESCRIPTION:bei Heiko Grube\, Seniorenansprechpartner in der Gemeinde Bissendorf
URL:https://dev.wp.drk-bissendorf.de/event/seniorensprechstunde/2026-04-22/
LOCATION:Haus Bissendorf\, Kirchplatz 3\, Bissendorf\, 49143\, Germany
CATEGORIES:Beratung
ATTACH;FMTTYPE=image/jpeg:https://dev.wp.drk-bissendorf.de/wp-content/uploads/2026/03/resize_1596x1080.jpg
ORGANIZER;CN="DRK-Ortsverein Bissendorf e.V.":MAILTO:anmeldung@drk-bissendorf.de
END:VEVENT
BEGIN:VEVENT
DTSTART;TZID=Europe/Berlin:20260527T100000
DTEND;TZID=Europe/Berlin:20260527T120000
DTSTAMP:20260420T110107
CREATED:20260317T222550Z
LAST-MODIFIED:20260407T193341Z
UID:10000323-1779876000-1779883200@dev.wp.drk-bissendorf.de
SUMMARY:Seniorensprechstunde in Bissendorf
DESCRIPTION:bei Heiko Grube\, Seniorenansprechpartner in der Gemeinde Bissendorf
URL:https://dev.wp.drk-bissendorf.de/event/seniorensprechstunde/2026-05-27/
LOCATION:Haus Bissendorf\, Kirchplatz 3\, Bissendorf\, 49143\, Germany
CATEGORIES:Beratung
ATTACH;FMTTYPE=image/jpeg:https://dev.wp.drk-bissendorf.de/wp-content/uploads/2026/03/resize_1596x1080.jpg
ORGANIZER;CN="DRK-Ortsverein Bissendorf e.V.":MAILTO:anmeldung@drk-bissendorf.de
END:VEVENT
BEGIN:VEVENT
DTSTART;TZID=Europe/Berlin:20260624T100000
DTEND;TZID=Europe/Berlin:20260624T120000
DTSTAMP:20260420T110107
CREATED:20260317T222550Z
LAST-MODIFIED:20260407T193341Z
UID:10000324-1782295200-1782302400@dev.wp.drk-bissendorf.de
SUMMARY:Seniorensprechstunde in Bissendorf
DESCRIPTION:bei Heiko Grube\, Seniorenansprechpartner in der Gemeinde Bissendorf
URL:https://dev.wp.drk-bissendorf.de/event/seniorensprechstunde/2026-06-24/
LOCATION:Haus Bissendorf\, Kirchplatz 3\, Bissendorf\, 49143\, Germany
CATEGORIES:Beratung
ATTACH;FMTTYPE=image/jpeg:https://dev.wp.drk-bissendorf.de/wp-content/uploads/2026/03/resize_1596x1080.jpg
ORGANIZER;CN="DRK-Ortsverein Bissendorf e.V.":MAILTO:anmeldung@drk-bissendorf.de
END:VEVENT
BEGIN:VEVENT
DTSTART;TZID=Europe/Berlin:20260722T100000
DTEND;TZID=Europe/Berlin:20260722T120000
DTSTAMP:20260420T110107
CREATED:20260317T222550Z
LAST-MODIFIED:20260407T193341Z
UID:10000325-1784714400-1784721600@dev.wp.drk-bissendorf.de
SUMMARY:Seniorensprechstunde in Bissendorf
DESCRIPTION:bei Heiko Grube\, Seniorenansprechpartner in der Gemeinde Bissendorf
URL:https://dev.wp.drk-bissendorf.de/event/seniorensprechstunde/2026-07-22/
LOCATION:Haus Bissendorf\, Kirchplatz 3\, Bissendorf\, 49143\, Germany
CATEGORIES:Beratung
ATTACH;FMTTYPE=image/jpeg:https://dev.wp.drk-bissendorf.de/wp-content/uploads/2026/03/resize_1596x1080.jpg
ORGANIZER;CN="DRK-Ortsverein Bissendorf e.V.":MAILTO:anmeldung@drk-bissendorf.de
END:VEVENT
BEGIN:VEVENT
DTSTART;TZID=Europe/Berlin:20260826T100000
DTEND;TZID=Europe/Berlin:20260826T120000
DTSTAMP:20260420T110107
CREATED:20260317T222550Z
LAST-MODIFIED:20260407T193341Z
UID:10000326-1787738400-1787745600@dev.wp.drk-bissendorf.de
SUMMARY:Seniorensprechstunde in Bissendorf
DESCRIPTION:bei Heiko Grube\, Seniorenansprechpartner in der Gemeinde Bissendorf
URL:https://dev.wp.drk-bissendorf.de/event/seniorensprechstunde/2026-08-26/
LOCATION:Haus Bissendorf\, Kirchplatz 3\, Bissendorf\, 49143\, Germany
CATEGORIES:Beratung
ATTACH;FMTTYPE=image/jpeg:https://dev.wp.drk-bissendorf.de/wp-content/uploads/2026/03/resize_1596x1080.jpg
ORGANIZER;CN="DRK-Ortsverein Bissendorf e.V.":MAILTO:anmeldung@drk-bissendorf.de
END:VEVENT
BEGIN:VEVENT
DTSTART;TZID=Europe/Berlin:20260923T100000
DTEND;TZID=Europe/Berlin:20260923T120000
DTSTAMP:20260420T110107
CREATED:20260317T222550Z
LAST-MODIFIED:20260407T193341Z
UID:10000327-1790157600-1790164800@dev.wp.drk-bissendorf.de
SUMMARY:Seniorensprechstunde in Bissendorf
DESCRIPTION:bei Heiko Grube\, Seniorenansprechpartner in der Gemeinde Bissendorf
URL:https://dev.wp.drk-bissendorf.de/event/seniorensprechstunde/2026-09-23/
LOCATION:Haus Bissendorf\, Kirchplatz 3\, Bissendorf\, 49143\, Germany
CATEGORIES:Beratung
ATTACH;FMTTYPE=image/jpeg:https://dev.wp.drk-bissendorf.de/wp-content/uploads/2026/03/resize_1596x1080.jpg
ORGANIZER;CN="DRK-Ortsverein Bissendorf e.V.":MAILTO:anmeldung@drk-bissendorf.de
END:VEVENT
BEGIN:VEVENT
DTSTART;TZID=Europe/Berlin:20261028T100000
DTEND;TZID=Europe/Berlin:20261028T120000
DTSTAMP:20260420T110107
CREATED:20260317T222550Z
LAST-MODIFIED:20260407T193341Z
UID:10000328-1793181600-1793188800@dev.wp.drk-bissendorf.de
SUMMARY:Seniorensprechstunde in Bissendorf
DESCRIPTION:bei Heiko Grube\, Seniorenansprechpartner in der Gemeinde Bissendorf
URL:https://dev.wp.drk-bissendorf.de/event/seniorensprechstunde/2026-10-28/
LOCATION:Haus Bissendorf\, Kirchplatz 3\, Bissendorf\, 49143\, Germany
CATEGORIES:Beratung
ATTACH;FMTTYPE=image/jpeg:https://dev.wp.drk-bissendorf.de/wp-content/uploads/2026/03/resize_1596x1080.jpg
ORGANIZER;CN="DRK-Ortsverein Bissendorf e.V.":MAILTO:anmeldung@drk-bissendorf.de
END:VEVENT
BEGIN:VEVENT
DTSTART;TZID=Europe/Berlin:20261125T100000
DTEND;TZID=Europe/Berlin:20261125T120000
DTSTAMP:20260420T110107
CREATED:20260317T222550Z
LAST-MODIFIED:20260407T193341Z
UID:10000329-1795600800-1795608000@dev.wp.drk-bissendorf.de
SUMMARY:Seniorensprechstunde in Bissendorf
DESCRIPTION:bei Heiko Grube\, Seniorenansprechpartner in der Gemeinde Bissendorf
URL:https://dev.wp.drk-bissendorf.de/event/seniorensprechstunde/2026-11-25/
LOCATION:Haus Bissendorf\, Kirchplatz 3\, Bissendorf\, 49143\, Germany
CATEGORIES:Beratung
ATTACH;FMTTYPE=image/jpeg:https://dev.wp.drk-bissendorf.de/wp-content/uploads/2026/03/resize_1596x1080.jpg
ORGANIZER;CN="DRK-Ortsverein Bissendorf e.V.":MAILTO:anmeldung@drk-bissendorf.de
END:VEVENT
BEGIN:VEVENT
DTSTART;TZID=Europe/Berlin:20261223T100000
DTEND;TZID=Europe/Berlin:20261223T120000
DTSTAMP:20260420T110107
CREATED:20260317T222550Z
LAST-MODIFIED:20260407T193341Z
UID:10000330-1798020000-1798027200@dev.wp.drk-bissendorf.de
SUMMARY:Seniorensprechstunde in Bissendorf
DESCRIPTION:bei Heiko Grube\, Seniorenansprechpartner in der Gemeinde Bissendorf
URL:https://dev.wp.drk-bissendorf.de/event/seniorensprechstunde/2026-12-23/
LOCATION:Haus Bissendorf\, Kirchplatz 3\, Bissendorf\, 49143\, Germany
CATEGORIES:Beratung
ATTACH;FMTTYPE=image/jpeg:https://dev.wp.drk-bissendorf.de/wp-content/uploads/2026/03/resize_1596x1080.jpg
ORGANIZER;CN="DRK-Ortsverein Bissendorf e.V.":MAILTO:anmeldung@drk-bissendorf.de
END:VEVENT
BEGIN:VEVENT
DTSTART;TZID=Europe/Berlin:20270127T100000
DTEND;TZID=Europe/Berlin:20270127T120000
DTSTAMP:20260420T110107
CREATED:20260317T222550Z
LAST-MODIFIED:20260407T193341Z
UID:10000331-1801044000-1801051200@dev.wp.drk-bissendorf.de
SUMMARY:Seniorensprechstunde in Bissendorf
DESCRIPTION:bei Heiko Grube\, Seniorenansprechpartner in der Gemeinde Bissendorf
URL:https://dev.wp.drk-bissendorf.de/event/seniorensprechstunde/2027-01-27/
LOCATION:Haus Bissendorf\, Kirchplatz 3\, Bissendorf\, 49143\, Germany
CATEGORIES:Beratung
ATTACH;FMTTYPE=image/jpeg:https://dev.wp.drk-bissendorf.de/wp-content/uploads/2026/03/resize_1596x1080.jpg
ORGANIZER;CN="DRK-Ortsverein Bissendorf e.V.":MAILTO:anmeldung@drk-bissendorf.de
END:VEVENT
BEGIN:VEVENT
DTSTART;TZID=Europe/Berlin:20270224T100000
DTEND;TZID=Europe/Berlin:20270224T120000
DTSTAMP:20260420T110107
CREATED:20260317T222550Z
LAST-MODIFIED:20260407T193341Z
UID:10000332-1803463200-1803470400@dev.wp.drk-bissendorf.de
SUMMARY:Seniorensprechstunde in Bissendorf
DESCRIPTION:bei Heiko Grube\, Seniorenansprechpartner in der Gemeinde Bissendorf
URL:https://dev.wp.drk-bissendorf.de/event/seniorensprechstunde/2027-02-24/
LOCATION:Haus Bissendorf\, Kirchplatz 3\, Bissendorf\, 49143\, Germany
CATEGORIES:Beratung
ATTACH;FMTTYPE=image/jpeg:https://dev.wp.drk-bissendorf.de/wp-content/uploads/2026/03/resize_1596x1080.jpg
ORGANIZER;CN="DRK-Ortsverein Bissendorf e.V.":MAILTO:anmeldung@drk-bissendorf.de
END:VEVENT
BEGIN:VEVENT
DTSTART;TZID=Europe/Berlin:20270324T100000
DTEND;TZID=Europe/Berlin:20270324T120000
DTSTAMP:20260420T110107
CREATED:20260317T222550Z
LAST-MODIFIED:20260407T193341Z
UID:10000333-1805882400-1805889600@dev.wp.drk-bissendorf.de
SUMMARY:Seniorensprechstunde in Bissendorf
DESCRIPTION:bei Heiko Grube\, Seniorenansprechpartner in der Gemeinde Bissendorf
URL:https://dev.wp.drk-bissendorf.de/event/seniorensprechstunde/2027-03-24/
LOCATION:Haus Bissendorf\, Kirchplatz 3\, Bissendorf\, 49143\, Germany
CATEGORIES:Beratung
ATTACH;FMTTYPE=image/jpeg:https://dev.wp.drk-bissendorf.de/wp-content/uploads/2026/03/resize_1596x1080.jpg
ORGANIZER;CN="DRK-Ortsverein Bissendorf e.V.":MAILTO:anmeldung@drk-bissendorf.de
END:VEVENT
BEGIN:VEVENT
DTSTART;TZID=Europe/Berlin:20270428T100000
DTEND;TZID=Europe/Berlin:20270428T120000
DTSTAMP:20260420T110107
CREATED:20260317T222550Z
LAST-MODIFIED:20260407T193341Z
UID:10000334-1808906400-1808913600@dev.wp.drk-bissendorf.de
SUMMARY:Seniorensprechstunde in Bissendorf
DESCRIPTION:bei Heiko Grube\, Seniorenansprechpartner in der Gemeinde Bissendorf
URL:https://dev.wp.drk-bissendorf.de/event/seniorensprechstunde/2027-04-28/
LOCATION:Haus Bissendorf\, Kirchplatz 3\, Bissendorf\, 49143\, Germany
CATEGORIES:Beratung
ATTACH;FMTTYPE=image/jpeg:https://dev.wp.drk-bissendorf.de/wp-content/uploads/2026/03/resize_1596x1080.jpg
ORGANIZER;CN="DRK-Ortsverein Bissendorf e.V.":MAILTO:anmeldung@drk-bissendorf.de
END:VEVENT
BEGIN:VEVENT
DTSTART;TZID=Europe/Berlin:20270526T100000
DTEND;TZID=Europe/Berlin:20270526T120000
DTSTAMP:20260420T110107
CREATED:20260317T222550Z
LAST-MODIFIED:20260407T193341Z
UID:10000335-1811325600-1811332800@dev.wp.drk-bissendorf.de
SUMMARY:Seniorensprechstunde in Bissendorf
DESCRIPTION:bei Heiko Grube\, Seniorenansprechpartner in der Gemeinde Bissendorf
URL:https://dev.wp.drk-bissendorf.de/event/seniorensprechstunde/2027-05-26/
LOCATION:Haus Bissendorf\, Kirchplatz 3\, Bissendorf\, 49143\, Germany
CATEGORIES:Beratung
ATTACH;FMTTYPE=image/jpeg:https://dev.wp.drk-bissendorf.de/wp-content/uploads/2026/03/resize_1596x1080.jpg
ORGANIZER;CN="DRK-Ortsverein Bissendorf e.V.":MAILTO:anmeldung@drk-bissendorf.de
END:VEVENT
BEGIN:VEVENT
DTSTART;TZID=Europe/Berlin:20270623T100000
DTEND;TZID=Europe/Berlin:20270623T120000
DTSTAMP:20260420T110107
CREATED:20260317T222550Z
LAST-MODIFIED:20260407T193341Z
UID:10000336-1813744800-1813752000@dev.wp.drk-bissendorf.de
SUMMARY:Seniorensprechstunde in Bissendorf
DESCRIPTION:bei Heiko Grube\, Seniorenansprechpartner in der Gemeinde Bissendorf
URL:https://dev.wp.drk-bissendorf.de/event/seniorensprechstunde/2027-06-23/
LOCATION:Haus Bissendorf\, Kirchplatz 3\, Bissendorf\, 49143\, Germany
CATEGORIES:Beratung
ATTACH;FMTTYPE=image/jpeg:https://dev.wp.drk-bissendorf.de/wp-content/uploads/2026/03/resize_1596x1080.jpg
ORGANIZER;CN="DRK-Ortsverein Bissendorf e.V.":MAILTO:anmeldung@drk-bissendorf.de
END:VEVENT
BEGIN:VEVENT
DTSTART;TZID=Europe/Berlin:20270728T100000
DTEND;TZID=Europe/Berlin:20270728T120000
DTSTAMP:20260420T110107
CREATED:20260317T222550Z
LAST-MODIFIED:20260407T193341Z
UID:10000337-1816768800-1816776000@dev.wp.drk-bissendorf.de
SUMMARY:Seniorensprechstunde in Bissendorf
DESCRIPTION:bei Heiko Grube\, Seniorenansprechpartner in der Gemeinde Bissendorf
URL:https://dev.wp.drk-bissendorf.de/event/seniorensprechstunde/2027-07-28/
LOCATION:Haus Bissendorf\, Kirchplatz 3\, Bissendorf\, 49143\, Germany
CATEGORIES:Beratung
ATTACH;FMTTYPE=image/jpeg:https://dev.wp.drk-bissendorf.de/wp-content/uploads/2026/03/resize_1596x1080.jpg
ORGANIZER;CN="DRK-Ortsverein Bissendorf e.V.":MAILTO:anmeldung@drk-bissendorf.de
END:VEVENT
BEGIN:VEVENT
DTSTART;TZID=Europe/Berlin:20270825T100000
DTEND;TZID=Europe/Berlin:20270825T120000
DTSTAMP:20260420T110107
CREATED:20260317T222550Z
LAST-MODIFIED:20260407T193341Z
UID:10000338-1819188000-1819195200@dev.wp.drk-bissendorf.de
SUMMARY:Seniorensprechstunde in Bissendorf
DESCRIPTION:bei Heiko Grube\, Seniorenansprechpartner in der Gemeinde Bissendorf
URL:https://dev.wp.drk-bissendorf.de/event/seniorensprechstunde/2027-08-25/
LOCATION:Haus Bissendorf\, Kirchplatz 3\, Bissendorf\, 49143\, Germany
CATEGORIES:Beratung
ATTACH;FMTTYPE=image/jpeg:https://dev.wp.drk-bissendorf.de/wp-content/uploads/2026/03/resize_1596x1080.jpg
ORGANIZER;CN="DRK-Ortsverein Bissendorf e.V.":MAILTO:anmeldung@drk-bissendorf.de
END:VEVENT
BEGIN:VEVENT
DTSTART;TZID=Europe/Berlin:20270922T100000
DTEND;TZID=Europe/Berlin:20270922T120000
DTSTAMP:20260420T110107
CREATED:20260317T222550Z
LAST-MODIFIED:20260407T193341Z
UID:10000339-1821607200-1821614400@dev.wp.drk-bissendorf.de
SUMMARY:Seniorensprechstunde in Bissendorf
DESCRIPTION:bei Heiko Grube\, Seniorenansprechpartner in der Gemeinde Bissendorf
URL:https://dev.wp.drk-bissendorf.de/event/seniorensprechstunde/2027-09-22/
LOCATION:Haus Bissendorf\, Kirchplatz 3\, Bissendorf\, 49143\, Germany
CATEGORIES:Beratung
ATTACH;FMTTYPE=image/jpeg:https://dev.wp.drk-bissendorf.de/wp-content/uploads/2026/03/resize_1596x1080.jpg
ORGANIZER;CN="DRK-Ortsverein Bissendorf e.V.":MAILTO:anmeldung@drk-bissendorf.de
END:VEVENT
BEGIN:VEVENT
DTSTART;TZID=Europe/Berlin:20271027T100000
DTEND;TZID=Europe/Berlin:20271027T120000
DTSTAMP:20260420T110107
CREATED:20260317T222550Z
LAST-MODIFIED:20260407T193341Z
UID:10000340-1824631200-1824638400@dev.wp.drk-bissendorf.de
SUMMARY:Seniorensprechstunde in Bissendorf
DESCRIPTION:bei Heiko Grube\, Seniorenansprechpartner in der Gemeinde Bissendorf
URL:https://dev.wp.drk-bissendorf.de/event/seniorensprechstunde/2027-10-27/
LOCATION:Haus Bissendorf\, Kirchplatz 3\, Bissendorf\, 49143\, Germany
CATEGORIES:Beratung
ATTACH;FMTTYPE=image/jpeg:https://dev.wp.drk-bissendorf.de/wp-content/uploads/2026/03/resize_1596x1080.jpg
ORGANIZER;CN="DRK-Ortsverein Bissendorf e.V.":MAILTO:anmeldung@drk-bissendorf.de
END:VEVENT
BEGIN:VEVENT
DTSTART;TZID=Europe/Berlin:20271124T100000
DTEND;TZID=Europe/Berlin:20271124T120000
DTSTAMP:20260420T110107
CREATED:20260317T222550Z
LAST-MODIFIED:20260407T193341Z
UID:10000341-1827050400-1827057600@dev.wp.drk-bissendorf.de
SUMMARY:Seniorensprechstunde in Bissendorf
DESCRIPTION:bei Heiko Grube\, Seniorenansprechpartner in der Gemeinde Bissendorf
URL:https://dev.wp.drk-bissendorf.de/event/seniorensprechstunde/2027-11-24/
LOCATION:Haus Bissendorf\, Kirchplatz 3\, Bissendorf\, 49143\, Germany
CATEGORIES:Beratung
ATTACH;FMTTYPE=image/jpeg:https://dev.wp.drk-bissendorf.de/wp-content/uploads/2026/03/resize_1596x1080.jpg
ORGANIZER;CN="DRK-Ortsverein Bissendorf e.V.":MAILTO:anmeldung@drk-bissendorf.de
END:VEVENT
BEGIN:VEVENT
DTSTART;TZID=Europe/Berlin:20271222T100000
DTEND;TZID=Europe/Berlin:20271222T120000
DTSTAMP:20260420T110107
CREATED:20260317T222550Z
LAST-MODIFIED:20260407T193341Z
UID:10000342-1829469600-1829476800@dev.wp.drk-bissendorf.de
SUMMARY:Seniorensprechstunde in Bissendorf
DESCRIPTION:bei Heiko Grube\, Seniorenansprechpartner in der Gemeinde Bissendorf
URL:https://dev.wp.drk-bissendorf.de/event/seniorensprechstunde/2027-12-22/
LOCATION:Haus Bissendorf\, Kirchplatz 3\, Bissendorf\, 49143\, Germany
CATEGORIES:Beratung
ATTACH;FMTTYPE=image/jpeg:https://dev.wp.drk-bissendorf.de/wp-content/uploads/2026/03/resize_1596x1080.jpg
ORGANIZER;CN="DRK-Ortsverein Bissendorf e.V.":MAILTO:anmeldung@drk-bissendorf.de
END:VEVENT
BEGIN:VEVENT
DTSTART;TZID=Europe/Berlin:20280126T100000
DTEND;TZID=Europe/Berlin:20280126T120000
DTSTAMP:20260420T110107
CREATED:20260317T222550Z
LAST-MODIFIED:20260407T193341Z
UID:10000343-1832493600-1832500800@dev.wp.drk-bissendorf.de
SUMMARY:Seniorensprechstunde in Bissendorf
DESCRIPTION:bei Heiko Grube\, Seniorenansprechpartner in der Gemeinde Bissendorf
URL:https://dev.wp.drk-bissendorf.de/event/seniorensprechstunde/2028-01-26/
LOCATION:Haus Bissendorf\, Kirchplatz 3\, Bissendorf\, 49143\, Germany
CATEGORIES:Beratung
ATTACH;FMTTYPE=image/jpeg:https://dev.wp.drk-bissendorf.de/wp-content/uploads/2026/03/resize_1596x1080.jpg
ORGANIZER;CN="DRK-Ortsverein Bissendorf e.V.":MAILTO:anmeldung@drk-bissendorf.de
END:VEVENT
BEGIN:VEVENT
DTSTART;TZID=Europe/Berlin:20280223T100000
DTEND;TZID=Europe/Berlin:20280223T120000
DTSTAMP:20260420T110107
CREATED:20260317T222550Z
LAST-MODIFIED:20260407T193341Z
UID:10000344-1834912800-1834920000@dev.wp.drk-bissendorf.de
SUMMARY:Seniorensprechstunde in Bissendorf
DESCRIPTION:bei Heiko Grube\, Seniorenansprechpartner in der Gemeinde Bissendorf
URL:https://dev.wp.drk-bissendorf.de/event/seniorensprechstunde/2028-02-23/
LOCATION:Haus Bissendorf\, Kirchplatz 3\, Bissendorf\, 49143\, Germany
CATEGORIES:Beratung
ATTACH;FMTTYPE=image/jpeg:https://dev.wp.drk-bissendorf.de/wp-content/uploads/2026/03/resize_1596x1080.jpg
ORGANIZER;CN="DRK-Ortsverein Bissendorf e.V.":MAILTO:anmeldung@drk-bissendorf.de
END:VEVENT
BEGIN:VEVENT
DTSTART;TZID=Europe/Berlin:20280322T100000
DTEND;TZID=Europe/Berlin:20280322T120000
DTSTAMP:20260420T110107
CREATED:20260317T222550Z
LAST-MODIFIED:20260407T193341Z
UID:10000345-1837332000-1837339200@dev.wp.drk-bissendorf.de
SUMMARY:Seniorensprechstunde in Bissendorf
DESCRIPTION:bei Heiko Grube\, Seniorenansprechpartner in der Gemeinde Bissendorf
URL:https://dev.wp.drk-bissendorf.de/event/seniorensprechstunde/2028-03-22/
LOCATION:Haus Bissendorf\, Kirchplatz 3\, Bissendorf\, 49143\, Germany
CATEGORIES:Beratung
ATTACH;FMTTYPE=image/jpeg:https://dev.wp.drk-bissendorf.de/wp-content/uploads/2026/03/resize_1596x1080.jpg
ORGANIZER;CN="DRK-Ortsverein Bissendorf e.V.":MAILTO:anmeldung@drk-bissendorf.de
END:VEVENT
BEGIN:VEVENT
DTSTART;TZID=Europe/Berlin:20280426T100000
DTEND;TZID=Europe/Berlin:20280426T120000
DTSTAMP:20260420T110107
CREATED:20260317T222550Z
LAST-MODIFIED:20260407T193341Z
UID:10000346-1840356000-1840363200@dev.wp.drk-bissendorf.de
SUMMARY:Seniorensprechstunde in Bissendorf
DESCRIPTION:bei Heiko Grube\, Seniorenansprechpartner in der Gemeinde Bissendorf
URL:https://dev.wp.drk-bissendorf.de/event/seniorensprechstunde/2028-04-26/
LOCATION:Haus Bissendorf\, Kirchplatz 3\, Bissendorf\, 49143\, Germany
CATEGORIES:Beratung
ATTACH;FMTTYPE=image/jpeg:https://dev.wp.drk-bissendorf.de/wp-content/uploads/2026/03/resize_1596x1080.jpg
ORGANIZER;CN="DRK-Ortsverein Bissendorf e.V.":MAILTO:anmeldung@drk-bissendorf.de
END:VEVENT
BEGIN:VEVENT
DTSTART;TZID=Europe/Berlin:20280524T100000
DTEND;TZID=Europe/Berlin:20280524T120000
DTSTAMP:20260420T110107
CREATED:20260317T222550Z
LAST-MODIFIED:20260407T193341Z
UID:10000347-1842775200-1842782400@dev.wp.drk-bissendorf.de
SUMMARY:Seniorensprechstunde in Bissendorf
DESCRIPTION:bei Heiko Grube\, Seniorenansprechpartner in der Gemeinde Bissendorf
URL:https://dev.wp.drk-bissendorf.de/event/seniorensprechstunde/2028-05-24/
LOCATION:Haus Bissendorf\, Kirchplatz 3\, Bissendorf\, 49143\, Germany
CATEGORIES:Beratung
ATTACH;FMTTYPE=image/jpeg:https://dev.wp.drk-bissendorf.de/wp-content/uploads/2026/03/resize_1596x1080.jpg
ORGANIZER;CN="DRK-Ortsverein Bissendorf e.V.":MAILTO:anmeldung@drk-bissendorf.de
END:VEVENT
BEGIN:VEVENT
DTSTART;TZID=Europe/Berlin:20280628T100000
DTEND;TZID=Europe/Berlin:20280628T120000
DTSTAMP:20260420T110107
CREATED:20260317T222550Z
LAST-MODIFIED:20260407T193341Z
UID:10000348-1845799200-1845806400@dev.wp.drk-bissendorf.de
SUMMARY:Seniorensprechstunde in Bissendorf
DESCRIPTION:bei Heiko Grube\, Seniorenansprechpartner in der Gemeinde Bissendorf
URL:https://dev.wp.drk-bissendorf.de/event/seniorensprechstunde/2028-06-28/
LOCATION:Haus Bissendorf\, Kirchplatz 3\, Bissendorf\, 49143\, Germany
CATEGORIES:Beratung
ATTACH;FMTTYPE=image/jpeg:https://dev.wp.drk-bissendorf.de/wp-content/uploads/2026/03/resize_1596x1080.jpg
ORGANIZER;CN="DRK-Ortsverein Bissendorf e.V.":MAILTO:anmeldung@drk-bissendorf.de
END:VEVENT
BEGIN:VEVENT
DTSTART;TZID=Europe/Berlin:20280726T100000
DTEND;TZID=Europe/Berlin:20280726T120000
DTSTAMP:20260420T110107
CREATED:20260317T222550Z
LAST-MODIFIED:20260407T193341Z
UID:10000349-1848218400-1848225600@dev.wp.drk-bissendorf.de
SUMMARY:Seniorensprechstunde in Bissendorf
DESCRIPTION:bei Heiko Grube\, Seniorenansprechpartner in der Gemeinde Bissendorf
URL:https://dev.wp.drk-bissendorf.de/event/seniorensprechstunde/2028-07-26/
LOCATION:Haus Bissendorf\, Kirchplatz 3\, Bissendorf\, 49143\, Germany
CATEGORIES:Beratung
ATTACH;FMTTYPE=image/jpeg:https://dev.wp.drk-bissendorf.de/wp-content/uploads/2026/03/resize_1596x1080.jpg
ORGANIZER;CN="DRK-Ortsverein Bissendorf e.V.":MAILTO:anmeldung@drk-bissendorf.de
END:VEVENT
BEGIN:VEVENT
DTSTART;TZID=Europe/Berlin:20280823T100000
DTEND;TZID=Europe/Berlin:20280823T120000
DTSTAMP:20260420T110107
CREATED:20260317T222550Z
LAST-MODIFIED:20260407T193341Z
UID:10000350-1850637600-1850644800@dev.wp.drk-bissendorf.de
SUMMARY:Seniorensprechstunde in Bissendorf
DESCRIPTION:bei Heiko Grube\, Seniorenansprechpartner in der Gemeinde Bissendorf
URL:https://dev.wp.drk-bissendorf.de/event/seniorensprechstunde/2028-08-23/
LOCATION:Haus Bissendorf\, Kirchplatz 3\, Bissendorf\, 49143\, Germany
CATEGORIES:Beratung
ATTACH;FMTTYPE=image/jpeg:https://dev.wp.drk-bissendorf.de/wp-content/uploads/2026/03/resize_1596x1080.jpg
ORGANIZER;CN="DRK-Ortsverein Bissendorf e.V.":MAILTO:anmeldung@drk-bissendorf.de
END:VEVENT
BEGIN:VEVENT
DTSTART;TZID=Europe/Berlin:20280927T100000
DTEND;TZID=Europe/Berlin:20280927T120000
DTSTAMP:20260420T110107
CREATED:20260317T222550Z
LAST-MODIFIED:20260407T193341Z
UID:10000351-1853661600-1853668800@dev.wp.drk-bissendorf.de
SUMMARY:Seniorensprechstunde in Bissendorf
DESCRIPTION:bei Heiko Grube\, Seniorenansprechpartner in der Gemeinde Bissendorf
URL:https://dev.wp.drk-bissendorf.de/event/seniorensprechstunde/2028-09-27/
LOCATION:Haus Bissendorf\, Kirchplatz 3\, Bissendorf\, 49143\, Germany
CATEGORIES:Beratung
ATTACH;FMTTYPE=image/jpeg:https://dev.wp.drk-bissendorf.de/wp-content/uploads/2026/03/resize_1596x1080.jpg
ORGANIZER;CN="DRK-Ortsverein Bissendorf e.V.":MAILTO:anmeldung@drk-bissendorf.de
END:VEVENT
END:VCALENDAR